From mboxrd@z Thu Jan 1 00:00:00 1970 Return-Path: Received: from mails.dpdk.org (mails.dpdk.org [217.70.189.124]) by inbox.dpdk.org (Postfix) with ESMTP id 3EE2848AF0 for ; Wed, 12 Nov 2025 19:24:05 +0100 (CET) Received: from mails.dpdk.org (localhost [127.0.0.1]) by mails.dpdk.org (Postfix) with ESMTP id 1DCE24014F; Wed, 12 Nov 2025 19:24:05 +0100 (CET) Received: from mail-qv1-f100.google.com (mail-qv1-f100.google.com [209.85.219.100]) by mails.dpdk.org (Postfix) with ESMTP id 48C6D4014F for ; Wed, 12 Nov 2025 19:24:04 +0100 (CET) Received: by mail-qv1-f100.google.com with SMTP id 6a1803df08f44-88244d1559eso10886156d6.0 for ; Wed, 12 Nov 2025 10:24:04 -0800 (PST) DKIM-Signature: v=1; a=rsa-sha256; c=relaxed/relaxed; d=iol.unh.edu; s=unh-iol; t=1762971843; x=1763576643; darn=dpdk.org; h=references:in-reply-to:cc:to:from:subject:message-id:date:from:to :cc:subject:date:message-id:reply-to; bh=PzXvIco2wCze3yYzMSX8X+ECqvWJnlEWcuQCLGPawIs=; b=VQ91E8OZrmcwq9vITaBYoUWGfidRg2DZk4S32VZs7C4PGP4FfkS+cDjr9uDOHiU3OD t5JKzJ1qooNh7qKJNjcVRn4Y1oV/8JkYNgYu6u4g3mQSmk92ilXYipXhU8o5+MLVnwwS AFwalIxAxRTOtL2bGLzAOeP0zS1OduWvx7lyc= X-Google-DKIM-Signature: v=1; a=rsa-sha256; c=relaxed/relaxed; d=1e100.net; s=20230601; t=1762971843; x=1763576643; h=references:in-reply-to:cc:to:from:subject:message-id:date:x-gm-gg :x-gm-message-state:from:to:cc:subject:date:message-id:reply-to; bh=PzXvIco2wCze3yYzMSX8X+ECqvWJnlEWcuQCLGPawIs=; b=ofPDNoawfHB+I737U3YOK8Mau3jgn9ennnncjZ9MBrgLiWTeD2KWe04PLLkLhI/l6t 4n2XnYulO/HYS2XnXakDib9a37nAppRrriyzQUPoAriLRhkHXLBxsXfVKK/XXNErvTPm +p2YsXIwrC3gOJmjnnt+0I4xdm5otf+D2jDkvG6aRBJrPMAGlSLcctWCd+yGqrVzp+GK C3/u9XBM/RmBNHe0rko2DgUDT9FDMsefySG2mq8msPUnGM94DaoSF8kV97Y6zPO8eu7Z CKkSKV89VN8LeAEsyP8OPNecbx932gTgi50h5Kd0C5vbNZ0uBtUZGcySDdEhIYiia7dJ nSBg== X-Gm-Message-State: AOJu0YybhotrkBtyd3EW3fJPIEWkIAD//KYH863s0TVw84T3QHeyv/QV niexMMSR+laPvw9lnii8zorw/ypSV415nYrNM+muys2Srm4vtEByNRtc1n35R4dSWiSYRMyCKLs 7oNMSjWEYjWKJOOIpFSJsj7NsEzIgbgnmI0c5bq8T/kl8XT0ryjVO19Etkl4z X-Gm-Gg: ASbGncvvaAAqMZs0Qoxer9jDJQ77lMG/klk2H8de9IlE8UzXZofw8vjIODCToclEkwb myFRbSKClNJo2pI3Vffgi7BStyHa06XrIzfY0BZCxN5Z6oQuUc4DneFXU52eCG2OeXrCAeyymaY w9KKhc7riUbfsLf8CDOaZLtbi2XF39l4dm+GzKkkScHjXZCq38U2D/v2RnyI4bcmaAy6Uv0bJP8 TvkRo5k6ByTrdrM8Q4Y0/A5WH2Yl8MbVrPRz2YPomseORqaSLQnfLdzPZQ/W1rEH7TTjPfVN8w0 KpdelndKsakk2WoiV/YtbBjulvUQvFQp+SbEBbJ/Wc3N0c6OpDi9wRA2MnZoDV+lEN8pLeioVK/ 3sk2SAZMf X-Google-Smtp-Source: AGHT+IHnH8QyVXkFGQRKInWMzWZrXHftaj6h+MfVwadlc1JbwHCYw6ZAz7IRf95c2xk6Zq849VZRF/XdsLJT X-Received: by 2002:a05:6214:1cc6:b0:882:6d1a:eaea with SMTP id 6a1803df08f44-882819163femr5828016d6.30.1762971843561; Wed, 12 Nov 2025 10:24:03 -0800 (PST) Received: from postal.iol.unh.edu (postal.iol.unh.edu. [2606:4100:3880:1234::84]) by smtp-relay.gmail.com with ESMTPS id 6a1803df08f44-882389948eesm15872126d6.11.2025.11.12.10.24.03 (version=TLS1_2 cipher=ECDHE-ECDSA-AES128-GCM-SHA256 bits=128/128); Wed, 12 Nov 2025 10:24:03 -0800 (PST) X-Relaying-Domain: iol.unh.edu Date: Wed, 12 Nov 2025 10:24:03 -0800 (PST) Message-ID: <6914d0c3.050a0220.15c513.0c0bSMTPIN_ADDED_MISSING@mx.google.com> Received: from [172.21.0.3] (unknown [172.18.0.240]) by postal.iol.unh.edu (Postfix) with ESMTP id 4947B60003F4; Wed, 12 Nov 2025 13:24:03 -0500 (EST) Subject: |SUCCESS| pw158547 [PATCH] telemetry: make socket handler typedef pr From: dpdklab@iol.unh.edu To: Test Report Cc: dpdk-test-reports@iol.unh.edu In-Reply-To: <20251107093259.3305537-1-bruce.richardson@intel.com> References: <20251107093259.3305537-1-bruce.richardson@intel.com> Content-Type: text/plain X-BeenThere: test-report@dpdk.org X-Mailman-Version: 2.1.29 Precedence: list List-Id: automatic DPDK test reports List-Unsubscribe: , List-Archive: List-Post: List-Help: List-Subscribe: , Errors-To: test-report-bounces@dpdk.org Test-Label: iol-unit-amd64-testing Test-Status: SUCCESS http://dpdk.org/patch/158547 _Testing PASS_ Submitter: Bruce Richardson Date: Friday, November 07 2025 09:32:59 DPDK git baseline: Repo:dpdk Branch: master CommitID:be0112878b4fc3a1b918370ed2fe615c52039d77 158547 --> testing pass Upstream job id: Generic-Unit-Test-DPDK#391612 Test environment and result as below: +-------------------------------+----------------+ | Environment | dpdk_unit_test | +===============================+================+ | CentOS Stream 10 | PASS | +-------------------------------+----------------+ | Debian GNU/Linux 12 | PASS | +-------------------------------+----------------+ | Fedora Linux 40 | PASS | +-------------------------------+----------------+ | Fedora Linux 42 | PASS | +-------------------------------+----------------+ | CentOS Stream 9 | PASS | +-------------------------------+----------------+ | Fedora Linux 41 | PASS | +-------------------------------+----------------+ | Red Hat Enterprise Linux 8.10 | PASS | +-------------------------------+----------------+ | Ubuntu 22.04 | PASS | +-------------------------------+----------------+ | Red Hat Enterprise Linux 9.5 | PASS | +-------------------------------+----------------+ | Ubuntu 20.04 | PASS | +-------------------------------+----------------+ | Ubuntu 24.04 | PASS | +-------------------------------+----------------+ CentOS Stream 10 Kernel: 5.15 Compiler: gcc gcc (GCC) 14.2.1 20250110 (Red Hat 14.2.1-8) Debian GNU/Linux 12 Kernel: 5.15 Compiler: gcc gcc (Debian 12.2.0-14+deb12u1) 12.2.0 Fedora Linux 40 Kernel: 5.15 Compiler: gcc gcc (GCC) 14.2.1 20240912 (Red Hat 14.2.1-3) Fedora Linux 42 Kernel: 5.15 Compiler: gcc gcc (GCC) 15.2.1 20250808 (Red Hat 15.2.1-1) CentOS Stream 9 Kernel: 5.15 Compiler: gcc gcc (GCC) 11.5.0 20240719 (Red Hat 11.5.0-11) Fedora Linux 41 Kernel: 5.15 Compiler: gcc gcc (GCC) 14.3.1 20250523 (Red Hat 14.3.1-1) Red Hat Enterprise Linux 8.10 Kernel: 5.15 Compiler: gcc gcc (GCC) 8.5.0 20210514 (Red Hat 8.5.0-22) Ubuntu 22.04 Kernel: 5.15 Compiler: gcc gcc (Ubuntu 11.4.0-1ubuntu1~22.04) 11.4.0 Red Hat Enterprise Linux 9.5 Kernel: 5.15 Compiler: gcc gcc (GCC) 11.5.0 20240719 (Red Hat 11.5.0-2) Ubuntu 20.04 Kernel: 5.15 Compiler: gcc gcc (Ubuntu 9.4.0-1ubuntu1~20.04.2) 9.4.0 Ubuntu 24.04 Kernel: 5.15 Compiler: gcc gcc (Ubuntu 13.3.0-6ubuntu2~24.04) 13.3.0 To view detailed results, visit: https://lab.dpdk.org/results/dashboard/patchsets/34555/ UNH-IOL DPDK Community Lab To manage your email subscriptions, visit: https://lab.dpdk.org/results/dashboard/preferences/subscriptions/