From mboxrd@z Thu Jan 1 00:00:00 1970 Return-Path: Received: from mails.dpdk.org (mails.dpdk.org [217.70.189.124]) by inbox.dpdk.org (Postfix) with ESMTP id BE69648AF1 for ; Wed, 12 Nov 2025 20:21:42 +0100 (CET) Received: from mails.dpdk.org (localhost [127.0.0.1]) by mails.dpdk.org (Postfix) with ESMTP id A96D940151; Wed, 12 Nov 2025 20:21:42 +0100 (CET) Received: from mail-qv1-f100.google.com (mail-qv1-f100.google.com [209.85.219.100]) by mails.dpdk.org (Postfix) with ESMTP id 278A840151 for ; Wed, 12 Nov 2025 20:21:41 +0100 (CET) Received: by mail-qv1-f100.google.com with SMTP id 6a1803df08f44-88051279e87so12231536d6.3 for ; Wed, 12 Nov 2025 11:21:41 -0800 (PST) DKIM-Signature: v=1; a=rsa-sha256; c=relaxed/relaxed; d=iol.unh.edu; s=unh-iol; t=1762975300; x=1763580100; darn=dpdk.org; h=references:in-reply-to:cc:to:from:subject:message-id:date:from:to :cc:subject:date:message-id:reply-to; bh=qX1d1Fvb14z4g5QUl63pCQ8efdTXi6IciWy6XKAu/GE=; b=AbdoPZ+rlGuxp9Qzjc5EG3fdUEKD1FPe0/1f+Ryh9JdksYd/pJ5yXvHuRhtQyI4Roa NHHswC3a/RqJiUWts36hdOIo6BIuUpeoYbOog97i+O8nKJnRuv8PmK4BhnZKJdVyjX/N LTIIIX5u91zXnwre9NZHvV9giheA7WMPGoECo= X-Google-DKIM-Signature: v=1; a=rsa-sha256; c=relaxed/relaxed; d=1e100.net; s=20230601; t=1762975300; x=1763580100; h=references:in-reply-to:cc:to:from:subject:message-id:date:x-gm-gg :x-gm-message-state:from:to:cc:subject:date:message-id:reply-to; bh=qX1d1Fvb14z4g5QUl63pCQ8efdTXi6IciWy6XKAu/GE=; b=ahs93kzYXZIMgFrR+oJYGTPcrv7+rf+i8dgqU8AMIG7nxh6W28DYKsVJAZ1UPFhtz1 99j6uDHO5QmZya/pfiNDzm7K2ZHjAT4nhE6Lu+AVdnL3CKBYWyFeMFHlfE+TGL4oVX4F MTXzFIJx9PnmVhAaTyY9ViDE3h38QPFRhVdBdkIdHXuhsVAAPhRgj0/LaxpUMKVkg7Th kV/lY066M3YNoFEB9fDHeb8qN+sLliot5u4wy9rMqv43/DSnxMRgqAsQ+OpNUOlzjjRR ZmWRzmkXSz9JBOAff8NTy1/sywqpdWrZA2DGwm2JY0YNJplK53ZvfgH/cc6mUqUYooli k9Yg== X-Gm-Message-State: AOJu0YyeD6HP+jfkIQet3mLZhAMsYX37KORJTKH6vil6XO7gKyVKYqys 3s1wvv6owhZqrrqa5FJkIKMIshYIPjuO8KhBl82FY1IW1eEvLQNDaF8+WuDqcHFBENE/CEfT6y3 8ZoC4e+5ZQ2qp7S6gE/Iyj37yUPUZWbo63jpLMiyCzRhPBGgmTlrgZ1wnmIiq X-Gm-Gg: ASbGncumDZ2bBfP28e1uAn8YnTIvcoYs8xRoQTmDNf7U+oej9QwDIa2NpUxo5IOq8IS iDT9CQRrqx6fEOPLULXWbvHQl+bOrj1TsCtVJE1p4/c53as3iTDnhf0azEpcKDyxA+NljZF1B6b RpDkTKLJXpmxB4yyEpreOeidK7OQd5RFEnw+Od96caprU7yhi94tzAvqTo/bsAecwAXo+CXsxXj L9Xfgb3u7Owixbc8U7O7N/eBZ8VAnibYHG+/Ao/Ew1aV1l31A7/VrlA9ewtxzWLqqxhDJUMCW8X 0krvBhD+pH2lLQgE73liWKYUnhzQ9gNjD38JAeIKEnX382IowUv3BKehgY7JvPdFpY8TWXhCtcl wc1aHCmvW X-Google-Smtp-Source: AGHT+IGgg9dGbdNJDUuIdOVo2u/IUtwmYZQL0ZPNP+V4MrWaqQiL3hJCDsnHPQ+QQMSW8AERKFC4SZyR8TIW X-Received: by 2002:a05:6214:20e7:b0:882:398d:3cf5 with SMTP id 6a1803df08f44-88271a3b7b1mr61672616d6.52.1762975300472; Wed, 12 Nov 2025 11:21:40 -0800 (PST) Received: from postal.iol.unh.edu (postal.iol.unh.edu. [2606:4100:3880:1234::84]) by smtp-relay.gmail.com with ESMTPS id 6a1803df08f44-88238b21a93sm15631136d6.16.2025.11.12.11.21.40 (version=TLS1_2 cipher=ECDHE-ECDSA-AES128-GCM-SHA256 bits=128/128); Wed, 12 Nov 2025 11:21:40 -0800 (PST) X-Relaying-Domain: iol.unh.edu Date: Wed, 12 Nov 2025 11:21:40 -0800 (PST) Message-ID: <6914de44.050a0220.32d68b.f5a2SMTPIN_ADDED_MISSING@mx.google.com> Received: from [172.21.0.2] (unknown [172.18.0.240]) by postal.iol.unh.edu (Postfix) with ESMTP id 3629460003F4; Wed, 12 Nov 2025 14:21:40 -0500 (EST) Subject: |SUCCESS| pw158695 [PATCH] license: standardize SPDX tag for 3-Claus From: dpdklab@iol.unh.edu To: Test Report Cc: dpdk-test-reports@iol.unh.edu In-Reply-To: <20251112091335.662991-1-thomas@monjalon.net> References: <20251112091335.662991-1-thomas@monjalon.net> Content-Type: text/plain X-BeenThere: test-report@dpdk.org X-Mailman-Version: 2.1.29 Precedence: list List-Id: automatic DPDK test reports List-Unsubscribe: , List-Archive: List-Post: List-Help: List-Subscribe: , Errors-To: test-report-bounces@dpdk.org Test-Label: iol-compile-amd64-testing Test-Status: SUCCESS http://dpdk.org/patch/158695 _Testing PASS_ Submitter: Thomas Monjalon Date: Wednesday, November 12 2025 09:13:35 DPDK git baseline: Repo:dpdk Branch: master CommitID:be0112878b4fc3a1b918370ed2fe615c52039d77 158695 --> testing pass Upstream job id: Generic-DPDK-Compile-Meson#443359 Test environment and result as below: +-----------------+--------------------+ | Environment | dpdk_meson_compile | +=================+====================+ | Ubuntu 20.04 | PASS | +-----------------+--------------------+ | FreeBSD 14.2 | PASS | +-----------------+--------------------+ | CentOS Stream 9 | PASS | +-----------------+--------------------+ Ubuntu 20.04 Kernel: 4.19 Compiler: gcc gcc (Ubuntu 9.4.0-1ubuntu1~20.04.2) 9.4.0 FreeBSD 14.2 Kernel: 14.2-RELEASE Compiler: clang 18.1.6 CentOS Stream 9 Kernel: 5.15 Compiler: gcc gcc (GCC) 11.5.0 20240719 (Red Hat 11.5.0-11) To view detailed results, visit: https://lab.dpdk.org/results/dashboard/patchsets/34545/ UNH-IOL DPDK Community Lab To manage your email subscriptions, visit: https://lab.dpdk.org/results/dashboard/preferences/subscriptions/