From mboxrd@z Thu Jan 1 00:00:00 1970 Return-Path: Received: from mails.dpdk.org (mails.dpdk.org [217.70.189.124]) by inbox.dpdk.org (Postfix) with ESMTP id 1858F48AF1 for ; Wed, 12 Nov 2025 20:24:31 +0100 (CET) Received: from mails.dpdk.org (localhost [127.0.0.1]) by mails.dpdk.org (Postfix) with ESMTP id EB06D40151; Wed, 12 Nov 2025 20:24:30 +0100 (CET) Received: from mail-pg1-f225.google.com (mail-pg1-f225.google.com [209.85.215.225]) by mails.dpdk.org (Postfix) with ESMTP id 41B2040151 for ; Wed, 12 Nov 2025 20:24:29 +0100 (CET) Received: by mail-pg1-f225.google.com with SMTP id 41be03b00d2f7-b98983bae80so10348a12.0 for ; Wed, 12 Nov 2025 11:24:29 -0800 (PST) DKIM-Signature: v=1; a=rsa-sha256; c=relaxed/relaxed; d=iol.unh.edu; s=unh-iol; t=1762975468; x=1763580268; darn=dpdk.org; h=cc:to:from:subject:message-id:date:from:to:cc:subject:date :message-id:reply-to; bh=EpsV8/kM4jxRPEDnTa0TFFsekApz7Zadh7EiLwqRnX8=; b=TyKmOY2nSGTyun4yRQYivvklTdcBC5dqnEqxMlS2KSW7gUT3eiCKXcW99TZ8cUygok bVb+oY58oGBRIrGvs0IktA1SZb1kVPryG1k7m5uPBnWDf0oaCvESd4EPkIGfYM5ovjxX 3nY2WaU/Orbvt3IZfxqAHSsiw9RGsbHSedIT8= X-Google-DKIM-Signature: v=1; a=rsa-sha256; c=relaxed/relaxed; d=1e100.net; s=20230601; t=1762975468; x=1763580268; h=cc:to:from:subject:message-id:date:x-gm-gg:x-gm-message-state:from :to:cc:subject:date:message-id:reply-to; bh=EpsV8/kM4jxRPEDnTa0TFFsekApz7Zadh7EiLwqRnX8=; b=hOhCMMnqgY3uq9D+2SMEyjQwMeWOMUnsVBny04JpbjVReROWEc3JE8wq3FwfHz0Q7F I4AtrKyPpPOaUfXxs95AerLHdYoqGr3Nxn1AwwKmL1mmf2vU3gNlh7yZhkbydZLkb32y hDA9jS+rwM0Nmj2t+XEz+aI75vpngFKHZHCSrHOgsrWpga4Iqk2NdJUoXf9V9KoKScyv 0K5iaZvZ9uz7PAMViY5gVe0w5g4A2eIOUkXvsZDNrDwq/4Rl2/bh8Pz8wmOngVAqHAc1 Lg4v6Es3b6o9a9hTS3azLneC3El9qoCMHStgboFtBRMXwJtGYUNx4VVlnD6b/s0BFQml SnAw== X-Gm-Message-State: AOJu0YxhF5kpm5cd7u8DwfryybR+26Tgj0JgSEB/tZ0i8exWHWmA0ABS z62CLmmF3PiB4t0UIVX56n4p6HelZU+MyudfVFxffUpxsmKitIXTFD7moOUFbnOkQzxHDAiLLKn nym3Lhk4b+avQ87WP5Un0WYKUkkJxptSYSONFuQWPTd38p0UJcj+Bw3qC/vaF X-Gm-Gg: ASbGncsUmAaC8NcyPEJ/H1qar2IovEB95yvY7UBMWRAwS9DAz/YDRjXiz1DXx0u5CFu wJT1lhhozVKea2Rm59WdX6PW96CSqVY1FK3nHA/dTeZRmkaysLrF2Nl2P4C8guOZfbZjyE6LRUv OG6A+yIDMXlBroPA/11TTyfym1U8xu6P2EHth+ju1XJ0NOfK92e2RjAonRVSnCGGC9iomdUDmqJ OYTgOlZrViKsUVcWjGJtvvKqqwTalphsxZV994NfPw7vZGS8dC2KIItaoxnm3z2bHWSnKf5bHjp 9BcXFdGEsJbxuRUn6G7wuofX1QzGDdNWChFGbsARVXC0ue8QVRTfahupZkK98MQoj7EzLa1sr1T AxaVZwj49 X-Google-Smtp-Source: AGHT+IFs/Rxy1NgkrGqLWNKFbwW6RP1tvINDDy7cwLw25/OWozaRWlD+Z37iT6VNp7ZSHN5MjOSiDvHrNASh X-Received: by 2002:a17:903:2f85:b0:290:94ed:184c with SMTP id d9443c01a7336-2984ed3e9e6mr48125115ad.15.1762975468313; Wed, 12 Nov 2025 11:24:28 -0800 (PST) Received: from postal.iol.unh.edu (postal.iol.unh.edu. [2606:4100:3880:1234::84]) by smtp-relay.gmail.com with ESMTPS id d9443c01a7336-2984dd01e7fsm3675785ad.36.2025.11.12.11.24.28 (version=TLS1_2 cipher=ECDHE-ECDSA-AES128-GCM-SHA256 bits=128/128); Wed, 12 Nov 2025 11:24:28 -0800 (PST) X-Relaying-Domain: iol.unh.edu Date: Wed, 12 Nov 2025 11:24:28 -0800 (PST) Message-ID: <6914deec.170a0220.6dad.33c2SMTPIN_ADDED_MISSING@mx.google.com> Received: from [172.21.0.3] (unknown [172.18.0.240]) by postal.iol.unh.edu (Postfix) with ESMTP id 858C96051830; Wed, 12 Nov 2025 14:24:27 -0500 (EST) Subject: |SUCCESS| [GIT MASTER] be0112878b4fc3a1b918370ed2fe615c52039d77 From: dpdklab@iol.unh.edu To: Test Report Cc: dpdk-test-reports@iol.unh.edu Content-Type: text/plain X-BeenThere: test-report@dpdk.org X-Mailman-Version: 2.1.29 Precedence: list List-Id: automatic DPDK test reports List-Unsubscribe: , List-Archive: List-Post: List-Help: List-Subscribe: , Errors-To: test-report-bounces@dpdk.org _Testing PASS_ Branch: dpdk be0112878b4fc3a1b918370ed2fe615c52039d77 --> testing pass Upstream job id: Generic-DPDK-Compile-Meson#443200 Test environment and result as below: +------------------------------+--------------------+ | Environment | dpdk_meson_compile | +==============================+====================+ | Ubuntu 20.04 | PASS | +------------------------------+--------------------+ | Red Hat Enterprise Linux 9.5 | PASS | +------------------------------+--------------------+ | Debian GNU/Linux 12 | PASS | +------------------------------+--------------------+ | Fedora Linux 42 | PASS | +------------------------------+--------------------+ | Ubuntu 22.04 | PASS | +------------------------------+--------------------+ | Ubuntu 24.04 | PASS | +------------------------------+--------------------+ | CentOS Stream 9 | PASS | +------------------------------+--------------------+ | CentOS Stream 10 | PASS | +------------------------------+--------------------+ Ubuntu 20.04 Kernel: 5.15 Compiler: aarch64-linux-gnu-gcc gcc (Ubuntu 9.4.0-1ubuntu1~20.04.2) 9.4.0 Red Hat Enterprise Linux 9.5 Kernel: 5.4 Compiler: gcc gcc (GCC) 11.5.0 20240719 (Red Hat 11.5.0-2) Debian GNU/Linux 12 Kernel: 5.4 Compiler: gcc gcc (Debian 12.2.0-14+deb12u1) 12.2.0 Fedora Linux 42 Kernel: 5.4 Compiler: gcc gcc (GCC) 15.2.1 20250808 (Red Hat 15.2.1-1) Ubuntu 22.04 Kernel: 5.4 Compiler: gcc gcc (Ubuntu 11.4.0-1ubuntu1~22.04) 11.4.0 Ubuntu 24.04 Kernel: 5.4 Compiler: gcc gcc (Ubuntu 13.3.0-6ubuntu2~24.04) 13.3.0 CentOS Stream 9 Kernel: 5.4 Compiler: gcc gcc (GCC) 11.5.0 20240719 (Red Hat 11.5.0-11) CentOS Stream 10 Kernel: 5.4 Compiler: gcc gcc (GCC) 14.2.1 20250110 (Red Hat 14.2.1-8) To view detailed results, visit: https://lab.dpdk.org/results/dashboard/tarballs/35547/ UNH-IOL DPDK Community Lab To manage your email subscriptions, visit: https://lab.dpdk.org/results/dashboard/preferences/subscriptions/