From mboxrd@z Thu Jan 1 00:00:00 1970 Return-Path: Received: from mails.dpdk.org (mails.dpdk.org [217.70.189.124]) by inbox.dpdk.org (Postfix) with ESMTP id 0E51848AF1 for ; Wed, 12 Nov 2025 20:24:42 +0100 (CET) Received: from mails.dpdk.org (localhost [127.0.0.1]) by mails.dpdk.org (Postfix) with ESMTP id 06E4140151; Wed, 12 Nov 2025 20:24:42 +0100 (CET) Received: from mail-vk1-f225.google.com (mail-vk1-f225.google.com [209.85.221.225]) by mails.dpdk.org (Postfix) with ESMTP id 0652B40151 for ; Wed, 12 Nov 2025 20:24:41 +0100 (CET) Received: by mail-vk1-f225.google.com with SMTP id 71dfb90a1353d-55986ed1e50so28265e0c.0 for ; Wed, 12 Nov 2025 11:24:40 -0800 (PST) DKIM-Signature: v=1; a=rsa-sha256; c=relaxed/relaxed; d=iol.unh.edu; s=unh-iol; t=1762975480; x=1763580280; darn=dpdk.org; h=references:in-reply-to:cc:to:from:subject:message-id:date:from:to :cc:subject:date:message-id:reply-to; bh=fwTZOH5/hA4IrGGFqIxb8jEcU5BE9gASeggDZ4V1HII=; b=JTxjsuohvSlYBq8ADHG6192Ce7vCV7PO7d7LfQ+eH1laVpKj5TxGpohZ2U0cbLWiXg 6bHlCTYBzV9VtgpuyxnaOGEAu0lziMds6dig4LjygYRRiieMGwnqhvX+110TZvWjdNtJ vZ3WyRYKtYL4zGSpyTPB9Xm/VzcP35dY34rZg= X-Google-DKIM-Signature: v=1; a=rsa-sha256; c=relaxed/relaxed; d=1e100.net; s=20230601; t=1762975480; x=1763580280; h=references:in-reply-to:cc:to:from:subject:message-id:date:x-gm-gg :x-gm-message-state:from:to:cc:subject:date:message-id:reply-to; bh=fwTZOH5/hA4IrGGFqIxb8jEcU5BE9gASeggDZ4V1HII=; b=bhnSjEMDTnWXetkfxh6ViU6p6jVWbYGKA5VuYMpfclWlpgXXKsft01NT8gSVsqiO7E lZfu793Jy4cjMHw3XVh7PsBcX1aFQVK2EM7BEHv8DZGl7OrTyfgdM/XcxPP/TQLdJOSE yfiHl1NUevGufhW7w573ikF1gZl0lOUnN1dAzB4gk6mKiWvr5l2xV618LZhQhqQFjEsC I5K464rGLUC8I8wKFOG/lbmT7eOy10KTT1SSuns/spjd0e7VVGL+wyXYbS8DfUZNrZAG 4bleWxfd3KtRD1u6i+HDoebtzXL7l8cvy2n45ZfFZgwJVL6fP/K+bKawyyW/jsRxttBR itEw== X-Gm-Message-State: AOJu0YxsAo/ePSPMYFZBR7Oo2QYKfdeWJF/kBi3ey7ogfRcF/cU0gRsN VsqX4F+x7jiXD47MJnG471j8ZDVM8qxN2GEfwURYqFG9mhRjcy30JuXgPZ9mGksPpeW2SohbSoz QIPF5oerpcyLxW9AEE4aoaVA0OR4m5630SnApu4+Yb5gxKnYoCMRDvitUpYWz X-Gm-Gg: ASbGncv4wlX2Hzq/ZOOCNyMUFblkklTtSEhuVYUzRUy+DxKrdBk1JOQMPjfVzUSlagy 0ihbvvalxDP50ormweGMAXPeshR0OQJffOM/6IrWQt5KSh3MBhKQ8vilaGi0pEF/fJDagAzixhB 91gTOjFmDYSco2rki3eW8KHWyV+4FcHOfHmkwz+/ksjwVREEiF7N0COwvfkHW3ryk27DoF80key 5KUr7PDN/eo6N5kz2tWQgKpEWVXDQR0+Mny11FJhYKnBsDJPjhUcbF3npM2/1wjvU53Yp4CAyfA wMAn+Phjq5FwgkJXmX/pfU6AXXnxfLF4Wfvh7QcpS+ZPW6Jz2LJ45qqW64zrP3emuVNJchtIYXk 9PlhAx77m X-Google-Smtp-Source: AGHT+IG8G7K+6IClyCd9Lf6MWhor7HDFvhBSKOxXTSyCw+RULEFIacwMcAGnYe/qQdp51tTFJzRSAzztGvkG X-Received: by 2002:a05:6122:20ab:b0:551:c3d0:acb8 with SMTP id 71dfb90a1353d-559e7d7693bmr1746945e0c.6.1762975480349; Wed, 12 Nov 2025 11:24:40 -0800 (PST) Received: from postal.iol.unh.edu (postal.iol.unh.edu. [2606:4100:3880:1234::84]) by smtp-relay.gmail.com with ESMTPS id 71dfb90a1353d-559957faf87sm1817460e0c.7.2025.11.12.11.24.40 (version=TLS1_2 cipher=ECDHE-ECDSA-AES128-GCM-SHA256 bits=128/128); Wed, 12 Nov 2025 11:24:40 -0800 (PST) X-Relaying-Domain: iol.unh.edu Date: Wed, 12 Nov 2025 11:24:40 -0800 (PST) Message-ID: <6914def8.050a0220.9d677.edfdSMTPIN_ADDED_MISSING@mx.google.com> Received: from [172.21.0.4] (unknown [172.18.0.240]) by postal.iol.unh.edu (Postfix) with ESMTP id 13F3E6051830; Wed, 12 Nov 2025 14:24:40 -0500 (EST) Subject: |SUCCESS| pw158684-158685 [PATCH] [v6,2/2] bpf: add test for Rx and From: dpdklab@iol.unh.edu To: Test Report Cc: dpdk-test-reports@iol.unh.edu In-Reply-To: <20251111225719.540140-3-stephen@networkplumber.org> References: <20251111225719.540140-3-stephen@networkplumber.org> Content-Type: text/plain X-BeenThere: test-report@dpdk.org X-Mailman-Version: 2.1.29 Precedence: list List-Id: automatic DPDK test reports List-Unsubscribe: , List-Archive: List-Post: List-Help: List-Subscribe: , Errors-To: test-report-bounces@dpdk.org Test-Label: iol-compile-arm64-testing Test-Status: SUCCESS http://dpdk.org/patch/158685 _Testing PASS_ Submitter: Stephen Hemminger Date: Tuesday, November 11 2025 22:55:47 DPDK git baseline: Repo:dpdk Branch: master CommitID:be0112878b4fc3a1b918370ed2fe615c52039d77 158684-158685 --> testing pass Upstream job id: Generic-DPDK-Compile-Meson#443240 Test environment and result as below: +------------------------------+--------------------+ | Environment | dpdk_meson_compile | +==============================+====================+ | Red Hat Enterprise Linux 9.5 | PASS | +------------------------------+--------------------+ | Ubuntu 20.04 | PASS | +------------------------------+--------------------+ | Debian GNU/Linux 12 | PASS | +------------------------------+--------------------+ | Fedora Linux 42 | PASS | +------------------------------+--------------------+ | Ubuntu 22.04 | PASS | +------------------------------+--------------------+ | Ubuntu 24.04 | PASS | +------------------------------+--------------------+ | CentOS Stream 9 | PASS | +------------------------------+--------------------+ | CentOS Stream 10 | PASS | +------------------------------+--------------------+ Red Hat Enterprise Linux 9.5 Kernel: 5.4 Compiler: gcc gcc (GCC) 11.5.0 20240719 (Red Hat 11.5.0-2) Ubuntu 20.04 Kernel: 5.15 Compiler: aarch64-linux-gnu-gcc gcc (Ubuntu 9.4.0-1ubuntu1~20.04.2) 9.4.0 Debian GNU/Linux 12 Kernel: 5.4 Compiler: gcc gcc (Debian 12.2.0-14+deb12u1) 12.2.0 Fedora Linux 42 Kernel: 5.4 Compiler: gcc gcc (GCC) 15.2.1 20250808 (Red Hat 15.2.1-1) Ubuntu 22.04 Kernel: 5.4 Compiler: gcc gcc (Ubuntu 11.4.0-1ubuntu1~22.04) 11.4.0 Ubuntu 24.04 Kernel: 5.4 Compiler: gcc gcc (Ubuntu 13.3.0-6ubuntu2~24.04) 13.3.0 CentOS Stream 9 Kernel: 5.4 Compiler: gcc gcc (GCC) 11.5.0 20240719 (Red Hat 11.5.0-11) CentOS Stream 10 Kernel: 5.4 Compiler: gcc gcc (GCC) 14.2.1 20250110 (Red Hat 14.2.1-8) To view detailed results, visit: https://lab.dpdk.org/results/dashboard/patchsets/34542/ UNH-IOL DPDK Community Lab To manage your email subscriptions, visit: https://lab.dpdk.org/results/dashboard/preferences/subscriptions/