From mboxrd@z Thu Jan 1 00:00:00 1970 Return-Path: Received: from mails.dpdk.org (mails.dpdk.org [217.70.189.124]) by inbox.dpdk.org (Postfix) with ESMTP id 272CF48AF1 for ; Wed, 12 Nov 2025 20:34:59 +0100 (CET) Received: from mails.dpdk.org (localhost [127.0.0.1]) by mails.dpdk.org (Postfix) with ESMTP id 027F140151; Wed, 12 Nov 2025 20:34:59 +0100 (CET) Received: from mail-pf1-f228.google.com (mail-pf1-f228.google.com [209.85.210.228]) by mails.dpdk.org (Postfix) with ESMTP id A509340151 for ; Wed, 12 Nov 2025 20:34:57 +0100 (CET) Received: by mail-pf1-f228.google.com with SMTP id d2e1a72fcca58-7afc154e411so835529b3a.1 for ; Wed, 12 Nov 2025 11:34:57 -0800 (PST) DKIM-Signature: v=1; a=rsa-sha256; c=relaxed/relaxed; d=iol.unh.edu; s=unh-iol; t=1762976097; x=1763580897; darn=dpdk.org; h=cc:to:from:subject:message-id:date:from:to:cc:subject:date :message-id:reply-to; bh=y+qMt3K53iyg/Bx7y5sFGMpEH3nYcu62tVdtive4neM=; b=aKtZpcrFzIgB2xSDdFiVdndZJdn+sC+OmRpXu9Lfp5Yv7rQOo49owRuUU5OG3ZY82y gWnX21qmEDmx0u+/BWFWTnQbEXV9y/2m73bP9WRL1Occ/E40cXD0MEAA58EgBNx3UEWt +kncbBcjJT/1TdruSEFG0pa81I+ZPT4uZhzsk= X-Google-DKIM-Signature: v=1; a=rsa-sha256; c=relaxed/relaxed; d=1e100.net; s=20230601; t=1762976097; x=1763580897; h=cc:to:from:subject:message-id:date:x-gm-gg:x-gm-message-state:from :to:cc:subject:date:message-id:reply-to; bh=y+qMt3K53iyg/Bx7y5sFGMpEH3nYcu62tVdtive4neM=; b=OJVBOu/BXg/5ZSigwgDNu1ciIKNgLquXr0zqk72C4rZyw/1SrwT7EYga2Ixs/zHOFF S8gC7su2+JTlQdKox01smIdBtzXqn5rZP16qTJTZAZ78U8024++ydZdY7G/XyJ/BpUNr sLGC49uiJ6GDubRENABTnlvIHsGTI/yxi1myzBaSmteSPWTyRhFuF6ORJsJlml3ei8S+ vzDzJiULx3n20UNEu4dc0kea+PdRAMHzI086WTX48RwH3BGPUtsjdxQXVMzrLDFmsMYI 7SNFuyVJX3kx0ipTsWm5M0KzZ63crnuxq6VAxRSizkvFRZQ/cxEd9rNamRmjeyrG+E5U BHaQ== X-Gm-Message-State: AOJu0YygVDbDomPGXCcq22HzCy2ZplKRCy0DZ/s05znsmPj+EO/4NJaF mNonnR3dWR22hzW0r4U83FCmxfwECxzKF+CdbaYK+ULlPKUlSf8fheY8UUgO1TSGP0HmNgHul6o vgpJ3bDqGacyYgelegeOL1TK9Gcuj6d7V0Z9tL8d5tw1pf5vDrMNf X-Gm-Gg: ASbGnctQYl77SUgKMBk1f1jndF5fV/72EvBMvOsJM3MLFkegPuEgtz9IgptMPEKUPLB NFn6qLH6LClAHPuNjt8aL2ZXk/84wgTJ2gatu56d1HkK9nsQigpPyx2/hl6YQNRAfBOUz/QOd8j uAr0xPKrlHErOLZG6swbtl3tsJ1xNqOakZkJa2/HSH1Ue45/6tFpbVRzRmO321M++drxQxYbBlk FpCP94yb98yedE21gLDXtXsE9Q35dJJSGA6f+gTmYK8N/sYWoqEiLkfktzq5xgA7nTaoLXk4wuH 1gOuZ9K/3n5DzCEPAQJFpfTsM3Wtd5vUt/V8IQo2zcte42lAIwv7MwejtYMf/gxmU2eAkSWfwTM 6zI5X1kgX X-Google-Smtp-Source: AGHT+IG+WE3FXUjogfdMrfMHc0a9ZyZjyL5NUe8U8PCDIts3wugNITY/woDLyIINVuwDlePwF6M1n8Tub93P X-Received: by 2002:a17:902:cf04:b0:295:70b1:edcf with SMTP id d9443c01a7336-2984eda98f7mr48551035ad.36.1762976096791; Wed, 12 Nov 2025 11:34:56 -0800 (PST) Received: from postal.iol.unh.edu (postal.iol.unh.edu. [2606:4100:3880:1234::84]) by smtp-relay.gmail.com with ESMTPS id d9443c01a7336-2984dc00fa7sm3818315ad.14.2025.11.12.11.34.56 (version=TLS1_2 cipher=ECDHE-ECDSA-AES128-GCM-SHA256 bits=128/128); Wed, 12 Nov 2025 11:34:56 -0800 (PST) X-Relaying-Domain: iol.unh.edu Date: Wed, 12 Nov 2025 11:34:56 -0800 (PST) Message-ID: <6914e160.170a0220.fb65a.35f7SMTPIN_ADDED_MISSING@mx.google.com> Received: from [172.21.0.2] (unknown [172.18.0.240]) by postal.iol.unh.edu (Postfix) with ESMTP id 14A986051830; Wed, 12 Nov 2025 14:34:56 -0500 (EST) Subject: |SUCCESS| [GIT MASTER] 9784db2c5af1eecd02fc21132b59b5b266039b87 From: dpdklab@iol.unh.edu To: Test Report Cc: dpdk-test-reports@iol.unh.edu, Xueming Li , Christian Ehrhardt , Kevin Traynor , Luca Boccassi Content-Type: text/plain X-BeenThere: test-report@dpdk.org X-Mailman-Version: 2.1.29 Precedence: list List-Id: automatic DPDK test reports List-Unsubscribe: , List-Archive: List-Post: List-Help: List-Subscribe: , Errors-To: test-report-bounces@dpdk.org _Testing PASS_ Branch: tags/v22.11 9784db2c5af1eecd02fc21132b59b5b266039b87 --> testing pass Upstream job id: Generic-DPDK-Compile-Meson#443255 Test environment and result as below: +------------------------------+--------------------+ | Environment | dpdk_meson_compile | +==============================+====================+ | Red Hat Enterprise Linux 9.5 | PASS | +------------------------------+--------------------+ | Ubuntu 20.04 | PASS | +------------------------------+--------------------+ | Debian GNU/Linux 12 | PASS | +------------------------------+--------------------+ | Fedora Linux 42 | PASS | +------------------------------+--------------------+ | Ubuntu 22.04 | PASS | +------------------------------+--------------------+ | Ubuntu 24.04 | PASS | +------------------------------+--------------------+ | CentOS Stream 9 | PASS | +------------------------------+--------------------+ | CentOS Stream 10 | PASS | +------------------------------+--------------------+ Red Hat Enterprise Linux 9.5 Kernel: 5.4 Compiler: gcc gcc (GCC) 11.5.0 20240719 (Red Hat 11.5.0-2) Ubuntu 20.04 Kernel: 5.15 Compiler: aarch64-linux-gnu-gcc gcc (Ubuntu 9.4.0-1ubuntu1~20.04.2) 9.4.0 Debian GNU/Linux 12 Kernel: 5.4 Compiler: gcc gcc (Debian 12.2.0-14+deb12u1) 12.2.0 Fedora Linux 42 Kernel: 5.4 Compiler: gcc gcc (GCC) 15.2.1 20250808 (Red Hat 15.2.1-1) Ubuntu 22.04 Kernel: 5.4 Compiler: gcc gcc (Ubuntu 11.4.0-1ubuntu1~22.04) 11.4.0 Ubuntu 24.04 Kernel: 5.4 Compiler: gcc gcc (Ubuntu 13.3.0-6ubuntu2~24.04) 13.3.0 CentOS Stream 9 Kernel: 5.4 Compiler: gcc gcc (GCC) 11.5.0 20240719 (Red Hat 11.5.0-11) CentOS Stream 10 Kernel: 5.4 Compiler: gcc gcc (GCC) 14.2.1 20250110 (Red Hat 14.2.1-8) To view detailed results, visit: https://lab.dpdk.org/results/dashboard/tarballs/35549/ UNH-IOL DPDK Community Lab To manage your email subscriptions, visit: https://lab.dpdk.org/results/dashboard/preferences/subscriptions/