From mboxrd@z Thu Jan 1 00:00:00 1970 Return-Path: Received: from mails.dpdk.org (mails.dpdk.org [217.70.189.124]) by inbox.dpdk.org (Postfix) with ESMTP id 0225C48AF1 for ; Wed, 12 Nov 2025 21:07:25 +0100 (CET) Received: from mails.dpdk.org (localhost [127.0.0.1]) by mails.dpdk.org (Postfix) with ESMTP id F314B40E16; Wed, 12 Nov 2025 21:07:24 +0100 (CET) Received: from mail-pg1-f225.google.com (mail-pg1-f225.google.com [209.85.215.225]) by mails.dpdk.org (Postfix) with ESMTP id BAB3040151 for ; Wed, 12 Nov 2025 21:07:10 +0100 (CET) Received: by mail-pg1-f225.google.com with SMTP id 41be03b00d2f7-bbabfe5f2a2so24743a12.3 for ; Wed, 12 Nov 2025 12:07:10 -0800 (PST) DKIM-Signature: v=1; a=rsa-sha256; c=relaxed/relaxed; d=iol.unh.edu; s=unh-iol; t=1762978030; x=1763582830; darn=dpdk.org; h=references:in-reply-to:cc:to:from:subject:message-id:date:from:to :cc:subject:date:message-id:reply-to; bh=UyEDm7ln4mchu4TzOc8454+ZvqHG+Ya0OO5wkqNQH8s=; b=FYI2FcuFrBKxIwyJ65DzjU3QyfesoCeoFfu4UuBSYHrs6QzjnyPSh+B+A61ZVmnXpj KouxIHrvXi5/r/mtamntjdZbAD2ktF7ouBXFUC+Zj/0QdBv4IAt4lIoSzwFRMG1+tyXX YhqBJtVQb+2VaKAfk6YL3Tf+6YBoHjHu3bMSE= X-Google-DKIM-Signature: v=1; a=rsa-sha256; c=relaxed/relaxed; d=1e100.net; s=20230601; t=1762978030; x=1763582830; h=references:in-reply-to:cc:to:from:subject:message-id:date:x-gm-gg :x-gm-message-state:from:to:cc:subject:date:message-id:reply-to; bh=UyEDm7ln4mchu4TzOc8454+ZvqHG+Ya0OO5wkqNQH8s=; b=QZQ9c1FTfFWlZ+TCLRjU9rxRd10oPQTshYQqqZrxB5CnnshjIRF1drYSTGnxm8Ib8g IfdvGViL/cWv2VjN1/ybxjvUFXxmrFkZZX6qkCAoJNLthCGTJ9cV7gvyrS/BG4/barnS 51J8BInhTM31m01ydvoK7suKCmdxLv13gAcnLBaiWxJ5OpGCo9r4dxEuvJvWA4v4WFK/ VHFEhW6WecDZagQ+2xnHkyBq7H9hsFgmXG/0N47oWYnlj9mJvS6BmSnsL7CZ+l0D9XCe r3V9nW1o6iYh/EVOPpJRP6njHsDuwHNLZDht+pfXg/i0K773J/6JAoqDygnwrPnM/q2S MX0A== X-Gm-Message-State: AOJu0YzafNhXejDv8nv6JzWf5u195+x2cqCZiYZi/GyBa1txEFEXDml/ qP+o56lufveKPZRpSB5PjGw/ETSdd3MleDOOIYEO+msd4BTSc85L4b4QwknjOjHXV7ncu2MKJy7 PICuMbbowIxWxihGRIs7DahjwNrTXA9/CiQfSsaWhCZ9374XFo6WOc0SekuXM X-Gm-Gg: ASbGncvoEomw6HzsW4UJFMMpYWOPRugXiriNwjVhGXgbGr+fQVA8/NZuFfwSQR7xFwn ZJM5QMuwoP/G4UDSISm0SxDaxFLVhaZY9ZOJcPYdDmudGvXT21dqLjLMj2MyM5VFp8AYPiPZSj4 wFpfmLDQuf//pWMjeZj6FfTuAfrDb0xNBSOaLmKwsHrijHpN7TLNdtTNIB1NzSSK6tNSUrqobiB TRJffH26V8bEDY1t6JQO0P4SOtn7OR0MHjQudDPkOMnbO6cbCzmPtVUCKAdgBMOuYAcPGcsZ+CQ 3m/D4e3XqG4S+v1CP3yETfkjgvyTHpNCND+gcrKdc5jDFMyLi5u0qvmXIvfuYXRaazROOI8jZyP lWndQqTFd X-Google-Smtp-Source: AGHT+IGxCY6cn7Un2HYxJeOMb1YuBrkPwxzaHmXIAXiQiAw3URcnIGvxaAqAPc7/ix/yDFE6QhZ2A+XUZooI X-Received: by 2002:a17:903:286:b0:298:3e3a:ae6 with SMTP id d9443c01a7336-2984edd2d45mr54456675ad.48.1762978030025; Wed, 12 Nov 2025 12:07:10 -0800 (PST) Received: from postal.iol.unh.edu (postal.iol.unh.edu. [2606:4100:3880:1234::84]) by smtp-relay.gmail.com with ESMTPS id d9443c01a7336-2985c241a5asm6785ad.15.2025.11.12.12.07.09 (version=TLS1_2 cipher=ECDHE-ECDSA-AES128-GCM-SHA256 bits=128/128); Wed, 12 Nov 2025 12:07:10 -0800 (PST) X-Relaying-Domain: iol.unh.edu Date: Wed, 12 Nov 2025 12:07:10 -0800 (PST) Message-ID: <6914e8ee.170a0220.123ea8.009aSMTPIN_ADDED_MISSING@mx.google.com> Received: from [172.21.0.2] (unknown [172.18.0.240]) by postal.iol.unh.edu (Postfix) with ESMTP id 37E49604D420; Wed, 12 Nov 2025 15:07:09 -0500 (EST) Subject: |SUCCESS| pw158696-158697 [PATCH] [v3,2/2] test/crypto: add QAT AES- From: dpdklab@iol.unh.edu To: Test Report Cc: dpdk-test-reports@iol.unh.edu, Akhil Goyal In-Reply-To: <20251112101911.2377840-2-emma.finn@intel.com> References: <20251112101911.2377840-2-emma.finn@intel.com> Content-Type: text/plain X-BeenThere: test-report@dpdk.org X-Mailman-Version: 2.1.29 Precedence: list List-Id: automatic DPDK test reports List-Unsubscribe: , List-Archive: List-Post: List-Help: List-Subscribe: , Errors-To: test-report-bounces@dpdk.org Test-Label: iol-compile-amd64-testing Test-Status: SUCCESS http://dpdk.org/patch/158697 _Testing PASS_ Submitter: Emma Finn Date: Wednesday, November 12 2025 10:19:11 DPDK git baseline: Repo:dpdk-next-crypto Branch: master CommitID:8ae4f1d511226fd65a979e9f8a1e51835281a59b 158696-158697 --> testing pass Upstream job id: Generic-DPDK-Compile-Meson#443387 Test environment and result as below: +---------------------+--------------------+ | Environment | dpdk_meson_compile | +=====================+====================+ | FreeBSD 14.2 | PASS | +---------------------+--------------------+ | Ubuntu 20.04 | PASS | +---------------------+--------------------+ | CentOS Stream 9 | PASS | +---------------------+--------------------+ | CentOS Stream 10 | PASS | +---------------------+--------------------+ | Debian GNU/Linux 12 | PASS | +---------------------+--------------------+ FreeBSD 14.2 Kernel: 14.2-RELEASE Compiler: clang 18.1.6 Ubuntu 20.04 Kernel: 4.19 Compiler: gcc gcc (Ubuntu 9.4.0-1ubuntu1~20.04.2) 9.4.0 CentOS Stream 9 Kernel: 5.15 Compiler: gcc gcc (GCC) 11.5.0 20240719 (Red Hat 11.5.0-11) CentOS Stream 10 Kernel: 5.15 Compiler: gcc gcc (GCC) 14.2.1 20250110 (Red Hat 14.2.1-8) Debian GNU/Linux 12 Kernel: 5.15 Compiler: gcc gcc (Debian 12.2.0-14+deb12u1) 12.2.0 To view detailed results, visit: https://lab.dpdk.org/results/dashboard/patchsets/34546/ UNH-IOL DPDK Community Lab To manage your email subscriptions, visit: https://lab.dpdk.org/results/dashboard/preferences/subscriptions/