From mboxrd@z Thu Jan 1 00:00:00 1970 Return-Path: Received: from mails.dpdk.org (mails.dpdk.org [217.70.189.124]) by inbox.dpdk.org (Postfix) with ESMTP id 46B7548ACF for ; Wed, 12 Nov 2025 21:40:47 +0100 (CET) Received: from mails.dpdk.org (localhost [127.0.0.1]) by mails.dpdk.org (Postfix) with ESMTP id 1F1B940151; Wed, 12 Nov 2025 21:40:47 +0100 (CET) Received: from mail-vk1-f228.google.com (mail-vk1-f228.google.com [209.85.221.228]) by mails.dpdk.org (Postfix) with ESMTP id B735440151 for ; Wed, 12 Nov 2025 21:40:45 +0100 (CET) Received: by mail-vk1-f228.google.com with SMTP id 71dfb90a1353d-559836d04f6so80330e0c.0 for ; Wed, 12 Nov 2025 12:40:45 -0800 (PST) DKIM-Signature: v=1; a=rsa-sha256; c=relaxed/relaxed; d=iol.unh.edu; s=unh-iol; t=1762980045; x=1763584845; darn=dpdk.org; h=cc:to:from:subject:message-id:date:from:to:cc:subject:date :message-id:reply-to; bh=fHFyHcSI9tkAVzM0FOCVe2ZNcAlB7c9RjOgrzCZ+nzA=; b=MvvjoPTvSVHsftpuXDR0wCNxKbhLXWQ2G3hEsnwOTstbMYzODdafiDyOwZfaQukVmo t93JLWmRDdj1gE+Ojz4ihYYIQ3gC6xMMRn7CapAFvHCTu4u0m2z7YJyANVTYwyfk45cL B8fGJ9DJrBxqoq/uxZiNwFwKwJViwShtepRbk= X-Google-DKIM-Signature: v=1; a=rsa-sha256; c=relaxed/relaxed; d=1e100.net; s=20230601; t=1762980045; x=1763584845; h=cc:to:from:subject:message-id:date:x-gm-gg:x-gm-message-state:from :to:cc:subject:date:message-id:reply-to; bh=fHFyHcSI9tkAVzM0FOCVe2ZNcAlB7c9RjOgrzCZ+nzA=; b=vgs6PtgZtSllqM+9WvTKV5SCGtpB4opP4R+6O9wOjFlWn0SAnEvjPYdyNbYbVFQzs9 RTW1xAHsbRFprag50R3ZfQTzsy6p9jS3tidqtiqeuSvhvDJa0Qi0HmbFBCCSgq+sCrmh zpRTXCIcF5N0unhJ+SZ599F5LU6oAvB5vwg3H02cIkRoYUaAq5XRN5HoguhK8hJ/qjp5 9Wc3slAiRpwVbu1+P2MMWeNaIK3ffOFoPQTFJwf7M9Gx0dGg9QlYNJNYVKE/nZJ+hoX8 FdEmCxEsj5kO9ONgEjh8HF94ZI8TspPdUX0/QAWo30bJvgTl/ll7e/tfZyRX3Mq4vQ+F mzLg== X-Gm-Message-State: AOJu0Yxx6+2nxbOaNRr3QZl1VBAZ36+GYrMq4Cmgl2dZQYfQm9DJfItW OWcKX2BVXF5FdHol+bLmLs0PKpFhE1Cg5WiURDRiNkJrpxL850rp1HAjJFKakOHSDLy/FQzwzAK TgGQ9a6fc5a59LQVga0wtX3iBdAG+2Mo3y3hoRT6Eo3CN X-Gm-Gg: ASbGncuWscvGpAHyMv9NszCVPH9Qi2mvaonenyOFFGh/fNv7JLsAuUHZZPLGKQdEO3F IH+2u/2UvpN1KfE+zR12XCyXYwnwWgk302AofGgG/EOs70ee9nKBrpEcWrQ8nNJP9a4MI7n5oCy nBov7DZkYMXjBegpLhF+Dq1HCaL/wgc7tA+ez5/klPQED9rckNzk9R+XfMmmlZcl2lEBOfAjy9W SzH0SwbQYYd2kuOg/tpaMrcM2OY44XZwP/2VJvQ/iXJ12aygT7RDzLW9Y+zmR5KsobjL9kKh/GG LusCeWwQe/kWBWx4o0AbOTjpR2DYfAM6jQtTl1LJLI3JMirpYrgsIhfRAlMMrN6PA4OS0zsNlhf G+UzOIv5qxHoaSRriNqslQf3fKERaLrs= X-Google-Smtp-Source: AGHT+IFDOACyXyYXS0GUrUWIkHcUbyvHwrS7P03OaQgBi0EVLkVrkgK1W0wZzY0sl4t63o51A0cl1cVjSY+c X-Received: by 2002:a05:6122:678f:b0:559:ef6b:1efb with SMTP id 71dfb90a1353d-559ef6b5310mr1018063e0c.11.1762980044950; Wed, 12 Nov 2025 12:40:44 -0800 (PST) Received: from postal.iol.unh.edu (postal.iol.unh.edu. [132.177.123.84]) by smtp-relay.gmail.com with ESMTPS id 71dfb90a1353d-55b0f430ea7sm6182e0c.3.2025.11.12.12.40.44 (version=TLS1_2 cipher=ECDHE-ECDSA-AES128-GCM-SHA256 bits=128/128); Wed, 12 Nov 2025 12:40:44 -0800 (PST) X-Relaying-Domain: iol.unh.edu Date: Wed, 12 Nov 2025 12:40:44 -0800 (PST) Message-ID: <6914f0cc.050a0220.249538.05bfSMTPIN_ADDED_MISSING@mx.google.com> Received: from [172.21.0.2] (unknown [172.18.0.240]) by postal.iol.unh.edu (Postfix) with ESMTP id 99B5A6050A61; Wed, 12 Nov 2025 15:40:44 -0500 (EST) Subject: |SUCCESS| [GIT MASTER] be0112878b4fc3a1b918370ed2fe615c52039d77 From: dpdklab@iol.unh.edu To: Test Report Cc: dpdk-test-reports@iol.unh.edu Content-Type: text/plain X-BeenThere: test-report@dpdk.org X-Mailman-Version: 2.1.29 Precedence: list List-Id: automatic DPDK test reports List-Unsubscribe: , List-Archive: List-Post: List-Help: List-Subscribe: , Errors-To: test-report-bounces@dpdk.org _Testing PASS_ Branch: dpdk be0112878b4fc3a1b918370ed2fe615c52039d77 --> testing pass Upstream job id: Generic-Unit-Test-DPDK#391267 Test environment and result as below: +------------------------------+----------------+--------------+---------------------------+------------------------------+ | Environment | dpdk_unit_test | lpm_autotest | cryptodev_sw_zuc_autotest | cryptodev_sw_snow3g_autotest | +==============================+================+==============+===========================+==============================+ | Ubuntu 20.04 | PASS | PASS | SKIPPED | SKIPPED | +------------------------------+----------------+--------------+---------------------------+------------------------------+ | Fedora Linux 40 | PASS | SKIPPED | SKIPPED | SKIPPED | +------------------------------+----------------+--------------+---------------------------+------------------------------+ | Ubuntu 24.04 | PASS | SKIPPED | SKIPPED | SKIPPED | +------------------------------+----------------+--------------+---------------------------+------------------------------+ | Red Hat Enterprise Linux 9.5 | PASS | SKIPPED | SKIPPED | SKIPPED | +------------------------------+----------------+--------------+---------------------------+------------------------------+ | Ubuntu 22.04 | PASS | SKIPPED | SKIPPED | SKIPPED | +------------------------------+----------------+--------------+---------------------------+------------------------------+ | CentOS Stream 9 | PASS | SKIPPED | SKIPPED | SKIPPED | +------------------------------+----------------+--------------+---------------------------+------------------------------+ | Debian GNU/Linux 12 | PASS | SKIPPED | SKIPPED | SKIPPED | +------------------------------+----------------+--------------+---------------------------+------------------------------+ | Fedora Linux 42 | PASS | SKIPPED | SKIPPED | SKIPPED | +------------------------------+----------------+--------------+---------------------------+------------------------------+ | CentOS Stream 10 | PASS | SKIPPED | SKIPPED | SKIPPED | +------------------------------+----------------+--------------+---------------------------+------------------------------+ | Fedora Linux 41 | PASS | SKIPPED | SKIPPED | SKIPPED | +------------------------------+----------------+--------------+---------------------------+------------------------------+ | Debian 12 (arm) | SKIPPED | SKIPPED | PASS | PASS | +------------------------------+----------------+--------------+---------------------------+------------------------------+ Ubuntu 20.04 Kernel: 5.4 Compiler: gcc gcc (Ubuntu 9.4.0-1ubuntu1~20.04.2) 9.4.0 Fedora Linux 40 Kernel: 5.4 Compiler: clang gcc (GCC) 14.2.1 20240912 (Red Hat 14.2.1-3) Ubuntu 24.04 Kernel: 5.4 Compiler: gcc gcc (Ubuntu 13.3.0-6ubuntu2~24.04) 13.3.0 Red Hat Enterprise Linux 9.5 Kernel: 5.4 Compiler: gcc gcc (GCC) 11.5.0 20240719 (Red Hat 11.5.0-2) Ubuntu 22.04 Kernel: 5.15 Compiler: gcc gcc (Ubuntu 11.4.0-1ubuntu1~22.04.2) 11.4.0 CentOS Stream 9 Kernel: 5.4 Compiler: gcc gcc (GCC) 11.5.0 20240719 (Red Hat 11.5.0-11) Debian GNU/Linux 12 Kernel: 5.4 Compiler: gcc gcc (Debian 12.2.0-14+deb12u1) 12.2.0 Fedora Linux 42 Kernel: 5.4 Compiler: clang gcc (GCC) 15.2.1 20250808 (Red Hat 15.2.1-1) CentOS Stream 10 Kernel: 5.4 Compiler: gcc gcc (GCC) 14.2.1 20250110 (Red Hat 14.2.1-8) Fedora Linux 41 Kernel: 5.4 Compiler: clang gcc (GCC) 14.3.1 20250523 (Red Hat 14.3.1-1) Debian 12 (arm) Kernel: Depends on container host Compiler: gcc (Debian 12.2.0-14) 12.2.0 To view detailed results, visit: https://lab.dpdk.org/results/dashboard/tarballs/35547/ UNH-IOL DPDK Community Lab To manage your email subscriptions, visit: https://lab.dpdk.org/results/dashboard/preferences/subscriptions/