From mboxrd@z Thu Jan 1 00:00:00 1970 Return-Path: Received: from mails.dpdk.org (mails.dpdk.org [217.70.189.124]) by inbox.dpdk.org (Postfix) with ESMTP id 9209A48ACF for ; Wed, 12 Nov 2025 21:56:02 +0100 (CET) Received: from mails.dpdk.org (localhost [127.0.0.1]) by mails.dpdk.org (Postfix) with ESMTP id 8D37240151; Wed, 12 Nov 2025 21:56:02 +0100 (CET) Received: from mail-yx1-f97.google.com (mail-yx1-f97.google.com [74.125.224.97]) by mails.dpdk.org (Postfix) with ESMTP id 6E8D240151 for ; Wed, 12 Nov 2025 21:56:01 +0100 (CET) Received: by mail-yx1-f97.google.com with SMTP id 956f58d0204a3-63bc1aeb427so60995d50.3 for ; Wed, 12 Nov 2025 12:56:01 -0800 (PST) DKIM-Signature: v=1; a=rsa-sha256; c=relaxed/relaxed; d=iol.unh.edu; s=unh-iol; t=1762980961; x=1763585761; darn=dpdk.org; h=references:in-reply-to:cc:to:from:subject:message-id:date:from:to :cc:subject:date:message-id:reply-to; bh=xjcwlv1P3LNu7n0KqU4W3v7/n64YV9YHmxlGlZQJnXI=; b=W+1HYlJOnrVlZ9ya3/1VsLa5ftMTUEtXAqHjhst/OqOhskXo2X+YJMP/WxpCaOoGbR 0Btz9M2wEbZtVAartPBRjUhfKF1wuE8zXGYzfkMzwS6OxlCA9IiLL5vBNDdl+SL5EJNd j8gts4EHN1YLj72lykI/8z8v4KBkykt84Iy1Y= X-Google-DKIM-Signature: v=1; a=rsa-sha256; c=relaxed/relaxed; d=1e100.net; s=20230601; t=1762980961; x=1763585761; h=references:in-reply-to:cc:to:from:subject:message-id:date:x-gm-gg :x-gm-message-state:from:to:cc:subject:date:message-id:reply-to; bh=xjcwlv1P3LNu7n0KqU4W3v7/n64YV9YHmxlGlZQJnXI=; b=FcIgzT/E/O/NUYaPWv/OXBEEvJZ6o0ReFQjUub4kumwhuRf2lHqeshhXrX8LoFx+7V 7KCeo57byCv6nFvMXvHbXQwofwvCmfP3iv7++2beD2ANBdDELsfvizShJWCxrfvVafeS usQzm23j1jgIAJMTvGU4Kxijdeh7B26pP6tRr95PhQbxYMf/DQE65jkwBXHI6gBBcYuE VSUITHzmMccjrLITeImyGrDYvkCpsbW2Ibj0/ve0T+IBUV9xaJy5316CXD7qNG+KcSil kyxVXBjyNtYKEgec1h1lcpVZTpHeaTMe4SevUEoEVmY11jtR3wxaOPyQ3Tzpv7I0vHw3 oxhg== X-Gm-Message-State: AOJu0Yw12zhMwPC+fui6N8YvzCN4pBMHFw/gpBzZuPAEqvB2yJtMqles 5Ipgk4Ra/XG5KujHzUIbJoPNzyuFMDH+tr0lI28rBpm17n28F5NPZ1/0ze6hDy5wQCpCBF6G1Ga K7PkKpr7WCi1b1Fd18+J+pgNHRtsMOXexoi1zmdp8pPFg X-Gm-Gg: ASbGnctxE0WE5/5Y5tG0XWSIxMKHMQW4Xcf063U9WZBZsr95jCm/X3/BUwLj63h9wwx RAq6m+npVSGeqbQVMJsyMWZTHaCIugQvlcaRQJ4wThr+949hQkENRHkVeIiMdgtW/zxpKvj5G7A YPXRHh1ygCH2HnN6+IjDA4vixd931Mk5+gAv6AJy5FKtzctMN1CiyUyBA3O4pJZku9gt5fS5wwt Zp9NHqrO13TKCynh+umGTwg0o2GN2hrP2BFyS8AGai2kiIaB2N93yZuUfjoCOovYASxhxjrHEEN q6wQLGqHJ6s6Addx8c83Dn1WVTBN2ySRCjpeI+Ox25S89O/tWI96pse0AwV22SVnK2ico8gOtFj Jy7mtcwa36HuQqVnympdKryio7QYX/TY= X-Google-Smtp-Source: AGHT+IF55geFwcf6j+FTFwtJaXzOM4pgE73/erqPJt4o60CtcoS9GqOZqY7cWQNMWdZUHNobSgyup9Ziyltd X-Received: by 2002:a05:690e:80e:b0:63f:b7da:17b8 with SMTP id 956f58d0204a3-64101a850f3mr2875917d50.30.1762980960773; Wed, 12 Nov 2025 12:56:00 -0800 (PST) Received: from postal.iol.unh.edu (postal.iol.unh.edu. [132.177.123.84]) by smtp-relay.gmail.com with ESMTPS id 956f58d0204a3-6410ea165c0sm1255d50.7.2025.11.12.12.56.00 (version=TLS1_2 cipher=ECDHE-ECDSA-AES128-GCM-SHA256 bits=128/128); Wed, 12 Nov 2025 12:56:00 -0800 (PST) X-Relaying-Domain: iol.unh.edu Date: Wed, 12 Nov 2025 12:56:00 -0800 (PST) Message-ID: <6914f460.050a0220.6846e.0112SMTPIN_ADDED_MISSING@mx.google.com> Received: from [172.21.0.3] (unknown [172.18.0.240]) by postal.iol.unh.edu (Postfix) with ESMTP id 483426050A61; Wed, 12 Nov 2025 15:56:00 -0500 (EST) Subject: |SUCCESS| pw158696-158697 [PATCH] [v3,2/2] test/crypto: add QAT AES- From: dpdklab@iol.unh.edu To: Test Report Cc: dpdk-test-reports@iol.unh.edu, Akhil Goyal In-Reply-To: <20251112101911.2377840-2-emma.finn@intel.com> References: <20251112101911.2377840-2-emma.finn@intel.com> Content-Type: text/plain X-BeenThere: test-report@dpdk.org X-Mailman-Version: 2.1.29 Precedence: list List-Id: automatic DPDK test reports List-Unsubscribe: , List-Archive: List-Post: List-Help: List-Subscribe: , Errors-To: test-report-bounces@dpdk.org Test-Label: iol-compile-amd64-testing Test-Status: SUCCESS http://dpdk.org/patch/158697 _Testing PASS_ Submitter: Emma Finn Date: Wednesday, November 12 2025 10:19:11 DPDK git baseline: Repo:dpdk-next-crypto Branch: master CommitID:8ae4f1d511226fd65a979e9f8a1e51835281a59b 158696-158697 --> testing pass Upstream job id: Generic-DPDK-Compile-Meson#443397 Test environment and result as below: +-------------------------------+--------------------+------------------+ | Environment | dpdk_meson_compile | dpdk_compile_ovs | +===============================+====================+==================+ | FreeBSD 14.2 | PASS | SKIPPED | +-------------------------------+--------------------+------------------+ | Ubuntu 20.04 | PASS | SKIPPED | +-------------------------------+--------------------+------------------+ | CentOS Stream 9 | PASS | SKIPPED | +-------------------------------+--------------------+------------------+ | CentOS Stream 10 | PASS | SKIPPED | +-------------------------------+--------------------+------------------+ | Debian GNU/Linux 12 | PASS | SKIPPED | +-------------------------------+--------------------+------------------+ | Fedora Linux 42 | PASS | PASS | +-------------------------------+--------------------+------------------+ | openSUSE Leap 15.6 | PASS | SKIPPED | +-------------------------------+--------------------+------------------+ | Red Hat Enterprise Linux 8.10 | PASS | SKIPPED | +-------------------------------+--------------------+------------------+ | Red Hat Enterprise Linux 9.5 | PASS | SKIPPED | +-------------------------------+--------------------+------------------+ | Ubuntu 22.04 | PASS | SKIPPED | +-------------------------------+--------------------+------------------+ | Ubuntu 24.04 | PASS | PASS | +-------------------------------+--------------------+------------------+ | Alpine Linux 3.22.0 | PASS | SKIPPED | +-------------------------------+--------------------+------------------+ FreeBSD 14.2 Kernel: 14.2-RELEASE Compiler: clang 18.1.6 Ubuntu 20.04 Kernel: 4.19 Compiler: gcc gcc (Ubuntu 9.4.0-1ubuntu1~20.04.2) 9.4.0 CentOS Stream 9 Kernel: 5.15 Compiler: gcc gcc (GCC) 11.5.0 20240719 (Red Hat 11.5.0-11) CentOS Stream 10 Kernel: 5.15 Compiler: gcc gcc (GCC) 14.2.1 20250110 (Red Hat 14.2.1-8) Debian GNU/Linux 12 Kernel: 5.15 Compiler: gcc gcc (Debian 12.2.0-14+deb12u1) 12.2.0 Fedora Linux 42 Kernel: 5.15 Compiler: clang gcc (GCC) 15.2.1 20250808 (Red Hat 15.2.1-1) openSUSE Leap 15.6 Kernel: 5.15 Compiler: gcc gcc (SUSE Linux) 7.5.0 Red Hat Enterprise Linux 8.10 Kernel: 5.15 Compiler: gcc gcc (GCC) 8.5.0 20210514 (Red Hat 8.5.0-22) Red Hat Enterprise Linux 9.5 Kernel: 5.15 Compiler: gcc gcc (GCC) 11.5.0 20240719 (Red Hat 11.5.0-2) Ubuntu 22.04 Kernel: 5.15 Compiler: gcc gcc (Ubuntu 11.4.0-1ubuntu1~22.04) 11.4.0 Ubuntu 24.04 Kernel: 5.15 Compiler: gcc gcc (Ubuntu 13.3.0-6ubuntu2~24.04) 13.3.0 Alpine Linux 3.22.0 Kernel: 5.15 Compiler: gcc gcc (Alpine 14.2.0) 14.2.0 To view detailed results, visit: https://lab.dpdk.org/results/dashboard/patchsets/34546/ UNH-IOL DPDK Community Lab To manage your email subscriptions, visit: https://lab.dpdk.org/results/dashboard/preferences/subscriptions/