From mboxrd@z Thu Jan 1 00:00:00 1970 Return-Path: Received: from mails.dpdk.org (mails.dpdk.org [217.70.189.124]) by inbox.dpdk.org (Postfix) with ESMTP id B189C48ADE for ; Wed, 12 Nov 2025 21:57:13 +0100 (CET) Received: from mails.dpdk.org (localhost [127.0.0.1]) by mails.dpdk.org (Postfix) with ESMTP id AC43240151; Wed, 12 Nov 2025 21:57:13 +0100 (CET) Received: from mail-qt1-f227.google.com (mail-qt1-f227.google.com [209.85.160.227]) by mails.dpdk.org (Postfix) with ESMTP id 56B0E40151 for ; Wed, 12 Nov 2025 21:57:13 +0100 (CET) Received: by mail-qt1-f227.google.com with SMTP id d75a77b69052e-4eda77e2358so636251cf.1 for ; Wed, 12 Nov 2025 12:57:13 -0800 (PST) DKIM-Signature: v=1; a=rsa-sha256; c=relaxed/relaxed; d=iol.unh.edu; s=unh-iol; t=1762981033; x=1763585833; darn=dpdk.org; h=references:in-reply-to:cc:to:from:subject:message-id:date:from:to :cc:subject:date:message-id:reply-to; bh=JRE7DdErrQ+xNQjEv93gDBpyD+H0OhWVv7JmJjW1oEY=; b=MAanOHr90f251EUnAcEvMjDYh+iTCvV1FhKoSOAAyG6IU0SOsDhFt3rEIhU63uEvSS XC5XJLL3aMMfCqXPj6kOlK7q4aC6yKYPCMp5MTcHxKDAq9yut5H8AOIOIdCBpWqP2MPL COKivrD+S6XbZ+e6aN9lYVb0r/acUH130gsWU= X-Google-DKIM-Signature: v=1; a=rsa-sha256; c=relaxed/relaxed; d=1e100.net; s=20230601; t=1762981033; x=1763585833; h=references:in-reply-to:cc:to:from:subject:message-id:date:x-gm-gg :x-gm-message-state:from:to:cc:subject:date:message-id:reply-to; bh=JRE7DdErrQ+xNQjEv93gDBpyD+H0OhWVv7JmJjW1oEY=; b=ayTO5Z6P6BgATQd9DVdChVpvQ3wguO3JAi5th0SKJr35VH19zECl7oHdBGq8gKpv71 hYE6XpP+TX0dS76QLPD/gltGMv8z2KOOXCbecyO0NBthglCA4rxtht68RFBGxxypwNLH Z2G4KkdkmbllmQ6yliCRkDL1Nxd/ScZ0Es17oqLnAnwRxUOX625A6rIfErYw0OtIOflR W+mhMus+i1+gcN0WIzq9TSYgx1ptH/iO016f+2uJ4U4ZgV8ZkDQkzuh1gAhhs+pdyptK V2SKTRIc+KZ6bTc8oNeCIecXeQ2ivdL0i60N3p8wfxIw+ON9XowBkPqN88zVe5G2cbhj Yl0g== X-Gm-Message-State: AOJu0YxH/9iiAFN8OOuL+2UdF5X9SAOr/hGy0nJjnyoiht8pE17WNLyH pgBr148BmtVF6Sk2L73dZs6O8yF6grSq0TSUnxYfuvcC5VPxRC3yYAOq5AggQ2gTkOxdVICBx61 yzwHinGQI5p1LKsEMNRSWwAORmsHc6CW5dfyxC2xGub/j4GfxGueHjlJK04L/ X-Gm-Gg: ASbGnctexy9qDGp225BqiX16zco4cYKFGazm9fow/+gdqsI6rQ2MasAXfK1hCfxz7RK L2CRt1iNnfF7z9E3yMnAxJuP8R61GDXvH5HD4Gly4jMnYN2xFPYdqzQ4UjUpipNCMAvy21iQz9+ tnMhq5NO2jJFNqYtBJRxeQSx6fCY0EJAeaxkXslIDyL0Do1GiTuw9o2uZF6o0mfwGJJMIK9kqqV tGGrffjCDKObQ3YXmHrcEHCpsi5yRfQo1chhllZkL/dkr8dbxRHE9HMJLXoZkeC0AUENKsVLwsT huY6S27n99CJjVwjS5vVnqWlDnQJoIEOGxOvjgcM+ZBB3UprbpLppn8voiY/OXOZcJIh7xHagEQ ZbyEcnNJW X-Google-Smtp-Source: AGHT+IEh8ujlJ35BULsJKoym5vEhP7n/f9HxiEM95C8m6CPX40IDeVPqq0ZGigGkPfvgM6/c8XBwyXkBGOP2 X-Received: by 2002:a05:622a:3ca:b0:4ed:ae8e:cc73 with SMTP id d75a77b69052e-4eddbda79d2mr56647611cf.65.1762981032693; Wed, 12 Nov 2025 12:57:12 -0800 (PST) Received: from postal.iol.unh.edu (postal.iol.unh.edu. [2606:4100:3880:1234::84]) by smtp-relay.gmail.com with ESMTPS id 6a1803df08f44-88238b215dfsm15203596d6.22.2025.11.12.12.57.12 (version=TLS1_2 cipher=ECDHE-ECDSA-AES128-GCM-SHA256 bits=128/128); Wed, 12 Nov 2025 12:57:12 -0800 (PST) X-Relaying-Domain: iol.unh.edu Date: Wed, 12 Nov 2025 12:57:12 -0800 (PST) Message-ID: <6914f4a8.050a0220.2a5f47.c882SMTPIN_ADDED_MISSING@mx.google.com> Received: from [172.21.0.2] (unknown [172.18.0.240]) by postal.iol.unh.edu (Postfix) with ESMTP id 62DF46050A61; Wed, 12 Nov 2025 15:57:12 -0500 (EST) Subject: |SUCCESS| pw158707-158710 [PATCH] [v2,4/4] test: vary size of packet From: dpdklab@iol.unh.edu To: Test Report Cc: dpdk-test-reports@iol.unh.edu In-Reply-To: <20251112181421.285119-5-stephen@networkplumber.org> References: <20251112181421.285119-5-stephen@networkplumber.org> Content-Type: text/plain X-BeenThere: test-report@dpdk.org X-Mailman-Version: 2.1.29 Precedence: list List-Id: automatic DPDK test reports List-Unsubscribe: , List-Archive: List-Post: List-Help: List-Subscribe: , Errors-To: test-report-bounces@dpdk.org Test-Label: iol-unit-amd64-testing Test-Status: SUCCESS http://dpdk.org/patch/158710 _Testing PASS_ Submitter: Stephen Hemminger Date: Wednesday, November 12 2025 18:12:50 DPDK git baseline: Repo:dpdk Branch: master CommitID:be0112878b4fc3a1b918370ed2fe615c52039d77 158707-158710 --> testing pass Upstream job id: Generic-Unit-Test-DPDK#391678 Test environment and result as below: +-------------------------------+----------------+ | Environment | dpdk_unit_test | +===============================+================+ | Fedora Linux 40 | PASS | +-------------------------------+----------------+ | CentOS Stream 9 | PASS | +-------------------------------+----------------+ | Fedora Linux 41 | PASS | +-------------------------------+----------------+ | CentOS Stream 10 | PASS | +-------------------------------+----------------+ | Debian GNU/Linux 12 | PASS | +-------------------------------+----------------+ | Fedora Linux 42 | PASS | +-------------------------------+----------------+ | Ubuntu 22.04 | PASS | +-------------------------------+----------------+ | Red Hat Enterprise Linux 8.10 | PASS | +-------------------------------+----------------+ | Ubuntu 24.04 | PASS | +-------------------------------+----------------+ | Ubuntu 20.04 | PASS | +-------------------------------+----------------+ | Red Hat Enterprise Linux 9.5 | PASS | +-------------------------------+----------------+ Fedora Linux 40 Kernel: 5.15 Compiler: clang gcc (GCC) 14.2.1 20240912 (Red Hat 14.2.1-3) CentOS Stream 9 Kernel: 5.15 Compiler: gcc gcc (GCC) 11.5.0 20240719 (Red Hat 11.5.0-11) Fedora Linux 41 Kernel: 5.15 Compiler: clang gcc (GCC) 14.3.1 20250523 (Red Hat 14.3.1-1) CentOS Stream 10 Kernel: 5.15 Compiler: gcc gcc (GCC) 14.2.1 20250110 (Red Hat 14.2.1-8) Debian GNU/Linux 12 Kernel: 5.15 Compiler: gcc gcc (Debian 12.2.0-14+deb12u1) 12.2.0 Fedora Linux 42 Kernel: 5.15 Compiler: gcc gcc (GCC) 15.2.1 20250808 (Red Hat 15.2.1-1) Ubuntu 22.04 Kernel: 5.15 Compiler: gcc gcc (Ubuntu 11.4.0-1ubuntu1~22.04) 11.4.0 Red Hat Enterprise Linux 8.10 Kernel: 5.15 Compiler: gcc gcc (GCC) 8.5.0 20210514 (Red Hat 8.5.0-22) Ubuntu 24.04 Kernel: 5.15 Compiler: gcc gcc (Ubuntu 13.3.0-6ubuntu2~24.04) 13.3.0 Ubuntu 20.04 Kernel: 5.15 Compiler: gcc gcc (Ubuntu 9.4.0-1ubuntu1~20.04.2) 9.4.0 Red Hat Enterprise Linux 9.5 Kernel: 5.15 Compiler: gcc gcc (GCC) 11.5.0 20240719 (Red Hat 11.5.0-2) To view detailed results, visit: https://lab.dpdk.org/results/dashboard/patchsets/34559/ UNH-IOL DPDK Community Lab To manage your email subscriptions, visit: https://lab.dpdk.org/results/dashboard/preferences/subscriptions/