From mboxrd@z Thu Jan 1 00:00:00 1970 Return-Path: Received: from mails.dpdk.org (mails.dpdk.org [217.70.189.124]) by inbox.dpdk.org (Postfix) with ESMTP id 2426B48AE3 for ; Wed, 12 Nov 2025 22:01:02 +0100 (CET) Received: from mails.dpdk.org (localhost [127.0.0.1]) by mails.dpdk.org (Postfix) with ESMTP id 08E1C40151; Wed, 12 Nov 2025 22:01:02 +0100 (CET) Received: from mail-yx1-f100.google.com (mail-yx1-f100.google.com [74.125.224.100]) by mails.dpdk.org (Postfix) with ESMTP id 6D2B940151 for ; Wed, 12 Nov 2025 22:01:01 +0100 (CET) Received: by mail-yx1-f100.google.com with SMTP id 956f58d0204a3-63f97c4eccaso69484d50.2 for ; Wed, 12 Nov 2025 13:01:01 -0800 (PST) DKIM-Signature: v=1; a=rsa-sha256; c=relaxed/relaxed; d=iol.unh.edu; s=unh-iol; t=1762981261; x=1763586061; darn=dpdk.org; h=references:in-reply-to:cc:to:from:subject:message-id:date:from:to :cc:subject:date:message-id:reply-to; bh=UYp2PQ1mCK/DyBKJzD7HJ0L/BW766mfv8FFxBGYLmYo=; b=OPblTOvHRkOGn7yQv2V7jD666cfnzi0hWMVRNBlPxrEKar2xY7vIVsSpwniPmIx2VW 1/5LDYvz49j8dJ/lIFNVVKdtmmqNGV6cjkDK57XBXkt239ny6E8/9QJkF7/FI4pSJVn6 yFXE1P1OQFjqEsQYxsEju0IIWSL23aJeLP+oU= X-Google-DKIM-Signature: v=1; a=rsa-sha256; c=relaxed/relaxed; d=1e100.net; s=20230601; t=1762981261; x=1763586061; h=references:in-reply-to:cc:to:from:subject:message-id:date:x-gm-gg :x-gm-message-state:from:to:cc:subject:date:message-id:reply-to; bh=UYp2PQ1mCK/DyBKJzD7HJ0L/BW766mfv8FFxBGYLmYo=; b=vz+kfL84pdtRVIZGLyv2ICVi54DXFCCj8H5o3i8PTtGDSHCAwYmksfTsZ9nt8w2qKQ cNpOMruLo+y+oKKWUQfS2BJ0K65Q8hUDwf1CEjtd7RWLtWwRTSRxx5KfEO6msVlOcpge 2nxJR6awsigt7dlFQK6rcTYs/LBX7/jRoWxkE9jp4jJaPnAvmbxenV5uBfSqkO4jdwBC wDZxA9kFbc3Ph8xR0DDo1XKTZZ5KtAhMBKd/UZRbRtHeAL05G84o8feX925nwi4qQAyO GOJQiN8lb2MpzHwU73R7e+sJ5r/cxpHtF5bbaWZ1O0Mfi0GNuSIb5SgXrvh4tkB/sgBa /41A== X-Gm-Message-State: AOJu0YzLtlKt+D+ti1kfausDlnvTyMY9G5KBYSc5ezTLyj2yhzjCuDlw a4J5/QrUATm+fwX40zwU47Nr4OebJNAdDdGgOf5K2T45/nLn6JbYP7BvumBTh/0vsxYQRx2iuPN JzdGwYX0ZVnrY9lhzkdtL3dulcVfKtUSIYZzLaim5Harj+ZmeHXqsl3d8be55 X-Gm-Gg: ASbGnctS3Mkvn3QNAknanJCijieKktUZ730ONNI2Lm4w9cEG2R0QFEY8gCKGXbtfF+r 1z9zt24Od+jMfpxLMzk2CQFNB9o/nYRhAJVbR+wQx+gaXVNNBop56L2vMH7bCIRufmoindZS4+6 dOgQ6e/Mj/xXze6i7c9GLJ4tcyrvdZvwdA1l5SRm4rDfSIK6XaFvjkPS/bPIVpqd0Bv0RvMgeXi UsHxlJvhPpVcKe/L30h3aSyvslGiZyrH1vQaUvExPUulyxEnN8HjE108ZcXn1Olu6vE/na/a+C+ 7w1oQlPZSt5aPLUKxpZAGu4z0Q3AKrQ06ZFtah8CGtQvb0qe3gkqQ8Ez6/BZwInccAd8USBmV1P SFhsSWxTl X-Google-Smtp-Source: AGHT+IGtgFKCuF7pDEhDLCKdS9yhxlwFjLYHOwDh0hnpr99d3uHJ8RhfplkYkwGStCE3cyVTN7e4yB62Dz5m X-Received: by 2002:a05:690e:1544:20b0:640:cdf9:eda9 with SMTP id 956f58d0204a3-64101b3bddbmr3270654d50.55.1762981260731; Wed, 12 Nov 2025 13:01:00 -0800 (PST) Received: from postal.iol.unh.edu (postal.iol.unh.edu. [2606:4100:3880:1234::84]) by smtp-relay.gmail.com with ESMTPS id 956f58d0204a3-6410ea165c0sm1964d50.7.2025.11.12.13.01.00 (version=TLS1_2 cipher=ECDHE-ECDSA-AES128-GCM-SHA256 bits=128/128); Wed, 12 Nov 2025 13:01:00 -0800 (PST) X-Relaying-Domain: iol.unh.edu Date: Wed, 12 Nov 2025 13:01:00 -0800 (PST) Message-ID: <6914f58c.050a0220.6846e.01b4SMTPIN_ADDED_MISSING@mx.google.com> Received: from [172.21.0.3] (unknown [172.18.0.240]) by postal.iol.unh.edu (Postfix) with ESMTP id 616CE6050A61; Wed, 12 Nov 2025 16:01:00 -0500 (EST) Subject: |SUCCESS| pw158699 [PATCH] net/ice: fix path selection for QinQ Tx o From: dpdklab@iol.unh.edu To: Test Report Cc: dpdk-test-reports@iol.unh.edu, Bruce Richardson In-Reply-To: <20251112115726.1286735-1-bruce.richardson@intel.com> References: <20251112115726.1286735-1-bruce.richardson@intel.com> Content-Type: text/plain X-BeenThere: test-report@dpdk.org X-Mailman-Version: 2.1.29 Precedence: list List-Id: automatic DPDK test reports List-Unsubscribe: , List-Archive: List-Post: List-Help: List-Subscribe: , Errors-To: test-report-bounces@dpdk.org Test-Label: iol-compile-amd64-testing Test-Status: SUCCESS http://dpdk.org/patch/158699 _Testing PASS_ Submitter: Bruce Richardson Date: Wednesday, November 12 2025 11:57:26 DPDK git baseline: Repo:dpdk-next-net-intel Branch: master CommitID:1655dc989bc95fa85fc76d32912d2e46c0851148 158699 --> testing pass Upstream job id: Generic-DPDK-Compile-Meson#443402 Test environment and result as below: +-------------------------------+--------------------+------------------+ | Environment | dpdk_meson_compile | dpdk_compile_ovs | +===============================+====================+==================+ | Ubuntu 20.04 | PASS | SKIPPED | +-------------------------------+--------------------+------------------+ | FreeBSD 14.2 | PASS | SKIPPED | +-------------------------------+--------------------+------------------+ | CentOS Stream 9 | PASS | SKIPPED | +-------------------------------+--------------------+------------------+ | CentOS Stream 10 | PASS | SKIPPED | +-------------------------------+--------------------+------------------+ | Debian GNU/Linux 12 | PASS | SKIPPED | +-------------------------------+--------------------+------------------+ | Fedora Linux 42 | PASS | PASS | +-------------------------------+--------------------+------------------+ | openSUSE Leap 15.6 | PASS | SKIPPED | +-------------------------------+--------------------+------------------+ | Red Hat Enterprise Linux 8.10 | PASS | SKIPPED | +-------------------------------+--------------------+------------------+ | Red Hat Enterprise Linux 9.5 | PASS | SKIPPED | +-------------------------------+--------------------+------------------+ | Ubuntu 22.04 | PASS | SKIPPED | +-------------------------------+--------------------+------------------+ | Ubuntu 24.04 | PASS | PASS | +-------------------------------+--------------------+------------------+ | Alpine Linux 3.22.0 | PASS | SKIPPED | +-------------------------------+--------------------+------------------+ Ubuntu 20.04 Kernel: 4.19 Compiler: gcc gcc (Ubuntu 9.4.0-1ubuntu1~20.04.2) 9.4.0 FreeBSD 14.2 Kernel: 14.2-RELEASE Compiler: clang 18.1.6 CentOS Stream 9 Kernel: 5.15 Compiler: gcc gcc (GCC) 11.5.0 20240719 (Red Hat 11.5.0-11) CentOS Stream 10 Kernel: 5.15 Compiler: gcc gcc (GCC) 14.2.1 20250110 (Red Hat 14.2.1-8) Debian GNU/Linux 12 Kernel: 5.15 Compiler: gcc gcc (Debian 12.2.0-14+deb12u1) 12.2.0 Fedora Linux 42 Kernel: 5.15 Compiler: clang gcc (GCC) 15.2.1 20250808 (Red Hat 15.2.1-1) openSUSE Leap 15.6 Kernel: 5.15 Compiler: gcc gcc (SUSE Linux) 7.5.0 Red Hat Enterprise Linux 8.10 Kernel: 5.15 Compiler: gcc gcc (GCC) 8.5.0 20210514 (Red Hat 8.5.0-22) Red Hat Enterprise Linux 9.5 Kernel: 5.15 Compiler: gcc gcc (GCC) 11.5.0 20240719 (Red Hat 11.5.0-2) Ubuntu 22.04 Kernel: 5.15 Compiler: gcc gcc (Ubuntu 11.4.0-1ubuntu1~22.04) 11.4.0 Ubuntu 24.04 Kernel: 5.15 Compiler: gcc gcc (Ubuntu 13.3.0-6ubuntu2~24.04) 13.3.0 Alpine Linux 3.22.0 Kernel: 5.15 Compiler: gcc gcc (Alpine 14.2.0) 14.2.0 To view detailed results, visit: https://lab.dpdk.org/results/dashboard/patchsets/34548/ UNH-IOL DPDK Community Lab To manage your email subscriptions, visit: https://lab.dpdk.org/results/dashboard/preferences/subscriptions/