From mboxrd@z Thu Jan 1 00:00:00 1970 Return-Path: Received: from mails.dpdk.org (mails.dpdk.org [217.70.189.124]) by inbox.dpdk.org (Postfix) with ESMTP id EC66548AE3 for ; Wed, 12 Nov 2025 23:43:12 +0100 (CET) Received: from mails.dpdk.org (localhost [127.0.0.1]) by mails.dpdk.org (Postfix) with ESMTP id CE87540151; Wed, 12 Nov 2025 23:43:12 +0100 (CET) Received: from mail-il1-f225.google.com (mail-il1-f225.google.com [209.85.166.225]) by mails.dpdk.org (Postfix) with ESMTP id 0802840151 for ; Wed, 12 Nov 2025 23:43:11 +0100 (CET) Received: by mail-il1-f225.google.com with SMTP id e9e14a558f8ab-4331709968fso855365ab.2 for ; Wed, 12 Nov 2025 14:43:10 -0800 (PST) DKIM-Signature: v=1; a=rsa-sha256; c=relaxed/relaxed; d=iol.unh.edu; s=unh-iol; t=1762987390; x=1763592190; darn=dpdk.org; h=references:in-reply-to:cc:to:from:subject:message-id:date:from:to :cc:subject:date:message-id:reply-to; bh=m58cypzCnMDhYT1tu3zFfd3/yrXMhHhvFvhFVxALv8g=; b=T5iELBnRT8CyqOU89LcWaaz5sXid4AnoFDjN3GW4RHDmbuB9ThBhkcddWVBcGqdIRf hT7LILfdux784/teIwRbz2mJlWQNNlMxaHxbKGQ2PW8n3eqxBUiP+V3eSj0HL20d6eAT Q7upbAe7f9YLXqrdD3nACqM8XNDJfHE743qsU= X-Google-DKIM-Signature: v=1; a=rsa-sha256; c=relaxed/relaxed; d=1e100.net; s=20230601; t=1762987390; x=1763592190; h=references:in-reply-to:cc:to:from:subject:message-id:date:x-gm-gg :x-gm-message-state:from:to:cc:subject:date:message-id:reply-to; bh=m58cypzCnMDhYT1tu3zFfd3/yrXMhHhvFvhFVxALv8g=; b=qwRpy/HJqh3F+qtOAEvn8Axtoc3bGX8oIrMtLEor3JrAnPgBvHgxx9kTtGUMyL0XGQ s7JE8Xi/09hafo3tnJBHYyfuPUfhAkhbGOrCThr12ffz0NxpaWxtElfjc57zKm6X44ga rv2kTfFfdrMikeTSR6RNinKLOT6Xm2/eQfWREKRMoeqyeP/LgzZowrwfASNj6hWh4f9k S9Cs7m+sOAzmhI6caojbaWj3jJi1AbvedsF0Z6iEQGPPDP/E8Wslx9ug6ue15YS6lzpx mu651X13XIqBl7LmvA3yxYNP4w+jzYSvmqOab+6knY5mqKhrkfNRQjWXkdlbzSsmMRHb PqsQ== X-Gm-Message-State: AOJu0Yw2171coOXc5kpuIBjx5i3Pd0wCHE2zubeTo5v1aDt2oX49Xsmm e4obmnggebB3y54DnA1r/3tA86hCTfkzsh8OU1q5fpY8vIUkYgCyqv4FHFYxAC7qrYMiUh27zOd 5/nEnRK/+e8teBsiDzZgv6VUSIrOGnp1d6EzllcN9vlTd X-Gm-Gg: ASbGncuI/6vi1oQt1k77tsHNQy7Mi4KYHCTIXFxwIL9EN1EOO9R/JdGMKyh1ie+MIdP /WQASsruYYI/lsfnksG+YK3LmwcgeMl131qJwZ7zUETEupKCdGB2S4i/Ke4Fi+oiVN48VO8cRj9 W8uihJrFhTIeGRQmxGr9UHEyQuNJ1eQliBETGNeVKIw3UeFec018d2Vq6r4a55YSacp/Wn61BU/ FgZQeADxnbWOuqhTj5NkBjrLe2zCGOi5aE7oZr72CHpHKQmRkHf8gu6+TSbt44Evx5LTW0Ua1u4 Bmme8tkp5dyIsjry7TlQcKRChpcDk90GkWhF8cALmXl9iSTW8o4txmwSKe++6MqRl6GM4pyN1Bn Lz6x1yZhLvwhF9ysXqWaN400kUdTqZTA= X-Google-Smtp-Source: AGHT+IEmge5UBUmpEqZsmFYJEUIgfu6UZqYbJvs71/WrETFN9/JNevD6IBM1uvyWCGg8ZCr4757XxlFcRVOj X-Received: by 2002:a05:6e02:3f04:b0:433:5e33:d41d with SMTP id e9e14a558f8ab-43473de7a53mr66788725ab.30.1762987390221; Wed, 12 Nov 2025 14:43:10 -0800 (PST) Received: from postal.iol.unh.edu (postal.iol.unh.edu. [132.177.123.84]) by smtp-relay.gmail.com with ESMTPS id 8926c6da1cb9f-5b7bd351dc4sm17942173.38.2025.11.12.14.43.10 (version=TLS1_2 cipher=ECDHE-ECDSA-AES128-GCM-SHA256 bits=128/128); Wed, 12 Nov 2025 14:43:10 -0800 (PST) X-Relaying-Domain: iol.unh.edu Date: Wed, 12 Nov 2025 14:43:10 -0800 (PST) Message-ID: <69150d7e.050a0220.2062c8.11aaSMTPIN_ADDED_MISSING@mx.google.com> Received: from [172.21.0.2] (unknown [172.18.0.240]) by postal.iol.unh.edu (Postfix) with ESMTP id B75A76051830; Wed, 12 Nov 2025 17:43:09 -0500 (EST) Subject: |SUCCESS| pw158684-158685 [PATCH] [v6,2/2] bpf: add test for Rx and From: dpdklab@iol.unh.edu To: Test Report Cc: dpdk-test-reports@iol.unh.edu In-Reply-To: <20251111225719.540140-3-stephen@networkplumber.org> References: <20251111225719.540140-3-stephen@networkplumber.org> Content-Type: text/plain X-BeenThere: test-report@dpdk.org X-Mailman-Version: 2.1.29 Precedence: list List-Id: automatic DPDK test reports List-Unsubscribe: , List-Archive: List-Post: List-Help: List-Subscribe: , Errors-To: test-report-bounces@dpdk.org Test-Label: iol-unit-arm64-testing Test-Status: SUCCESS http://dpdk.org/patch/158685 _Testing PASS_ Submitter: Stephen Hemminger Date: Tuesday, November 11 2025 22:55:47 DPDK git baseline: Repo:dpdk Branch: master CommitID:be0112878b4fc3a1b918370ed2fe615c52039d77 158684-158685 --> testing pass Upstream job id: Generic-Unit-Test-DPDK#391287 Test environment and result as below: +------------------------------+----------------+--------------+------------------------------+---------------------------+ | Environment | dpdk_unit_test | lpm_autotest | cryptodev_sw_snow3g_autotest | cryptodev_sw_zuc_autotest | +==============================+================+==============+==============================+===========================+ | Fedora Linux 42 | PASS | SKIPPED | SKIPPED | SKIPPED | +------------------------------+----------------+--------------+------------------------------+---------------------------+ | Debian GNU/Linux 12 | PASS | SKIPPED | SKIPPED | SKIPPED | +------------------------------+----------------+--------------+------------------------------+---------------------------+ | Fedora Linux 40 | PASS | SKIPPED | SKIPPED | SKIPPED | +------------------------------+----------------+--------------+------------------------------+---------------------------+ | CentOS Stream 10 | PASS | SKIPPED | SKIPPED | SKIPPED | +------------------------------+----------------+--------------+------------------------------+---------------------------+ | Ubuntu 22.04 | PASS | SKIPPED | SKIPPED | SKIPPED | +------------------------------+----------------+--------------+------------------------------+---------------------------+ | Fedora Linux 41 | PASS | SKIPPED | SKIPPED | SKIPPED | +------------------------------+----------------+--------------+------------------------------+---------------------------+ | Ubuntu 20.04 | PASS | PASS | SKIPPED | SKIPPED | +------------------------------+----------------+--------------+------------------------------+---------------------------+ | Ubuntu 24.04 | PASS | SKIPPED | SKIPPED | SKIPPED | +------------------------------+----------------+--------------+------------------------------+---------------------------+ | CentOS Stream 9 | PASS | SKIPPED | SKIPPED | SKIPPED | +------------------------------+----------------+--------------+------------------------------+---------------------------+ | Red Hat Enterprise Linux 9.5 | PASS | SKIPPED | SKIPPED | SKIPPED | +------------------------------+----------------+--------------+------------------------------+---------------------------+ | Debian 12 (arm) | SKIPPED | SKIPPED | PASS | PASS | +------------------------------+----------------+--------------+------------------------------+---------------------------+ Fedora Linux 42 Kernel: 5.4 Compiler: gcc gcc (GCC) 15.2.1 20250808 (Red Hat 15.2.1-1) Debian GNU/Linux 12 Kernel: 5.4 Compiler: gcc gcc (Debian 12.2.0-14+deb12u1) 12.2.0 Fedora Linux 40 Kernel: 5.4 Compiler: gcc gcc (GCC) 14.2.1 20240912 (Red Hat 14.2.1-3) CentOS Stream 10 Kernel: 5.4 Compiler: gcc gcc (GCC) 14.2.1 20250110 (Red Hat 14.2.1-8) Ubuntu 22.04 Kernel: 5.4 Compiler: gcc gcc (Ubuntu 11.4.0-1ubuntu1~22.04) 11.4.0 Fedora Linux 41 Kernel: 5.4 Compiler: clang gcc (GCC) 14.3.1 20250523 (Red Hat 14.3.1-1) Ubuntu 20.04 Kernel: 5.4 Compiler: gcc gcc (Ubuntu 9.4.0-1ubuntu1~20.04.2) 9.4.0 Ubuntu 24.04 Kernel: 5.4 Compiler: gcc gcc (Ubuntu 13.3.0-6ubuntu2~24.04) 13.3.0 CentOS Stream 9 Kernel: 5.4 Compiler: gcc gcc (GCC) 11.5.0 20240719 (Red Hat 11.5.0-11) Red Hat Enterprise Linux 9.5 Kernel: 5.4 Compiler: gcc gcc (GCC) 11.5.0 20240719 (Red Hat 11.5.0-2) Debian 12 (arm) Kernel: Depends on container host Compiler: gcc (Debian 12.2.0-14) 12.2.0 To view detailed results, visit: https://lab.dpdk.org/results/dashboard/patchsets/34542/ UNH-IOL DPDK Community Lab To manage your email subscriptions, visit: https://lab.dpdk.org/results/dashboard/preferences/subscriptions/