From mboxrd@z Thu Jan 1 00:00:00 1970 Return-Path: Received: from mails.dpdk.org (mails.dpdk.org [217.70.189.124]) by inbox.dpdk.org (Postfix) with ESMTP id 8887B48AE3 for ; Wed, 12 Nov 2025 23:50:04 +0100 (CET) Received: from mails.dpdk.org (localhost [127.0.0.1]) by mails.dpdk.org (Postfix) with ESMTP id 6B20A40151; Wed, 12 Nov 2025 23:50:04 +0100 (CET) Received: from mail-vk1-f226.google.com (mail-vk1-f226.google.com [209.85.221.226]) by mails.dpdk.org (Postfix) with ESMTP id 7756840151 for ; Wed, 12 Nov 2025 23:50:02 +0100 (CET) Received: by mail-vk1-f226.google.com with SMTP id 71dfb90a1353d-559e37196f9so133801e0c.3 for ; Wed, 12 Nov 2025 14:50:02 -0800 (PST) DKIM-Signature: v=1; a=rsa-sha256; c=relaxed/relaxed; d=iol.unh.edu; s=unh-iol; t=1762987801; x=1763592601; darn=dpdk.org; h=cc:to:from:subject:message-id:date:from:to:cc:subject:date :message-id:reply-to; bh=lESM+ij5AvfOayo0FS1CFbg48nYVVjO6D/IwZMmUoBQ=; b=YmCgDRGiRaaYAlIuPcPceX/jWcRveIilX37BVqdAz0vjzvhb5+uXvVeQq0wXyiN/Ak J5yp6VXuZ921DxP97BFZ5iry4QBbZX5+w4bTZZVkW+1uNdO1dH/kNKxXLIEzRhzMIaoT aRlrE5Hot21oZBerd08DXpp4DGpFJfl4g2WSg= X-Google-DKIM-Signature: v=1; a=rsa-sha256; c=relaxed/relaxed; d=1e100.net; s=20230601; t=1762987801; x=1763592601; h=cc:to:from:subject:message-id:date:x-gm-gg:x-gm-message-state:from :to:cc:subject:date:message-id:reply-to; bh=lESM+ij5AvfOayo0FS1CFbg48nYVVjO6D/IwZMmUoBQ=; b=h/FZorH9+J1MbmJ6U2X9xNOx2QSbg72qZm8uOAmGAfqcF+or72m/5C0+nyMStLzNpC 3LLWN/QMUtefpk2DyRt8AqE5vq3yLYf0ljEVil6Q2dqVFfpMwjP8ut1kywsl6US3rnHB cbmL8As/Mx/MWardmoWR6aqcEFF8OfVBy5vFv/p7mRps68rtpSubP0+oNej1N1gMTYaM SK3+Sndn1QhS8hpltweumVxnOscOhKw8pS5bAq4KebBlV3HeL5eSOhSHxXq1vIU3z83S KKR8GMA4nHJFr0xV4g7QL/yQKDPwXDv42c1YQJltwum2eyHAUHIeuRS8TNR/Wo4dR9Zh 6SLA== X-Gm-Message-State: AOJu0YyUaOEh336KnXhfxlXnJZ4ApfeQebGYCBF781Q4zEWbhD0uwTCP tL1beGIMApLLLl/ygj6Sppo5IuMV+77PVtY6dUp4HfAKuLW/VFfYUtC8yrxHogqJnPm33G5Xa6h GeR/hzHcz2ge33ibQP5U1r8cUhDCw0maiexi1lI87ElwQvJOs4sFk X-Gm-Gg: ASbGncsU6HdGWOEwun56fv1fNZ8fVncGznFU9u0bvaSXuzkfKDiK84XsUBmWHOgbZe2 jijYVrKdKz+DwR5K3rpgGGcbYMnnMv0Ln9Cf25FOXLmHWZVdE68eK5nmitm8wDxPYTKmHRgcEoZ ErJMbTMPT/gFrhKy2p4Td8B8iWgNIY6scbZeQF1ztE45L101bbgxYZwk2e6Hf/Vb8wens1pdSzy hfi2fGK7lV+H+cMtAd2MeK6ULUdkbnchsSzmPbYQXS3hjyDlAwUbnTEt71OeZ61ffqV/XOat8BA 8wpUJskOgFEtAIdPezEIHfq14o2rd4ihm+LspHWSkoShsWLqhKSOss/nZEHkcGy55jmkRH+KoQS HdgXQxgur X-Google-Smtp-Source: AGHT+IEcuUv+Gd+QfylRqFSNHXd7AnAO9Znb1E/fMkrUcMn3JtU922MszmKKUL12BzyPHCtvhDJbIlOT36FE X-Received: by 2002:a05:6122:82a1:b0:559:dc01:8cd9 with SMTP id 71dfb90a1353d-559e7e5fa0cmr2139216e0c.12.1762987801605; Wed, 12 Nov 2025 14:50:01 -0800 (PST) Received: from postal.iol.unh.edu (postal.iol.unh.edu. [2606:4100:3880:1234::84]) by smtp-relay.gmail.com with ESMTPS id 71dfb90a1353d-55b0f48ca70sm34549e0c.7.2025.11.12.14.50.01 (version=TLS1_2 cipher=ECDHE-ECDSA-AES128-GCM-SHA256 bits=128/128); Wed, 12 Nov 2025 14:50:01 -0800 (PST) X-Relaying-Domain: iol.unh.edu Date: Wed, 12 Nov 2025 14:50:01 -0800 (PST) Message-ID: <69150f19.050a0220.6358d.21ddSMTPIN_ADDED_MISSING@mx.google.com> Received: from [172.21.0.2] (unknown [172.18.0.240]) by postal.iol.unh.edu (Postfix) with ESMTP id 4E86C6051830; Wed, 12 Nov 2025 17:50:01 -0500 (EST) Subject: |SUCCESS| [GIT MASTER] 9784db2c5af1eecd02fc21132b59b5b266039b87 From: dpdklab@iol.unh.edu To: Test Report Cc: dpdk-test-reports@iol.unh.edu, Xueming Li , Christian Ehrhardt , Kevin Traynor , Luca Boccassi Content-Type: text/plain X-BeenThere: test-report@dpdk.org X-Mailman-Version: 2.1.29 Precedence: list List-Id: automatic DPDK test reports List-Unsubscribe: , List-Archive: List-Post: List-Help: List-Subscribe: , Errors-To: test-report-bounces@dpdk.org _Testing PASS_ Branch: tags/v22.11 9784db2c5af1eecd02fc21132b59b5b266039b87 --> testing pass Upstream job id: Generic-Unit-Test-DPDK#391332 Test environment and result as below: +-----------------+------------------------------+---------------------------+--------------+----------------+ | Environment | cryptodev_sw_snow3g_autotest | cryptodev_sw_zuc_autotest | lpm_autotest | dpdk_unit_test | +=================+==============================+===========================+==============+================+ | Debian 12 (arm) | PASS | PASS | SKIPPED | SKIPPED | +-----------------+------------------------------+---------------------------+--------------+----------------+ | Ubuntu 20.04 | SKIPPED | SKIPPED | PASS | SKIPPED | +-----------------+------------------------------+---------------------------+--------------+----------------+ | Ubuntu 22.04 | SKIPPED | SKIPPED | SKIPPED | PASS | +-----------------+------------------------------+---------------------------+--------------+----------------+ Debian 12 (arm) Kernel: Depends on container host Compiler: gcc (Debian 12.2.0-14) 12.2.0 Ubuntu 20.04 Kernel: 5.4 Compiler: gcc gcc (Ubuntu 9.4.0-1ubuntu1~20.04.2) 9.4.0 Ubuntu 22.04 Kernel: 5.15 Compiler: gcc gcc (Ubuntu 11.4.0-1ubuntu1~22.04.2) 11.4.0 To view detailed results, visit: https://lab.dpdk.org/results/dashboard/tarballs/35549/ UNH-IOL DPDK Community Lab To manage your email subscriptions, visit: https://lab.dpdk.org/results/dashboard/preferences/subscriptions/