From mboxrd@z Thu Jan 1 00:00:00 1970 Return-Path: Received: from mails.dpdk.org (mails.dpdk.org [217.70.189.124]) by inbox.dpdk.org (Postfix) with ESMTP id D6AD948AE3 for ; Thu, 13 Nov 2025 00:03:39 +0100 (CET) Received: from mails.dpdk.org (localhost [127.0.0.1]) by mails.dpdk.org (Postfix) with ESMTP id AE0D340151; Thu, 13 Nov 2025 00:03:39 +0100 (CET) Received: from mail-yx1-f97.google.com (mail-yx1-f97.google.com [74.125.224.97]) by mails.dpdk.org (Postfix) with ESMTP id 98A2440151 for ; Thu, 13 Nov 2025 00:03:37 +0100 (CET) Received: by mail-yx1-f97.google.com with SMTP id 956f58d0204a3-63f9beb27b9so189603d50.1 for ; Wed, 12 Nov 2025 15:03:37 -0800 (PST) DKIM-Signature: v=1; a=rsa-sha256; c=relaxed/relaxed; d=iol.unh.edu; s=unh-iol; t=1762988617; x=1763593417; darn=dpdk.org; h=references:in-reply-to:cc:to:from:subject:message-id:date:from:to :cc:subject:date:message-id:reply-to; bh=Yuhpmfd+NoaAB/nrpwiW51YEf8kIbdO3GO98+q6RMtw=; b=dAE4QApKFoCUYQl4q0/ZHNsAFSx2Ss9v6jfqgDsCTXTk/pcZeHXnWgZDsUSH0sX461 lAm9z7YuCUv/W0VpH1+uOx50TGyf0w07rjI2m9EfiN8i8QsFW8T3J/2KXuTX4KRp3VGs HqnlXwunPDg0lwQAuUjs+CezDB3KAb7YiNHo8= X-Google-DKIM-Signature: v=1; a=rsa-sha256; c=relaxed/relaxed; d=1e100.net; s=20230601; t=1762988617; x=1763593417; h=references:in-reply-to:cc:to:from:subject:message-id:date:x-gm-gg :x-gm-message-state:from:to:cc:subject:date:message-id:reply-to; bh=Yuhpmfd+NoaAB/nrpwiW51YEf8kIbdO3GO98+q6RMtw=; b=WpTMDOCoLeXifn3KBEkzIUrz8qyWSI4leLrjrbt8ZeUMfAwybifhdLkXaYRIP67548 n0K4eqg1lh+Z6pNB9mW5PdOFkV9yrlCF0RZc3yNQx1OJPoOHeJaUhEi+EPjZj02JHfHJ QY62sBw+Hdybeih94943JrZdufKZobkCDYi/kezhJDqwdoCeWp9S5huLQwJBrN5itXt8 S+KOBDzYVjffxjZPbZkHmBvUZhVz031wb4gD7sMRAZlXUEcMeDXO8A9RXebXpiNqxVE7 EgEny37EdXjGbjV9oLfwogqz1xpq9MOM25Ig6l2L7fBUtTL7O4ALVPVjqoBrfTm0xnlA o8Xw== X-Gm-Message-State: AOJu0Yyds6lO6q3VJHYMj2emibLYV/TpwVOX4+KIGMEUs+A0Jt0fegSO T7z0mQWZxOQzEVCHKNZ11DdQRU8NEpKBvSgg+pozgj2HgdGFY1mU85sEYHupg39tLsIfuP/AGCL 9+hxax2TvSI07bNkkDf5MH0EwB2XuoVo8ilgrN35bm+0f X-Gm-Gg: ASbGncuVWBkUTric6Lpg227xw/GJ/CTPMRrq/7xyqz2gyzy12ZlTxjFdlXzbjvgIDC+ rD+/deiklSsm0R7KtalGvwEgPzL6TYXmdodeRa2Uol/7O2XaQVEmJcIcknfZ+yMmJ4vS8QUruzU aE3noIYXKpPNL0mwpc8/cd8Ut3IMpa+PLRrjOJfukVQ4Hl6QJ5i+5ZDHT77FEe8X1sEni/coj2Y Qn2RQNjwsPmloljXguNl8qauj+GICNz5YQ4fOBTlXDEG1gUj7eOIrs8N4085WetWbzo3d+WDZtz 1KxafqAndAqPmAr9Hej3pkifttJL94l9nb0Djw6f0DquEU1pX8/DSr6rfZg2omolDLGJ5Ed8+X3 RxM9UGM/Nxj379ZRoCL8tuwa5H/ILKO4= X-Google-Smtp-Source: AGHT+IG+Ewu+/dr9fv0cRZcKbnGLWELgF18DHcyasbOPYdYyYavhdvRcGrFPT/RJpstf5ueMmtE2DaqXbd6q X-Received: by 2002:a05:690e:d0c:b0:63f:ba88:e931 with SMTP id 956f58d0204a3-64101b0871cmr5968804d50.38.1762988616860; Wed, 12 Nov 2025 15:03:36 -0800 (PST) Received: from postal.iol.unh.edu (postal.iol.unh.edu. [132.177.123.84]) by smtp-relay.gmail.com with ESMTPS id 956f58d0204a3-6410e9eb4cfsm18490d50.2.2025.11.12.15.03.36 (version=TLS1_2 cipher=ECDHE-ECDSA-AES128-GCM-SHA256 bits=128/128); Wed, 12 Nov 2025 15:03:36 -0800 (PST) X-Relaying-Domain: iol.unh.edu Date: Wed, 12 Nov 2025 15:03:36 -0800 (PST) Message-ID: <69151248.050a0220.7c00a.11e1SMTPIN_ADDED_MISSING@mx.google.com> Received: from [172.21.0.3] (unknown [172.18.0.240]) by postal.iol.unh.edu (Postfix) with ESMTP id 817676051830; Wed, 12 Nov 2025 18:03:36 -0500 (EST) Subject: |SUCCESS| pw158702-158704 [PATCH] [v2,3/3] net/fm10k: fix null packe From: dpdklab@iol.unh.edu To: Test Report Cc: dpdk-test-reports@iol.unh.edu, Bruce Richardson In-Reply-To: <20251112141059.1576919-4-bruce.richardson@intel.com> References: <20251112141059.1576919-4-bruce.richardson@intel.com> Content-Type: text/plain X-BeenThere: test-report@dpdk.org X-Mailman-Version: 2.1.29 Precedence: list List-Id: automatic DPDK test reports List-Unsubscribe: , List-Archive: List-Post: List-Help: List-Subscribe: , Errors-To: test-report-bounces@dpdk.org Test-Label: iol-compile-amd64-testing Test-Status: SUCCESS http://dpdk.org/patch/158704 _Testing PASS_ Submitter: Bruce Richardson Date: Wednesday, November 12 2025 14:10:59 DPDK git baseline: Repo:dpdk-next-net-intel Branch: master CommitID:be0112878b4fc3a1b918370ed2fe615c52039d77 158702-158704 --> testing pass Upstream job id: Generic-DPDK-Compile-Meson#443453 Test environment and result as below: +-----------------+--------------------+ | Environment | dpdk_meson_compile | +=================+====================+ | FreeBSD 14.2 | PASS | +-----------------+--------------------+ | Ubuntu 20.04 | PASS | +-----------------+--------------------+ | CentOS Stream 9 | PASS | +-----------------+--------------------+ FreeBSD 14.2 Kernel: 14.2-RELEASE Compiler: clang 18.1.6 Ubuntu 20.04 Kernel: 4.19 Compiler: gcc gcc (Ubuntu 9.4.0-1ubuntu1~20.04.2) 9.4.0 CentOS Stream 9 Kernel: 5.15 Compiler: gcc gcc (GCC) 11.5.0 20240719 (Red Hat 11.5.0-11) To view detailed results, visit: https://lab.dpdk.org/results/dashboard/patchsets/34551/ UNH-IOL DPDK Community Lab To manage your email subscriptions, visit: https://lab.dpdk.org/results/dashboard/preferences/subscriptions/