From mboxrd@z Thu Jan 1 00:00:00 1970 Return-Path: Received: from mails.dpdk.org (mails.dpdk.org [217.70.189.124]) by inbox.dpdk.org (Postfix) with ESMTP id 5C46C48AE3 for ; Thu, 13 Nov 2025 00:29:59 +0100 (CET) Received: from mails.dpdk.org (localhost [127.0.0.1]) by mails.dpdk.org (Postfix) with ESMTP id 34A3840151; Thu, 13 Nov 2025 00:29:59 +0100 (CET) Received: from mail-io1-f98.google.com (mail-io1-f98.google.com [209.85.166.98]) by mails.dpdk.org (Postfix) with ESMTP id ABEFE40151 for ; Thu, 13 Nov 2025 00:29:57 +0100 (CET) Received: by mail-io1-f98.google.com with SMTP id ca18e2360f4ac-948cda204a7so21427339f.3 for ; Wed, 12 Nov 2025 15:29:57 -0800 (PST) DKIM-Signature: v=1; a=rsa-sha256; c=relaxed/relaxed; d=iol.unh.edu; s=unh-iol; t=1762990197; x=1763594997; darn=dpdk.org; h=references:in-reply-to:cc:to:from:subject:message-id:date:from:to :cc:subject:date:message-id:reply-to; bh=Rcy4a0RTy4Qm26wemuvA4o1UvzFiBIP7K/Kjy/AyOtQ=; b=YmC5ItDeTihhfMzZKfmtmqmIFzmKGkxX2UIogngvwbjHjHt9bJwOjbcYFEq1nr7WhF IYTGWQUoaQgcZPmIBFQ2+vA/Nkxex8elWWvSQIQIvpnxuO8BeFulmzgBUrNDX6q3vgPb iz5p4TD6ubxerp6WC6BJ9Wm3uJpJl8FmoN1BY= X-Google-DKIM-Signature: v=1; a=rsa-sha256; c=relaxed/relaxed; d=1e100.net; s=20230601; t=1762990197; x=1763594997; h=references:in-reply-to:cc:to:from:subject:message-id:date:x-gm-gg :x-gm-message-state:from:to:cc:subject:date:message-id:reply-to; bh=Rcy4a0RTy4Qm26wemuvA4o1UvzFiBIP7K/Kjy/AyOtQ=; b=XvnuFQ/s8vxIPoYWApWOH8wuukRrkcQAhG8wesVBGQTYtVPLT3w+9sonjBVU99hNtH HOupD9Q4v73fM8rU9hNdv/hTmfq3RgQdvuyFCbvXjNxjVqh5PtWT4S+I/gSW9QqUojVM heOyZDbOdm9PT7vK9UCRL9hWQ+6FDHu9ZXOM0S9js6y7iJUlHt/vjiFAdYsbWImuoI/M 4X1y+F9ml7aCwtSrMQ8l7y2E3bu1mnqZqHuuUTEFEKQbjrIKDS9GREHyF5Ji4kDbwV5h Px4lkKlf6uAwkkKq5LWjQ6lA0cVtR2t9p0EhH62hpI4tpQoBUJU3b5FTjtHKSoKS8ruL OSbA== X-Gm-Message-State: AOJu0YySX2pmL4rBxeOkmj2+ab0LaulB2ccFMlBnskK5cKKJ+lN9C9IL hckgYUF571Jlq3LncwPd1o56Vf6mON1db62AuxaDxX+upyHX/3cZqcnrmSzMLlNau+yfGKndplL FtvapbVobH1DbfIfESDJ6IGycKf+yK92CzeEtiHJijy4TDl+Y5E4/SCAfaycV X-Gm-Gg: ASbGnctsIxKq9KnkIPAUBFQnzP1yYFipTYzI4o1j7T7gORJia6ysG239Xu0yGH4sKHh ty/P5K28aqZGrsEQvr0uOI4mK7fUtuzGcmg/WTrtiafTTB0Ir3MZoqVu9fSeK4dIF8imC9f7KqX MZFro47CK3NwEHS522t3eG9do39U67SDwyWzoKUeRrp4Zi3ZWAoGxZD3/JY7Jx2HNt1KM3fOomC tsXPOgU05+q5sHorM8OXhuR51mM7rmJa9Sw48b7i2Q0c/2zBH9jJSfE+uytctaviyh0PDxWFkRu iwU//yood+OC3jnzFGzAV9k0YL/rRvAlz8eY6Px2xuo4p8IFZYVXhYsGccullzU2oSeoavnX2cx fnSx+27Ud X-Google-Smtp-Source: AGHT+IHa6Sj44qD8hd3fAJFWYkT0OrpIdnkKz9QruY/tAyO1TJ6F4nfysqigSotl3FsD1iIanrV5CNd/1UoG X-Received: by 2002:a05:6e02:4808:b0:434:74a6:48ff with SMTP id e9e14a558f8ab-43474a64ad3mr55085685ab.18.1762990196881; Wed, 12 Nov 2025 15:29:56 -0800 (PST) Received: from postal.iol.unh.edu (postal.iol.unh.edu. [2606:4100:3880:1234::84]) by smtp-relay.gmail.com with ESMTPS id e9e14a558f8ab-434833ebe8fsm113895ab.14.2025.11.12.15.29.56 (version=TLS1_2 cipher=ECDHE-ECDSA-AES128-GCM-SHA256 bits=128/128); Wed, 12 Nov 2025 15:29:56 -0800 (PST) X-Relaying-Domain: iol.unh.edu Date: Wed, 12 Nov 2025 15:29:56 -0800 (PST) Message-ID: <69151874.050a0220.288fac.0b07SMTPIN_ADDED_MISSING@mx.google.com> Received: from [172.21.0.2] (unknown [172.18.0.240]) by postal.iol.unh.edu (Postfix) with ESMTP id 2625E60003F4; Wed, 12 Nov 2025 18:29:56 -0500 (EST) Subject: |SUCCESS| pw158701 [PATCH] [V3] net/mlx5: fix IPv6 DSCP offset in HW From: dpdklab@iol.unh.edu To: Test Report Cc: dpdk-test-reports@iol.unh.edu In-Reply-To: <20251112134236.195614-1-gavinl@nvidia.com> References: <20251112134236.195614-1-gavinl@nvidia.com> Content-Type: text/plain X-BeenThere: test-report@dpdk.org X-Mailman-Version: 2.1.29 Precedence: list List-Id: automatic DPDK test reports List-Unsubscribe: , List-Archive: List-Post: List-Help: List-Subscribe: , Errors-To: test-report-bounces@dpdk.org Test-Label: iol-compile-amd64-testing Test-Status: SUCCESS http://dpdk.org/patch/158701 _Testing PASS_ Submitter: Gavin Li Date: Wednesday, November 12 2025 13:42:36 DPDK git baseline: Repo:dpdk-next-net-mlx Branch: master CommitID:ae657d56b1f0ea979b3f611edf28d773efc2ddcf 158701 --> testing pass Upstream job id: Generic-DPDK-Compile-Meson#443451 Test environment and result as below: +-------------------------------+--------------------+------------------+ | Environment | dpdk_meson_compile | dpdk_compile_ovs | +===============================+====================+==================+ | Ubuntu 20.04 | PASS | SKIPPED | +-------------------------------+--------------------+------------------+ | FreeBSD 14.2 | PASS | SKIPPED | +-------------------------------+--------------------+------------------+ | CentOS Stream 9 | PASS | SKIPPED | +-------------------------------+--------------------+------------------+ | CentOS Stream 10 | PASS | SKIPPED | +-------------------------------+--------------------+------------------+ | Debian GNU/Linux 12 | PASS | SKIPPED | +-------------------------------+--------------------+------------------+ | Fedora Linux 42 | PASS | PASS | +-------------------------------+--------------------+------------------+ | openSUSE Leap 15.6 | PASS | SKIPPED | +-------------------------------+--------------------+------------------+ | Red Hat Enterprise Linux 8.10 | PASS | SKIPPED | +-------------------------------+--------------------+------------------+ | Red Hat Enterprise Linux 9.5 | PASS | SKIPPED | +-------------------------------+--------------------+------------------+ | Ubuntu 22.04 | PASS | SKIPPED | +-------------------------------+--------------------+------------------+ | Ubuntu 24.04 | PASS | PASS | +-------------------------------+--------------------+------------------+ | Alpine Linux 3.22.0 | PASS | SKIPPED | +-------------------------------+--------------------+------------------+ Ubuntu 20.04 Kernel: 4.19 Compiler: gcc gcc (Ubuntu 9.4.0-1ubuntu1~20.04.2) 9.4.0 FreeBSD 14.2 Kernel: 14.2-RELEASE Compiler: clang 18.1.6 CentOS Stream 9 Kernel: 5.15 Compiler: gcc gcc (GCC) 11.5.0 20240719 (Red Hat 11.5.0-11) CentOS Stream 10 Kernel: 5.15 Compiler: gcc gcc (GCC) 14.2.1 20250110 (Red Hat 14.2.1-8) Debian GNU/Linux 12 Kernel: 5.15 Compiler: gcc gcc (Debian 12.2.0-14+deb12u1) 12.2.0 Fedora Linux 42 Kernel: 5.15 Compiler: clang gcc (GCC) 15.2.1 20250808 (Red Hat 15.2.1-1) openSUSE Leap 15.6 Kernel: 5.15 Compiler: gcc gcc (SUSE Linux) 7.5.0 Red Hat Enterprise Linux 8.10 Kernel: 5.15 Compiler: gcc gcc (GCC) 8.5.0 20210514 (Red Hat 8.5.0-22) Red Hat Enterprise Linux 9.5 Kernel: 5.15 Compiler: gcc gcc (GCC) 11.5.0 20240719 (Red Hat 11.5.0-2) Ubuntu 22.04 Kernel: 5.15 Compiler: gcc gcc (Ubuntu 11.4.0-1ubuntu1~22.04) 11.4.0 Ubuntu 24.04 Kernel: 5.15 Compiler: gcc gcc (Ubuntu 13.3.0-6ubuntu2~24.04) 13.3.0 Alpine Linux 3.22.0 Kernel: 5.15 Compiler: gcc gcc (Alpine 14.2.0) 14.2.0 To view detailed results, visit: https://lab.dpdk.org/results/dashboard/patchsets/34550/ UNH-IOL DPDK Community Lab To manage your email subscriptions, visit: https://lab.dpdk.org/results/dashboard/preferences/subscriptions/