From mboxrd@z Thu Jan 1 00:00:00 1970 Return-Path: Received: from mails.dpdk.org (mails.dpdk.org [217.70.189.124]) by inbox.dpdk.org (Postfix) with ESMTP id BA50048AE3 for ; Thu, 13 Nov 2025 00:45:55 +0100 (CET) Received: from mails.dpdk.org (localhost [127.0.0.1]) by mails.dpdk.org (Postfix) with ESMTP id 9B37240151; Thu, 13 Nov 2025 00:45:55 +0100 (CET) Received: from mail-vk1-f226.google.com (mail-vk1-f226.google.com [209.85.221.226]) by mails.dpdk.org (Postfix) with ESMTP id 1F3E340151 for ; Thu, 13 Nov 2025 00:45:54 +0100 (CET) Received: by mail-vk1-f226.google.com with SMTP id 71dfb90a1353d-559e37196f9so160200e0c.3 for ; Wed, 12 Nov 2025 15:45:54 -0800 (PST) DKIM-Signature: v=1; a=rsa-sha256; c=relaxed/relaxed; d=iol.unh.edu; s=unh-iol; t=1762991153; x=1763595953; darn=dpdk.org; h=references:in-reply-to:cc:to:from:subject:message-id:date:from:to :cc:subject:date:message-id:reply-to; bh=RKjgkknzb9M8I2XjoXOJuVg/ijsjXwm1jDC1v8tcImY=; b=fB1QIOMP6Wl0iRmlLGykFABVZTYWgpvsFyoGLocrEYg3PS7L0fcvyoHsuzXr6Bu9AV FZOxxsgoc+1o7jG5yrTRdPdsKu4mbzWkOo2zAx5AZFiGLJcGB5EWBD9s1GTnBaifXcxs WTeN/RJWzOm6p3Ahr0t1CUJLxIFDL69AoT3I8= X-Google-DKIM-Signature: v=1; a=rsa-sha256; c=relaxed/relaxed; d=1e100.net; s=20230601; t=1762991153; x=1763595953; h=references:in-reply-to:cc:to:from:subject:message-id:date:x-gm-gg :x-gm-message-state:from:to:cc:subject:date:message-id:reply-to; bh=RKjgkknzb9M8I2XjoXOJuVg/ijsjXwm1jDC1v8tcImY=; b=amypIFKVOVZ7+5Ef/OiGSCfpq+NYh9OX9eyGZeewBxtzAvkPyrSH4jIzlf0YmioE2T fO7SsK/3qrdKCtWZ2ok3Kaix/fmr4g1SDkORAquIQ93zdLfGuVreboE6n3Z/F440Yc7h dmFtGcMN/FYJRMHwxlYurgyNIkUjDaS8HSKuwf2S5nDqE/TRNMnAP6bgQ/wjVmSDrwEV N+JYuiwO9r+A3atGNdKpXg8fK/aZCiXsJvGe8CY/QOPxwfVjfZyWi/DnNClOL8ULE/Gq d3EtWPlUJ4di47ptSEo8pCo6Eox0Zfm0nVYXc1LRWh9W6T0kz+DAUaTrROU1Q7WsxgnI f4sQ== X-Gm-Message-State: AOJu0YwUGN6lMqJssiLL+TasyHmvxrzrLLgQiLBbDTF9M6I1J5Y2EHfN tZ+jY3dxrHyVTbYzJ15/AF+MprL8w+N9qGQa7Hn475x98R4vR/GNItCqTawsunBeX4RE+HI1u7X Hq02oMGBOcIuw8DF95/+vXwqEZPhz64EyBi/O0A4Rm3bm X-Gm-Gg: ASbGnctTgS6nLSrIUwzR5fuXTxoP9iCG9n+9T1+nWGiL5Zs57V8m5BD9FeNgNPxfwoZ Ub6Jr21Gm1MzZRj+t44giJuFkATFP+lGfaXlesF0liuEWfMM7VuKPNUyMGyjy1hiOT9veSEa2jc SnEj96/eX8S3guCKiCcjeIMDFkoFE1meNQfopTxTjn1vvYQ8iUaLwp83HhrdevxmPilpurbUMTR hWmmBx+bZjthBA4yfWtiFNA2W9V8FkPOfuYejr+edVX9gGR8s8UPCziTyqjSYG6V2tWxpMqrc+m NzKuXwCIc1QCr4dzoRU4K/Z5PB5SZNL9+4NSbP3w6cn2ZG0M4IM8byCg982EbOIYNAyB7H10QIm 1mE38CHgPoKEatYN3S0YKdzCL1SGLKCY= X-Google-Smtp-Source: AGHT+IGeKO34667cCgLNLUKPDQUrZkimm+2rUjQ2OFmieJ00DUvi6uoL9eXclamI2iibeo8gXHeeCz8dOGcU X-Received: by 2002:a05:6102:b0f:b0:5dd:b0e6:c4cb with SMTP id ada2fe7eead31-5de07cf7a29mr1814762137.9.1762991153430; Wed, 12 Nov 2025 15:45:53 -0800 (PST) Received: from postal.iol.unh.edu (postal.iol.unh.edu. [132.177.123.84]) by smtp-relay.gmail.com with ESMTPS id ada2fe7eead31-5dfb725baccsm27348137.5.2025.11.12.15.45.53 (version=TLS1_2 cipher=ECDHE-ECDSA-AES128-GCM-SHA256 bits=128/128); Wed, 12 Nov 2025 15:45:53 -0800 (PST) X-Relaying-Domain: iol.unh.edu Date: Wed, 12 Nov 2025 15:45:53 -0800 (PST) Message-ID: <69151c31.050a0220.176da4.1abcSMTPIN_ADDED_MISSING@mx.google.com> Received: from [172.21.0.2] (unknown [172.18.0.240]) by postal.iol.unh.edu (Postfix) with ESMTP id 0645E6051830; Wed, 12 Nov 2025 18:45:53 -0500 (EST) Subject: |SUCCESS| pw158702-158704 [PATCH] [v2,3/3] net/fm10k: fix null packe From: dpdklab@iol.unh.edu To: Test Report Cc: dpdk-test-reports@iol.unh.edu, Bruce Richardson In-Reply-To: <20251112141059.1576919-4-bruce.richardson@intel.com> References: <20251112141059.1576919-4-bruce.richardson@intel.com> Content-Type: text/plain X-BeenThere: test-report@dpdk.org X-Mailman-Version: 2.1.29 Precedence: list List-Id: automatic DPDK test reports List-Unsubscribe: , List-Archive: List-Post: List-Help: List-Subscribe: , Errors-To: test-report-bounces@dpdk.org Test-Label: iol-compile-amd64-testing Test-Status: SUCCESS http://dpdk.org/patch/158704 _Testing PASS_ Submitter: Bruce Richardson Date: Wednesday, November 12 2025 14:10:59 DPDK git baseline: Repo:dpdk-next-net-intel Branch: master CommitID:be0112878b4fc3a1b918370ed2fe615c52039d77 158702-158704 --> testing pass Upstream job id: Generic-DPDK-Compile-Meson#443464 Test environment and result as below: +-------------------------------+--------------------+------------------+ | Environment | dpdk_meson_compile | dpdk_compile_ovs | +===============================+====================+==================+ | FreeBSD 14.2 | PASS | SKIPPED | +-------------------------------+--------------------+------------------+ | Ubuntu 20.04 | PASS | SKIPPED | +-------------------------------+--------------------+------------------+ | CentOS Stream 9 | PASS | SKIPPED | +-------------------------------+--------------------+------------------+ | CentOS Stream 10 | PASS | SKIPPED | +-------------------------------+--------------------+------------------+ | Debian GNU/Linux 12 | PASS | SKIPPED | +-------------------------------+--------------------+------------------+ | Fedora Linux 42 | PASS | PASS | +-------------------------------+--------------------+------------------+ | openSUSE Leap 15.6 | PASS | SKIPPED | +-------------------------------+--------------------+------------------+ | Red Hat Enterprise Linux 8.10 | PASS | SKIPPED | +-------------------------------+--------------------+------------------+ | Red Hat Enterprise Linux 9.5 | PASS | SKIPPED | +-------------------------------+--------------------+------------------+ | Ubuntu 22.04 | PASS | SKIPPED | +-------------------------------+--------------------+------------------+ | Ubuntu 24.04 | PASS | PASS | +-------------------------------+--------------------+------------------+ | Alpine Linux 3.22.0 | PASS | SKIPPED | +-------------------------------+--------------------+------------------+ FreeBSD 14.2 Kernel: 14.2-RELEASE Compiler: clang 18.1.6 Ubuntu 20.04 Kernel: 4.19 Compiler: gcc gcc (Ubuntu 9.4.0-1ubuntu1~20.04.2) 9.4.0 CentOS Stream 9 Kernel: 5.15 Compiler: gcc gcc (GCC) 11.5.0 20240719 (Red Hat 11.5.0-11) CentOS Stream 10 Kernel: 5.15 Compiler: gcc gcc (GCC) 14.2.1 20250110 (Red Hat 14.2.1-8) Debian GNU/Linux 12 Kernel: 5.15 Compiler: gcc gcc (Debian 12.2.0-14+deb12u1) 12.2.0 Fedora Linux 42 Kernel: 5.15 Compiler: clang gcc (GCC) 15.2.1 20250808 (Red Hat 15.2.1-1) openSUSE Leap 15.6 Kernel: 5.15 Compiler: gcc gcc (SUSE Linux) 7.5.0 Red Hat Enterprise Linux 8.10 Kernel: 5.15 Compiler: gcc gcc (GCC) 8.5.0 20210514 (Red Hat 8.5.0-22) Red Hat Enterprise Linux 9.5 Kernel: 5.15 Compiler: gcc gcc (GCC) 11.5.0 20240719 (Red Hat 11.5.0-2) Ubuntu 22.04 Kernel: 5.15 Compiler: gcc gcc (Ubuntu 11.4.0-1ubuntu1~22.04) 11.4.0 Ubuntu 24.04 Kernel: 5.15 Compiler: gcc gcc (Ubuntu 13.3.0-6ubuntu2~24.04) 13.3.0 Alpine Linux 3.22.0 Kernel: 5.15 Compiler: gcc gcc (Alpine 14.2.0) 14.2.0 To view detailed results, visit: https://lab.dpdk.org/results/dashboard/patchsets/34551/ UNH-IOL DPDK Community Lab To manage your email subscriptions, visit: https://lab.dpdk.org/results/dashboard/preferences/subscriptions/