From mboxrd@z Thu Jan 1 00:00:00 1970 Return-Path: Received: from mails.dpdk.org (mails.dpdk.org [217.70.189.124]) by inbox.dpdk.org (Postfix) with ESMTP id 910E248AE3 for ; Thu, 13 Nov 2025 01:08:37 +0100 (CET) Received: from mails.dpdk.org (localhost [127.0.0.1]) by mails.dpdk.org (Postfix) with ESMTP id 8C41C40151; Thu, 13 Nov 2025 01:08:37 +0100 (CET) Received: from mail-vs1-f100.google.com (mail-vs1-f100.google.com [209.85.217.100]) by mails.dpdk.org (Postfix) with ESMTP id E3D2C40151 for ; Thu, 13 Nov 2025 01:08:35 +0100 (CET) Received: by mail-vs1-f100.google.com with SMTP id ada2fe7eead31-5dd88eef2f3so91910137.3 for ; Wed, 12 Nov 2025 16:08:35 -0800 (PST) DKIM-Signature: v=1; a=rsa-sha256; c=relaxed/relaxed; d=iol.unh.edu; s=unh-iol; t=1762992515; x=1763597315; darn=dpdk.org; h=references:in-reply-to:cc:to:from:subject:message-id:date:from:to :cc:subject:date:message-id:reply-to; bh=wXJJ9eTP1lRWvcrWu8Vvev06xQqIgq6FAHAAmHyJCQE=; b=gPOH7VSrDnrCQZFDNWE9Uz5hk2wY45VioBtkVtjWnqmGt70EYS5I0fFcnyA52WVrqY +anE+VMRtx/sBmFZwY68bjMgljyY3WClmuNB+dIwAczKrTnn8tr3F5JkDi74Orh7nQ7o wqI+IKd8fioukEhgIQMqqYzoEA68P70D619cM= X-Google-DKIM-Signature: v=1; a=rsa-sha256; c=relaxed/relaxed; d=1e100.net; s=20230601; t=1762992515; x=1763597315; h=references:in-reply-to:cc:to:from:subject:message-id:date:x-gm-gg :x-gm-message-state:from:to:cc:subject:date:message-id:reply-to; bh=wXJJ9eTP1lRWvcrWu8Vvev06xQqIgq6FAHAAmHyJCQE=; b=sKUW9nnL+FQeMMae5u/B82OIRQRS5dnuBn/jUqD48v3n6rTgyKtFiPGcrMS0yNKVD8 wOygkiG7PMp4q6VXIjcJLHMpLWfEl3Bjsq8eNj/sEjVnRDZSouGnwEu4DupIMeavgi2t nC7a2u+doomQ3zuGxdpktcZgM1+/FDEYD7a5BQQCdBZrymCI29mJYWvmAY0aSOcan62E I6LiLpe6IDNE53uFwMN4r7cYs8yuiwIb8pnA1nqZqco2x1H2SuxH1ZnAc0h0fzujvLHm AwiWyjylaEl1gMwvQtuvfhMMfKdCaavvr1NUtSeHVMlOTUijQFz/k7Mfx0WnESksSR9P ZWqg== X-Gm-Message-State: AOJu0YwZD+ucbsWwSvgTPjEEftUNPAGdUIs+BapEa3sspMz/BSelyPtI 9WuQn5h0P81F9IB7XRlqJSCLRp6WcSCaML2e/xCMdcTKZW1umfeGM1PkhJhCU7YtukUsEVGVdoJ n+mLWcbVA+zCgN/n49xTEC7I35NVWgUaHXodbZs53EisrF+gvNmG7PZZ/A8Cf X-Gm-Gg: ASbGnctSr+7cPVeMWMoSyB1tMrjR/BpR785wq3XZ83xSiSVk1+Y93gbJKF6ouHMr9ZX RjD4GIT+SR2IadB1gmU131KOw12wlVswmiPb15SfGwfYuJYZ5ehzgCEey7pJNu3LaHTaIFOVIJB 5Gpw6SQWdEq48zNEvrbO11GM7+CkE1PFRUSkeTSjGFWtI0lQ8p0Z4t7hlfDZ4LighK9n05hKYCk XS4J+gyy5+CLkxrZ2tLuAsR6PbRf8+oTSW4uiRw/s/puahWlBS4vpA2JCRMsGS8HxGR1b445ZLM nspfn+D5eb1U4Du5JuFgC5JPH6HZIk9kJPqVFEwu3GSxqSGPo1H9gLjAO17bxnN3Cz+7UL/Grfm qtVXDA5Lk X-Google-Smtp-Source: AGHT+IEgrVDY4Gc0Toi+WYzZcEflaMxfHtYYEo2e+rb4r5dkiSrC3X4TtG5PrCLPTlvhKdRjcq8wplBcQIbQ X-Received: by 2002:a05:6102:2914:b0:5db:ce1d:67a2 with SMTP id ada2fe7eead31-5de07d0afcamr1832139137.1.1762992515266; Wed, 12 Nov 2025 16:08:35 -0800 (PST) Received: from postal.iol.unh.edu (postal.iol.unh.edu. [2606:4100:3880:1234::84]) by smtp-relay.gmail.com with ESMTPS id ada2fe7eead31-5dfb725baccsm33273137.5.2025.11.12.16.08.35 (version=TLS1_2 cipher=ECDHE-ECDSA-AES128-GCM-SHA256 bits=128/128); Wed, 12 Nov 2025 16:08:35 -0800 (PST) X-Relaying-Domain: iol.unh.edu Date: Wed, 12 Nov 2025 16:08:35 -0800 (PST) Message-ID: <69152183.050a0220.176da4.1ffaSMTPIN_ADDED_MISSING@mx.google.com> Received: from [172.21.0.2] (unknown [172.18.0.240]) by postal.iol.unh.edu (Postfix) with ESMTP id F3C7E604D420; Wed, 12 Nov 2025 19:08:34 -0500 (EST) Subject: |SUCCESS| pw158641 [PATCH] lib/ring: do not allow zero size ring From: dpdklab@iol.unh.edu To: Test Report Cc: dpdk-test-reports@iol.unh.edu In-Reply-To: <20251110222827.575488-1-iboukris@gmail.com> References: <20251110222827.575488-1-iboukris@gmail.com> Content-Type: text/plain X-BeenThere: test-report@dpdk.org X-Mailman-Version: 2.1.29 Precedence: list List-Id: automatic DPDK test reports List-Unsubscribe: , List-Archive: List-Post: List-Help: List-Subscribe: , Errors-To: test-report-bounces@dpdk.org Test-Label: iol-unit-amd64-testing Test-Status: SUCCESS http://dpdk.org/patch/158641 _Testing PASS_ Submitter: Isaac Boukris Date: Monday, November 10 2025 22:28:27 DPDK git baseline: Repo:dpdk Branch: master CommitID:660bde60e43c309ba4b58371e2ac3690593bda0b 158641 --> testing pass Upstream job id: Generic-VM-Unit-Test-DPDK#32439 Test environment and result as below: +-------------------------------+----------------+ | Environment | dpdk_unit_test | +===============================+================+ | Fedora Linux 42 | PASS | +-------------------------------+----------------+ | Fedora Linux 40 | PASS | +-------------------------------+----------------+ | CentOS Stream 10 | PASS | +-------------------------------+----------------+ | Red Hat Enterprise Linux 8.10 | PASS | +-------------------------------+----------------+ | Debian GNU/Linux 12 | PASS | +-------------------------------+----------------+ | Fedora Linux 41 | PASS | +-------------------------------+----------------+ | Red Hat Enterprise Linux 9.5 | PASS | +-------------------------------+----------------+ | Ubuntu 20.04 | PASS | +-------------------------------+----------------+ | CentOS Stream 9 | PASS | +-------------------------------+----------------+ | Ubuntu 22.04 | PASS | +-------------------------------+----------------+ | Ubuntu 24.04 | PASS | +-------------------------------+----------------+ | Windows Server 2022 | PASS | +-------------------------------+----------------+ Fedora Linux 42 Kernel: 5.15 Compiler: clang gcc (GCC) 15.2.1 20250808 (Red Hat 15.2.1-1) Fedora Linux 40 Kernel: 5.15 Compiler: clang gcc (GCC) 14.2.1 20240912 (Red Hat 14.2.1-3) CentOS Stream 10 Kernel: 5.15 Compiler: gcc gcc (GCC) 14.2.1 20250110 (Red Hat 14.2.1-8) Red Hat Enterprise Linux 8.10 Kernel: 5.15 Compiler: gcc gcc (GCC) 8.5.0 20210514 (Red Hat 8.5.0-22) Debian GNU/Linux 12 Kernel: 5.15 Compiler: gcc gcc (Debian 12.2.0-14+deb12u1) 12.2.0 Fedora Linux 41 Kernel: 5.15 Compiler: gcc gcc (GCC) 14.3.1 20250523 (Red Hat 14.3.1-1) Red Hat Enterprise Linux 9.5 Kernel: 5.15 Compiler: gcc gcc (GCC) 11.5.0 20240719 (Red Hat 11.5.0-2) Ubuntu 20.04 Kernel: 5.15 Compiler: gcc gcc (Ubuntu 9.4.0-1ubuntu1~20.04.2) 9.4.0 CentOS Stream 9 Kernel: 5.15 Compiler: gcc gcc (GCC) 11.5.0 20240719 (Red Hat 11.5.0-11) Ubuntu 22.04 Kernel: 5.15 Compiler: gcc gcc (Ubuntu 11.4.0-1ubuntu1~22.04) 11.4.0 Ubuntu 24.04 Kernel: 5.15 Compiler: gcc gcc (Ubuntu 13.3.0-6ubuntu2~24.04) 13.3.0 Windows Server 2022 Kernel: 10.0.20348.2031 Compiler: clang 15.0.7, gcc 14.1.0 (MinGW), and MSVC VS 19.39.33521 To view detailed results, visit: https://lab.dpdk.org/results/dashboard/patchsets/34525/ UNH-IOL DPDK Community Lab To manage your email subscriptions, visit: https://lab.dpdk.org/results/dashboard/preferences/subscriptions/