From mboxrd@z Thu Jan 1 00:00:00 1970 Return-Path: Received: from mails.dpdk.org (mails.dpdk.org [217.70.189.124]) by inbox.dpdk.org (Postfix) with ESMTP id B703448AE3 for ; Thu, 13 Nov 2025 01:10:00 +0100 (CET) Received: from mails.dpdk.org (localhost [127.0.0.1]) by mails.dpdk.org (Postfix) with ESMTP id AD18240151; Thu, 13 Nov 2025 01:10:00 +0100 (CET) Received: from mail-oa1-f99.google.com (mail-oa1-f99.google.com [209.85.160.99]) by mails.dpdk.org (Postfix) with ESMTP id F0B0F40151 for ; Thu, 13 Nov 2025 01:09:58 +0100 (CET) Received: by mail-oa1-f99.google.com with SMTP id 586e51a60fabf-3d18422565eso128403fac.1 for ; Wed, 12 Nov 2025 16:09:58 -0800 (PST) DKIM-Signature: v=1; a=rsa-sha256; c=relaxed/relaxed; d=iol.unh.edu; s=unh-iol; t=1762992598; x=1763597398; darn=dpdk.org; h=references:in-reply-to:cc:to:from:subject:message-id:date:from:to :cc:subject:date:message-id:reply-to; bh=clDCnYkseOOS/MqyMSbscBFoCCxhj5+LZMu+QQMJe9w=; b=SY06pZMQrTR2DgNI0BozVl5syi5vZRkmILOcPKmgA+2mNqdMLsihVt/tAtIIti9Ope uCIyVF6yfxwVUyfhIf3h/GgUgNkh/0YnYKdt29wfyAk5i9KF6S1X6sBMFLxEAG1rC8rT 9osl1dYadXAjfapQF/UjKpIhL+e6pHVbfv8Qc= X-Google-DKIM-Signature: v=1; a=rsa-sha256; c=relaxed/relaxed; d=1e100.net; s=20230601; t=1762992598; x=1763597398; h=references:in-reply-to:cc:to:from:subject:message-id:date:x-gm-gg :x-gm-message-state:from:to:cc:subject:date:message-id:reply-to; bh=clDCnYkseOOS/MqyMSbscBFoCCxhj5+LZMu+QQMJe9w=; b=oj5H3tjLPvbkqOYVya6xhVC+KYzvlLUQu1qRQIQ3ZZmXHmiRV6MQ+7Gc5sd8MzChPo GnyKSgdwO1IZBYUF364KF2DTrWPC21KeBFvKIZtlZdXoMJiLQ0cg1NH/yn03tgSmYLJs KvL0CwqLZ37t87iFeWESBMnIyATpofh8rQXSQuLBEGfiiZzhFxQ1T0H6Ngw3HqUiCyd+ NKtM5LcCV/rDtdAvOhS16Ncm9ulACH258jfVzc4fuxiTwU7DMVynFW0TM7R60yZCziDZ 2iFcTbreUYPGhIGsFLkpzdPhi7AElZNr4QBxD/3qbivSZDyM56yU6TdLCX0rQdPNfFPy XI3w== X-Gm-Message-State: AOJu0YyNnV+3y5rFqFj202Ql6L9H9QGhlH34iwp4RukbeTAHn9Z8fzLE V1N8Le4WaBGqlRQpau9gZa780hHPUuS0Q90Iz0hhPAuGyQJW22IpuchyRZqbcAanVaztxHQk0Ol b4/WgZo9AcMnFuG0pnYgcH0dCz91xqDZDXgfSUU5reNFr6OABBqKD6r7ui1+Z X-Gm-Gg: ASbGncvuwMuHNNwNIlo5Pz550S1phcM/C869EQxcQK2N5Ys1yLbTjLkk43L6Xw9OWBk fKO5bXrODzwUIiCED2dzCHXOYebE0RGya8Go/Xqpjm2d+OigFYqkTtCre6AXZO120tMw8cJcYSu HmibChbjiDHjywePrMmTxEGhzuN9cHyD8RX5UZ9pKGExyaQSHOKxPEMLSRqu2xQ4teT4OwkcO8Q ckORt0i3M1eNL58kACvYVjJGVSvrVe5Cs9/qSlQIflU03XEHs8ZNs0IAA0pzYrMRLL0YhMtzwl4 anr4kn/XVrODf1+yr6REG9e6n0esjZeN6iGsRt+4T9Tx1nMDX81Lqg3ROBgwQGNoGOKtgyfZxT7 x6145ostn X-Google-Smtp-Source: AGHT+IFfG93fHY5yyDK/Do5wYqvs6Eo2KGWb/IDFHTD59Qwuk+N2n+7ZxgND6O/F60DnKph/ABchGYC/wHrJ X-Received: by 2002:a05:6870:d0c2:b0:3c9:7b0c:8b60 with SMTP id 586e51a60fabf-3e833f3e315mr2591459fac.2.1762992598186; Wed, 12 Nov 2025 16:09:58 -0800 (PST) Received: from postal.iol.unh.edu (postal.iol.unh.edu. [2606:4100:3880:1234::84]) by smtp-relay.gmail.com with ESMTPS id 586e51a60fabf-3e8522baa57sm37422fac.18.2025.11.12.16.09.58 (version=TLS1_2 cipher=ECDHE-ECDSA-AES128-GCM-SHA256 bits=128/128); Wed, 12 Nov 2025 16:09:58 -0800 (PST) X-Relaying-Domain: iol.unh.edu Date: Wed, 12 Nov 2025 16:09:58 -0800 (PST) Message-ID: <691521d6.050a0220.a3c31.23aeSMTPIN_ADDED_MISSING@mx.google.com> Received: from [172.21.0.2] (unknown [172.18.0.240]) by postal.iol.unh.edu (Postfix) with ESMTP id 78645604D420; Wed, 12 Nov 2025 19:09:57 -0500 (EST) Subject: |SUCCESS| pw158638-158640 [PATCH] [3/3] examples: re-enable format t From: dpdklab@iol.unh.edu To: Test Report Cc: dpdk-test-reports@iol.unh.edu, Chenbo Xia , Maxime Coquelin In-Reply-To: <20251110182209.104087-4-stephen@networkplumber.org> References: <20251110182209.104087-4-stephen@networkplumber.org> Content-Type: text/plain X-BeenThere: test-report@dpdk.org X-Mailman-Version: 2.1.29 Precedence: list List-Id: automatic DPDK test reports List-Unsubscribe: , List-Archive: List-Post: List-Help: List-Subscribe: , Errors-To: test-report-bounces@dpdk.org Test-Label: iol-compile-amd64-testing Test-Status: SUCCESS http://dpdk.org/patch/158640 _Testing PASS_ Submitter: Stephen Hemminger Date: Monday, November 10 2025 18:19:35 DPDK git baseline: Repo:dpdk-next-virtio Branch: master CommitID:6b37c26a95388aa41bb5267c7c42f604fd571a38 158638-158640 --> testing pass Upstream job id: Windows-Compile-DPDK-Native#32267 Test environment and result as below: +-------------------------------+--------------------+------------------+-------------------------+-------------------+----------------------+ | Environment | dpdk_meson_compile | dpdk_compile_ovs | dpdk_llvm_clang_compile | dpdk_msvc_compile | dpdk_mingw64_compile | +===============================+====================+==================+=========================+===================+======================+ | FreeBSD 14.2 | PASS | SKIPPED | SKIPPED | SKIPPED | SKIPPED | +-------------------------------+--------------------+------------------+-------------------------+-------------------+----------------------+ | Ubuntu 20.04 | PASS | SKIPPED | SKIPPED | SKIPPED | SKIPPED | +-------------------------------+--------------------+------------------+-------------------------+-------------------+----------------------+ | CentOS Stream 9 | PASS | SKIPPED | SKIPPED | SKIPPED | SKIPPED | +-------------------------------+--------------------+------------------+-------------------------+-------------------+----------------------+ | Debian GNU/Linux 12 | PASS | SKIPPED | SKIPPED | SKIPPED | SKIPPED | +-------------------------------+--------------------+------------------+-------------------------+-------------------+----------------------+ | Fedora Linux 42 | PASS | PASS | SKIPPED | SKIPPED | SKIPPED | +-------------------------------+--------------------+------------------+-------------------------+-------------------+----------------------+ | Red Hat Enterprise Linux 9.5 | PASS | SKIPPED | SKIPPED | SKIPPED | SKIPPED | +-------------------------------+--------------------+------------------+-------------------------+-------------------+----------------------+ | CentOS Stream 10 | PASS | SKIPPED | SKIPPED | SKIPPED | SKIPPED | +-------------------------------+--------------------+------------------+-------------------------+-------------------+----------------------+ | Ubuntu 24.04 | PASS | PASS | SKIPPED | SKIPPED | SKIPPED | +-------------------------------+--------------------+------------------+-------------------------+-------------------+----------------------+ | Red Hat Enterprise Linux 8.10 | PASS | SKIPPED | SKIPPED | SKIPPED | SKIPPED | +-------------------------------+--------------------+------------------+-------------------------+-------------------+----------------------+ | openSUSE Leap 15.6 | PASS | SKIPPED | SKIPPED | SKIPPED | SKIPPED | +-------------------------------+--------------------+------------------+-------------------------+-------------------+----------------------+ | Ubuntu 22.04 | PASS | SKIPPED | SKIPPED | SKIPPED | SKIPPED | +-------------------------------+--------------------+------------------+-------------------------+-------------------+----------------------+ | Alpine Linux 3.22.0 | PASS | SKIPPED | SKIPPED | SKIPPED | SKIPPED | +-------------------------------+--------------------+------------------+-------------------------+-------------------+----------------------+ | Windows Server 2022 | SKIPPED | SKIPPED | PASS | PASS | PASS | +-------------------------------+--------------------+------------------+-------------------------+-------------------+----------------------+ FreeBSD 14.2 Kernel: 14.2-RELEASE Compiler: clang 18.1.6 Ubuntu 20.04 Kernel: 4.19 Compiler: gcc gcc (Ubuntu 9.4.0-1ubuntu1~20.04.2) 9.4.0 CentOS Stream 9 Kernel: 5.15 Compiler: gcc gcc (GCC) 11.5.0 20240719 (Red Hat 11.5.0-11) Debian GNU/Linux 12 Kernel: 5.15 Compiler: gcc gcc (Debian 12.2.0-14+deb12u1) 12.2.0 Fedora Linux 42 Kernel: 5.15 Compiler: gcc gcc (GCC) 15.2.1 20250808 (Red Hat 15.2.1-1) Red Hat Enterprise Linux 9.5 Kernel: 5.15 Compiler: gcc gcc (GCC) 11.5.0 20240719 (Red Hat 11.5.0-2) CentOS Stream 10 Kernel: 5.15 Compiler: gcc gcc (GCC) 14.2.1 20250110 (Red Hat 14.2.1-8) Ubuntu 24.04 Kernel: 5.15 Compiler: gcc gcc (Ubuntu 13.3.0-6ubuntu2~24.04) 13.3.0 Red Hat Enterprise Linux 8.10 Kernel: 5.15 Compiler: gcc gcc (GCC) 8.5.0 20210514 (Red Hat 8.5.0-22) openSUSE Leap 15.6 Kernel: 5.15 Compiler: gcc gcc (SUSE Linux) 7.5.0 Ubuntu 22.04 Kernel: 5.15 Compiler: gcc gcc (Ubuntu 11.4.0-1ubuntu1~22.04) 11.4.0 Alpine Linux 3.22.0 Kernel: 5.15 Compiler: gcc gcc (Alpine 14.2.0) 14.2.0 Windows Server 2022 Kernel: 10.0.20348.2031 Compiler: clang 15.0.7, gcc 14.1.0 (MinGW), and MSVC VS 19.39.33521 To view detailed results, visit: https://lab.dpdk.org/results/dashboard/patchsets/34524/ UNH-IOL DPDK Community Lab To manage your email subscriptions, visit: https://lab.dpdk.org/results/dashboard/preferences/subscriptions/