From mboxrd@z Thu Jan 1 00:00:00 1970 Return-Path: Received: from mails.dpdk.org (mails.dpdk.org [217.70.189.124]) by inbox.dpdk.org (Postfix) with ESMTP id 3638348AE3 for ; Thu, 13 Nov 2025 01:36:25 +0100 (CET) Received: from mails.dpdk.org (localhost [127.0.0.1]) by mails.dpdk.org (Postfix) with ESMTP id 0E11740151; Thu, 13 Nov 2025 01:36:25 +0100 (CET) Received: from mail-pj1-f100.google.com (mail-pj1-f100.google.com [209.85.216.100]) by mails.dpdk.org (Postfix) with ESMTP id 6A07A40151 for ; Thu, 13 Nov 2025 01:36:23 +0100 (CET) Received: by mail-pj1-f100.google.com with SMTP id 98e67ed59e1d1-340a5c58bf1so156934a91.2 for ; Wed, 12 Nov 2025 16:36:23 -0800 (PST) DKIM-Signature: v=1; a=rsa-sha256; c=relaxed/relaxed; d=iol.unh.edu; s=unh-iol; t=1762994182; x=1763598982; darn=dpdk.org; h=references:in-reply-to:cc:to:from:subject:message-id:date:from:to :cc:subject:date:message-id:reply-to; bh=Yz1WHe2EsUaKdr/PrL6pCF2SRUwAMDMIpdsnNzyLvRY=; b=fiDp3rRgkHM4UMZ6UiEcUcwJ5565ynMstbs9rbPsMavZ2UtQKqUuqZrlAoKfZg3J3w JQczCYEs0a91Ofx/ZpFr6CN3kqdmKy7Sqofg4bBRtmsg+IDrprjdSca8A4jKYpQ2suei B7t5AwnptYdAVtTkQE2R9FLkydS0w8HUzBnnY= X-Google-DKIM-Signature: v=1; a=rsa-sha256; c=relaxed/relaxed; d=1e100.net; s=20230601; t=1762994182; x=1763598982; h=references:in-reply-to:cc:to:from:subject:message-id:date:x-gm-gg :x-gm-message-state:from:to:cc:subject:date:message-id:reply-to; bh=Yz1WHe2EsUaKdr/PrL6pCF2SRUwAMDMIpdsnNzyLvRY=; b=SPfSV9cBdtKTIELjE0Gti3Dw0F/UMrbVTbiR1IQVx1KqttQajW4Hyu/T0ouL7P5SFo 00LavuQSdyDUjGLA8HYCnm945+wxTW/H7FI/at9mclIxT/PUi5Xk5XlFJ9csuQ5q0/Cn eLSLdS4dl315ULWm6pgUeKtVoWe3xb3J5I6lWgTaFRla7LSjP7QM+HmDqy8+WOnuYYba 95EkW12FqT5sv0YSNF1zZlcrUoUtXs+TvBOu/nlH/46JwtTJiM4QsCM0XCp/293+kxZv Oj5bz1NIvOiAZ3/YmXmmRx9jI3xPsNDhE4BM5GkNj56Zf/mf0FRtkJ2vX6f+a5fBfkS+ BN4w== X-Gm-Message-State: AOJu0YylMat7/UIHD/WxUaldUx0kh6XqKONa+JbxEmmoBRoU1Dks3DMF sNwUVBKwukhWhOA6oVDTnJt0k0XHYMoXjM9KH/D3qY9HOxfvOEIDhf/DdM+Y63erzl5IpEAqoJ7 pID16WxmpBYDUEkhmgZD8RvrqK2wBVDOheleN10HIuzz0 X-Gm-Gg: ASbGnctEolnXQW9lRFz55ArWVD+dAdmaVzL3awwJdc3EzTi0afEvtwu0Barz2Ogg5Ji YIv+WXoVMpOeD3Ns8AD3V1cu7zL3F5f6p6AgfkM5VafJlwJRu79FhVNZUYLwb3cmRJzmJcXpG1N +N2Nc1rZahUdp7v2bXoO3GvOU0RCCiU2LtxWH1XCcD8dAUdt39z7iiHdNn5iGOptfP5fp5xZmm1 zJ64FiOosZJek14bqFZICPCj5Be4Hc6uNPma2CJ0B/C1Q3QoJeZjegXPtKO1iS+ZAeYFUANc4tG u11f2iYOSVfmKaVoiqceDVerNJUCe9Eblwap8vXGwk0ogydK5OyhM4t762gDQVt7+GsGDewrmKQ BkzkN6tPb6iZJueecTIYopXTIODpoJ4o= X-Google-Smtp-Source: AGHT+IHpC7YtuWhduY9BR9xqu5BtcGcWNceDs4rXK6dq1llpg2D2Jc7rwO+M5nkqSJwKIYTi+Ss3VwVU/2Pz X-Received: by 2002:a17:90b:3fc7:b0:340:ec8f:82d8 with SMTP id 98e67ed59e1d1-343dde130d2mr6897168a91.12.1762994182431; Wed, 12 Nov 2025 16:36:22 -0800 (PST) Received: from postal.iol.unh.edu (postal.iol.unh.edu. [132.177.123.84]) by smtp-relay.gmail.com with ESMTPS id 98e67ed59e1d1-343e06fd4cfsm402516a91.1.2025.11.12.16.36.22 (version=TLS1_2 cipher=ECDHE-ECDSA-AES128-GCM-SHA256 bits=128/128); Wed, 12 Nov 2025 16:36:22 -0800 (PST) X-Relaying-Domain: iol.unh.edu Date: Wed, 12 Nov 2025 16:36:22 -0800 (PST) Message-ID: <69152806.170a0220.1a875e.5270SMTPIN_ADDED_MISSING@mx.google.com> Received: from [172.21.0.2] (unknown [172.18.0.240]) by postal.iol.unh.edu (Postfix) with ESMTP id 9B7316051830; Wed, 12 Nov 2025 19:36:21 -0500 (EST) Subject: |SUCCESS| pw158641 [PATCH] lib/ring: do not allow zero size ring From: dpdklab@iol.unh.edu To: Test Report Cc: dpdk-test-reports@iol.unh.edu In-Reply-To: <20251110222827.575488-1-iboukris@gmail.com> References: <20251110222827.575488-1-iboukris@gmail.com> Content-Type: text/plain X-BeenThere: test-report@dpdk.org X-Mailman-Version: 2.1.29 Precedence: list List-Id: automatic DPDK test reports List-Unsubscribe: , List-Archive: List-Post: List-Help: List-Subscribe: , Errors-To: test-report-bounces@dpdk.org Test-Label: iol-compile-amd64-testing Test-Status: SUCCESS http://dpdk.org/patch/158641 _Testing PASS_ Submitter: Isaac Boukris Date: Monday, November 10 2025 22:28:27 DPDK git baseline: Repo:dpdk Branch: master CommitID:660bde60e43c309ba4b58371e2ac3690593bda0b 158641 --> testing pass Upstream job id: Windows-Compile-DPDK-Native#32268 Test environment and result as below: +-------------------------------+--------------------+------------------+-------------------+-------------------------+ | Environment | dpdk_meson_compile | dpdk_compile_ovs | dpdk_msvc_compile | dpdk_llvm_clang_compile | +===============================+====================+==================+===================+=========================+ | Ubuntu 20.04 | PASS | SKIPPED | SKIPPED | SKIPPED | +-------------------------------+--------------------+------------------+-------------------+-------------------------+ | CentOS Stream 9 | PASS | SKIPPED | SKIPPED | SKIPPED | +-------------------------------+--------------------+------------------+-------------------+-------------------------+ | Red Hat Enterprise Linux 8.10 | PASS | SKIPPED | SKIPPED | SKIPPED | +-------------------------------+--------------------+------------------+-------------------+-------------------------+ | CentOS Stream 10 | PASS | SKIPPED | SKIPPED | SKIPPED | +-------------------------------+--------------------+------------------+-------------------+-------------------------+ | Ubuntu 24.04 | PASS | PASS | SKIPPED | SKIPPED | +-------------------------------+--------------------+------------------+-------------------+-------------------------+ | Fedora Linux 42 | PASS | PASS | SKIPPED | SKIPPED | +-------------------------------+--------------------+------------------+-------------------+-------------------------+ | Debian GNU/Linux 12 | PASS | SKIPPED | SKIPPED | SKIPPED | +-------------------------------+--------------------+------------------+-------------------+-------------------------+ | openSUSE Leap 15.6 | PASS | SKIPPED | SKIPPED | SKIPPED | +-------------------------------+--------------------+------------------+-------------------+-------------------------+ | Red Hat Enterprise Linux 9.5 | PASS | SKIPPED | SKIPPED | SKIPPED | +-------------------------------+--------------------+------------------+-------------------+-------------------------+ | Ubuntu 22.04 | PASS | SKIPPED | SKIPPED | SKIPPED | +-------------------------------+--------------------+------------------+-------------------+-------------------------+ | Alpine Linux 3.22.0 | PASS | SKIPPED | SKIPPED | SKIPPED | +-------------------------------+--------------------+------------------+-------------------+-------------------------+ | FreeBSD 14.2 | PASS | SKIPPED | SKIPPED | SKIPPED | +-------------------------------+--------------------+------------------+-------------------+-------------------------+ | Windows Server 2022 | SKIPPED | SKIPPED | PASS | PASS | +-------------------------------+--------------------+------------------+-------------------+-------------------------+ Ubuntu 20.04 Kernel: 4.19 Compiler: gcc gcc (Ubuntu 9.4.0-1ubuntu1~20.04.2) 9.4.0 CentOS Stream 9 Kernel: 5.15 Compiler: gcc gcc (GCC) 11.5.0 20240719 (Red Hat 11.5.0-11) Red Hat Enterprise Linux 8.10 Kernel: 5.15 Compiler: gcc gcc (GCC) 8.5.0 20210514 (Red Hat 8.5.0-22) CentOS Stream 10 Kernel: 5.15 Compiler: gcc gcc (GCC) 14.2.1 20250110 (Red Hat 14.2.1-8) Ubuntu 24.04 Kernel: 5.15 Compiler: gcc gcc (Ubuntu 13.3.0-6ubuntu2~24.04) 13.3.0 Fedora Linux 42 Kernel: 5.15 Compiler: gcc gcc (GCC) 15.2.1 20250808 (Red Hat 15.2.1-1) Debian GNU/Linux 12 Kernel: 5.15 Compiler: gcc gcc (Debian 12.2.0-14+deb12u1) 12.2.0 openSUSE Leap 15.6 Kernel: 5.15 Compiler: gcc gcc (SUSE Linux) 7.5.0 Red Hat Enterprise Linux 9.5 Kernel: 5.15 Compiler: gcc gcc (GCC) 11.5.0 20240719 (Red Hat 11.5.0-2) Ubuntu 22.04 Kernel: 5.15 Compiler: gcc gcc (Ubuntu 11.4.0-1ubuntu1~22.04) 11.4.0 Alpine Linux 3.22.0 Kernel: 5.15 Compiler: gcc gcc (Alpine 14.2.0) 14.2.0 FreeBSD 14.2 Kernel: 14.2-RELEASE Compiler: clang 18.1.6 Windows Server 2022 Kernel: 10.0.20348.2031 Compiler: clang 15.0.7, gcc 14.1.0 (MinGW), and MSVC VS 19.39.33521 To view detailed results, visit: https://lab.dpdk.org/results/dashboard/patchsets/34525/ UNH-IOL DPDK Community Lab To manage your email subscriptions, visit: https://lab.dpdk.org/results/dashboard/preferences/subscriptions/