From mboxrd@z Thu Jan 1 00:00:00 1970 Return-Path: Received: from mails.dpdk.org (mails.dpdk.org [217.70.189.124]) by inbox.dpdk.org (Postfix) with ESMTP id 8233E48AF1 for ; Thu, 13 Nov 2025 02:03:44 +0100 (CET) Received: from mails.dpdk.org (localhost [127.0.0.1]) by mails.dpdk.org (Postfix) with ESMTP id 5FBC440151; Thu, 13 Nov 2025 02:03:44 +0100 (CET) Received: from mail-yw1-f225.google.com (mail-yw1-f225.google.com [209.85.128.225]) by mails.dpdk.org (Postfix) with ESMTP id 3B25040151 for ; Thu, 13 Nov 2025 02:03:42 +0100 (CET) Received: by mail-yw1-f225.google.com with SMTP id 00721157ae682-787c9f90eccso3118557b3.3 for ; Wed, 12 Nov 2025 17:03:42 -0800 (PST) DKIM-Signature: v=1; a=rsa-sha256; c=relaxed/relaxed; d=iol.unh.edu; s=unh-iol; t=1762995821; x=1763600621; darn=dpdk.org; h=references:in-reply-to:cc:to:from:subject:message-id:date:from:to :cc:subject:date:message-id:reply-to; bh=HBv3ReQYdK1ED1MFzVd2k6lQ0fU6e/Co/gLkdV4qioI=; b=OXfyf/p5jPcTy6gnPEB8uW5TwI8NngTxPzTzwF24UChxEdF22Vg3kdgiFelbxv4VFb ELPbYHH5aCWwoEMIBtaEZ6sCIsKMKpG3YSQ9TgRHo/uLywwktng0tQPij0srlhILLXTl E05I7hqIRWnadLNSAqBHVeCUL7jOuoV3vTiaE= X-Google-DKIM-Signature: v=1; a=rsa-sha256; c=relaxed/relaxed; d=1e100.net; s=20230601; t=1762995821; x=1763600621; h=references:in-reply-to:cc:to:from:subject:message-id:date:x-gm-gg :x-gm-message-state:from:to:cc:subject:date:message-id:reply-to; bh=HBv3ReQYdK1ED1MFzVd2k6lQ0fU6e/Co/gLkdV4qioI=; b=g83tB7EjYK+MXSecuwAypJ9Q9dMuErRumgGO4nT/kX+t3BfPPwfD53cDQNAsvRQ2Bb duZB/wSLp5OM61L9HL7V5io9rOcFXLB3WCayIWpUHlon2/I4cXJj5kbTo9LEHGd3Db8e 2OdTAV15RcxpYvIvFVPsO0nt3Ug13lAT3X4NuwiKvm+hCzj0WTHjJVqofKlW6nK4/xK2 I9waTuGSrSlyE9K+NuHWTOalWgJ+6JMMK4qkePCUaGoXuwrklhJ/fVXjxdH5b7p444pl GoAZPRrpVCKkwk3XRr2lf6kVElpAvHm5MZbt/jHUJMe6l7mYDv7YOXikiSV0J7Ovnn7B O5sw== X-Gm-Message-State: AOJu0Yz1o1KnD7xmt2aR9bhaVniJpfSQ3jQKL8untTHBFECmfTfOqduK hchtVDPgHGkhzQAEf72ZO6ao7ywxZHTzUEiNJmy+nqkdzk1YV5346uf1yWC1RJzjHWgJ3kTaFcF RaVgstKerzyjvNoLuhYVw5yhPFIJhTgqOVQ55w/GEzr6XnxSAsq9Y/UzMX9NE X-Gm-Gg: ASbGncsN7u9WAEO1jFxYojYBFW5gpEvm15EF6hYjxDLZ65nSZZ31hR6uzo2pvV99Ezl 2tqgVzoFhX8ShZC4cXX8aTvHn3K5zC2+i7/qBDivvRP0mTre+0VGVuX+Lih4+gef4Su0bmBi8UB STY1aZAQ8Jk+7oT9d9Vfa5sVW+0BZ1pT9c22mlUXMFkCZycmhe4BYQKSXSqez48X8QuZOAeGU0Q qURvW1jcpuvtzPcFlnSxN399PAuoXJZMNH+hUQuNQAgfbqElzzbmMZj1MlYDUVRXr5gJ0DWJJ+D lBTmjU1zOYUFOfITNsBsKFD4/AqMZiL1BwN+uRcroqPhSoLpq2wXYIcTwYVHfjiTF/gARnT+jyq tuP6U5krB X-Google-Smtp-Source: AGHT+IHokRP4tt54LFFkj8gPufIsUkm+to98kMGZtEOs5YH0oJIggY98dmV5ykjwVogH7o3hVrO3ciyEOdW7 X-Received: by 2002:a05:690c:3588:b0:786:5712:46c3 with SMTP id 00721157ae682-7881368ce8amr48807887b3.41.1762995821499; Wed, 12 Nov 2025 17:03:41 -0800 (PST) Received: from postal.iol.unh.edu (postal.iol.unh.edu. [2606:4100:3880:1234::84]) by smtp-relay.gmail.com with ESMTPS id 00721157ae682-78821f66cccsm302327b3.17.2025.11.12.17.03.41 (version=TLS1_2 cipher=ECDHE-ECDSA-AES128-GCM-SHA256 bits=128/128); Wed, 12 Nov 2025 17:03:41 -0800 (PST) X-Relaying-Domain: iol.unh.edu Date: Wed, 12 Nov 2025 17:03:41 -0800 (PST) Message-ID: <69152e6d.050a0220.3d38a6.1beaSMTPIN_ADDED_MISSING@mx.google.com> Received: from [172.21.0.2] (unknown [172.18.0.240]) by postal.iol.unh.edu (Postfix) with ESMTP id EAE756051830; Wed, 12 Nov 2025 20:03:40 -0500 (EST) Subject: |SUCCESS| pw158642 [PATCH] [v2] lib/ring: do not allow zero size rin From: dpdklab@iol.unh.edu To: Test Report Cc: dpdk-test-reports@iol.unh.edu In-Reply-To: <20251110231546.576516-1-iboukris@gmail.com> References: <20251110231546.576516-1-iboukris@gmail.com> Content-Type: text/plain X-BeenThere: test-report@dpdk.org X-Mailman-Version: 2.1.29 Precedence: list List-Id: automatic DPDK test reports List-Unsubscribe: , List-Archive: List-Post: List-Help: List-Subscribe: , Errors-To: test-report-bounces@dpdk.org Test-Label: iol-unit-amd64-testing Test-Status: SUCCESS http://dpdk.org/patch/158642 _Testing PASS_ Submitter: Isaac Boukris Date: Monday, November 10 2025 23:15:45 DPDK git baseline: Repo:dpdk Branch: master CommitID:0cacbcd9e9595c1392629e151403b348917a2d50 158642 --> testing pass Upstream job id: Generic-VM-Unit-Test-DPDK#32442 Test environment and result as below: +-------------------------------+----------------+ | Environment | dpdk_unit_test | +===============================+================+ | CentOS Stream 10 | PASS | +-------------------------------+----------------+ | Ubuntu 22.04 | PASS | +-------------------------------+----------------+ | CentOS Stream 9 | PASS | +-------------------------------+----------------+ | Debian GNU/Linux 12 | PASS | +-------------------------------+----------------+ | Fedora Linux 40 | PASS | +-------------------------------+----------------+ | Red Hat Enterprise Linux 8.10 | PASS | +-------------------------------+----------------+ | Ubuntu 24.04 | PASS | +-------------------------------+----------------+ | Ubuntu 20.04 | PASS | +-------------------------------+----------------+ | Red Hat Enterprise Linux 9.5 | PASS | +-------------------------------+----------------+ | Fedora Linux 42 | PASS | +-------------------------------+----------------+ | Fedora Linux 41 | PASS | +-------------------------------+----------------+ | Windows Server 2022 | PASS | +-------------------------------+----------------+ CentOS Stream 10 Kernel: 5.15 Compiler: gcc gcc (GCC) 14.2.1 20250110 (Red Hat 14.2.1-8) Ubuntu 22.04 Kernel: 5.15 Compiler: gcc gcc (Ubuntu 11.4.0-1ubuntu1~22.04) 11.4.0 CentOS Stream 9 Kernel: 5.15 Compiler: gcc gcc (GCC) 11.5.0 20240719 (Red Hat 11.5.0-11) Debian GNU/Linux 12 Kernel: 5.15 Compiler: gcc gcc (Debian 12.2.0-14+deb12u1) 12.2.0 Fedora Linux 40 Kernel: 5.15 Compiler: clang gcc (GCC) 14.2.1 20240912 (Red Hat 14.2.1-3) Red Hat Enterprise Linux 8.10 Kernel: 5.15 Compiler: gcc gcc (GCC) 8.5.0 20210514 (Red Hat 8.5.0-22) Ubuntu 24.04 Kernel: 5.15 Compiler: gcc gcc (Ubuntu 13.3.0-6ubuntu2~24.04) 13.3.0 Ubuntu 20.04 Kernel: 5.15 Compiler: gcc gcc (Ubuntu 9.4.0-1ubuntu1~20.04.2) 9.4.0 Red Hat Enterprise Linux 9.5 Kernel: 5.15 Compiler: gcc gcc (GCC) 11.5.0 20240719 (Red Hat 11.5.0-2) Fedora Linux 42 Kernel: 5.15 Compiler: clang gcc (GCC) 15.2.1 20250808 (Red Hat 15.2.1-1) Fedora Linux 41 Kernel: 5.15 Compiler: gcc gcc (GCC) 14.3.1 20250523 (Red Hat 14.3.1-1) Windows Server 2022 Kernel: 10.0.20348.2031 Compiler: clang 15.0.7, gcc 14.1.0 (MinGW), and MSVC VS 19.39.33521 To view detailed results, visit: https://lab.dpdk.org/results/dashboard/patchsets/34526/ UNH-IOL DPDK Community Lab To manage your email subscriptions, visit: https://lab.dpdk.org/results/dashboard/preferences/subscriptions/