From mboxrd@z Thu Jan 1 00:00:00 1970 Return-Path: Received: from mails.dpdk.org (mails.dpdk.org [217.70.189.124]) by inbox.dpdk.org (Postfix) with ESMTP id 2F3FF48AF1 for ; Thu, 13 Nov 2025 02:11:56 +0100 (CET) Received: from mails.dpdk.org (localhost [127.0.0.1]) by mails.dpdk.org (Postfix) with ESMTP id 116A540151; Thu, 13 Nov 2025 02:11:56 +0100 (CET) Received: from mail-pg1-f227.google.com (mail-pg1-f227.google.com [209.85.215.227]) by mails.dpdk.org (Postfix) with ESMTP id C79DB40151 for ; Thu, 13 Nov 2025 02:11:54 +0100 (CET) Received: by mail-pg1-f227.google.com with SMTP id 41be03b00d2f7-b6ce6d1d3dcso154461a12.3 for ; Wed, 12 Nov 2025 17:11:54 -0800 (PST) DKIM-Signature: v=1; a=rsa-sha256; c=relaxed/relaxed; d=iol.unh.edu; s=unh-iol; t=1762996314; x=1763601114; darn=dpdk.org; h=references:in-reply-to:cc:to:from:subject:message-id:date:from:to :cc:subject:date:message-id:reply-to; bh=1Ref9JhitMxjPL24gWmCCtpmemoesoQJiR99tjKbBAI=; b=aZTOK9SG1GB7NVbq4z1ZXFBMKDat65CLgtYLAB1xRfUlA2cjRR4kj/bdRqrgPMt1bN /aVBbNIxz4EsnRyOyk2zMnCsW8/nHci9vp9xmOkRwrcj0CiezlkDQk68nW70mT6QZJIK 6oe9MZBIWgc6hNvnzknXAK/ljBc4akWNBJyiE= X-Google-DKIM-Signature: v=1; a=rsa-sha256; c=relaxed/relaxed; d=1e100.net; s=20230601; t=1762996314; x=1763601114; h=references:in-reply-to:cc:to:from:subject:message-id:date:x-gm-gg :x-gm-message-state:from:to:cc:subject:date:message-id:reply-to; bh=1Ref9JhitMxjPL24gWmCCtpmemoesoQJiR99tjKbBAI=; b=httjao9p22m5inw3e2GqMpJMu9/ICdL2h39WohAHoIoki9IlWAnFp3YJtjauFTTlqB 3ODz8yZAYTMkc7lrHsAuiHU1nnNNmv72KVH0+iP3gXiyLxpLpcweBHfkxS4grrua4U3g PchnIgvL1Z8rwPgmFpxY01aDkjAsMAcLUZTDRI8R0AbU/nyWaKHfC8EKkqOqXlHKzUx2 H8omEjmQlJBBPeN6+Zfk663PnLrydZAqw26R/OiC0mwb3+XE9uqDZ+pGglMhNtNHaJFQ 8+dXJshhNzVKnVLRdM3cDvtWuhGw46x5Cyqb63mX2dJEvY+vnET3h9jEtg/5kV0uiy6f n0gw== X-Gm-Message-State: AOJu0Yyr2D68cF/ll7fvbDoiBD8YKlFEq15TmEn438pFpa0cx344YwtZ P+bedkmaFYBY9htNmDU0aBrGEpGF4+414W3d2qcnDxac7kDpM0O7R4rUUWC2w8yNgSQxl7tEtp4 8bxsKYvXgcGLfyqJAnPx5fTBQbEgIHXwx4blG3DPr0A4/wY8uROVRr+OSaQkq X-Gm-Gg: ASbGncs0SJN0TdLEpRcYmDTulcsD00bU6haaaV1pL6SVN3hpaUpPIhWIacBSMxT+vJl 9aVvf1OH7XTKt4I77qLHXEGzsy9lfGs7LdfpD6zaw4Mh6h/QJKoeUA65Df8wDNAX6ikkt/NdoVJ DCZWBmgqpiT+ymTqbT9eZx7yJYxGvCtrMDAROX3NqiBAiRk3Ua+5FMRmLzRc47wlCzMGV9OG4EP 4FBWWGKnTmcSRp3IAbR7ioJO5EUSBO/JqmUcukLjAX1ML2ikkCSWv6kl1V/DcprcvHJU2NaGhms nF4L9JtgMeHjipq8fgvHxRbU/IE0esBMqBFUsTrao8rlQl0mivhcioFJEyNn8PTPC/HmtIder+O rxYPl8xKu X-Google-Smtp-Source: AGHT+IFjcE78lSJn5gsC1rn1CeouONuyB1KnQHXjfWYeIjZ8+6UFs8ReD394li16olryB84cOgsKfBdZF6Wq X-Received: by 2002:a17:903:46c6:b0:267:a95d:7164 with SMTP id d9443c01a7336-2984edf279cmr59782055ad.60.1762996313687; Wed, 12 Nov 2025 17:11:53 -0800 (PST) Received: from postal.iol.unh.edu (postal.iol.unh.edu. [2606:4100:3880:1234::84]) by smtp-relay.gmail.com with ESMTPS id d9443c01a7336-2985c234814sm579105ad.8.2025.11.12.17.11.53 (version=TLS1_2 cipher=ECDHE-ECDSA-AES128-GCM-SHA256 bits=128/128); Wed, 12 Nov 2025 17:11:53 -0800 (PST) X-Relaying-Domain: iol.unh.edu Date: Wed, 12 Nov 2025 17:11:53 -0800 (PST) Message-ID: <69153059.170a0220.c5523.3b9bSMTPIN_ADDED_MISSING@mx.google.com> Received: from [172.21.0.2] (unknown [172.18.0.240]) by postal.iol.unh.edu (Postfix) with ESMTP id C617C6051830; Wed, 12 Nov 2025 20:11:52 -0500 (EST) Subject: |SUCCESS| pw158642 [PATCH] [v2] lib/ring: do not allow zero size rin From: dpdklab@iol.unh.edu To: Test Report Cc: dpdk-test-reports@iol.unh.edu In-Reply-To: <20251110231546.576516-1-iboukris@gmail.com> References: <20251110231546.576516-1-iboukris@gmail.com> Content-Type: text/plain X-BeenThere: test-report@dpdk.org X-Mailman-Version: 2.1.29 Precedence: list List-Id: automatic DPDK test reports List-Unsubscribe: , List-Archive: List-Post: List-Help: List-Subscribe: , Errors-To: test-report-bounces@dpdk.org Test-Label: iol-compile-amd64-testing Test-Status: SUCCESS http://dpdk.org/patch/158642 _Testing PASS_ Submitter: Isaac Boukris Date: Monday, November 10 2025 23:15:45 DPDK git baseline: Repo:dpdk Branch: master CommitID:0cacbcd9e9595c1392629e151403b348917a2d50 158642 --> testing pass Upstream job id: Windows-Compile-DPDK-VS#7491 Test environment and result as below: +-------------------------------+--------------------+------------------+-------------------+ | Environment | dpdk_meson_compile | dpdk_compile_ovs | dpdk_msvc_compile | +===============================+====================+==================+===================+ | Ubuntu 20.04 | PASS | SKIPPED | SKIPPED | +-------------------------------+--------------------+------------------+-------------------+ | CentOS Stream 9 | PASS | SKIPPED | SKIPPED | +-------------------------------+--------------------+------------------+-------------------+ | FreeBSD 14.2 | PASS | SKIPPED | SKIPPED | +-------------------------------+--------------------+------------------+-------------------+ | Fedora Linux 42 | PASS | PASS | SKIPPED | +-------------------------------+--------------------+------------------+-------------------+ | openSUSE Leap 15.6 | PASS | SKIPPED | SKIPPED | +-------------------------------+--------------------+------------------+-------------------+ | Debian GNU/Linux 12 | PASS | SKIPPED | SKIPPED | +-------------------------------+--------------------+------------------+-------------------+ | Red Hat Enterprise Linux 9.5 | PASS | SKIPPED | SKIPPED | +-------------------------------+--------------------+------------------+-------------------+ | Red Hat Enterprise Linux 8.10 | PASS | SKIPPED | SKIPPED | +-------------------------------+--------------------+------------------+-------------------+ | Ubuntu 24.04 | PASS | PASS | SKIPPED | +-------------------------------+--------------------+------------------+-------------------+ | CentOS Stream 10 | PASS | SKIPPED | SKIPPED | +-------------------------------+--------------------+------------------+-------------------+ | Alpine Linux 3.22.0 | PASS | SKIPPED | SKIPPED | +-------------------------------+--------------------+------------------+-------------------+ | Ubuntu 22.04 | PASS | SKIPPED | SKIPPED | +-------------------------------+--------------------+------------------+-------------------+ | Windows Server 2022 | SKIPPED | SKIPPED | PASS | +-------------------------------+--------------------+------------------+-------------------+ Ubuntu 20.04 Kernel: 5.15 Compiler: gcc gcc (Ubuntu 9.4.0-1ubuntu1~20.04.2) 9.4.0 CentOS Stream 9 Kernel: 5.15 Compiler: gcc gcc (GCC) 11.5.0 20240719 (Red Hat 11.5.0-11) FreeBSD 14.2 Kernel: 14.2-RELEASE Compiler: clang 18.1.6 Fedora Linux 42 Kernel: 5.15 Compiler: gcc gcc (GCC) 15.2.1 20250808 (Red Hat 15.2.1-1) openSUSE Leap 15.6 Kernel: 5.15 Compiler: gcc gcc (SUSE Linux) 7.5.0 Debian GNU/Linux 12 Kernel: 5.15 Compiler: gcc gcc (Debian 12.2.0-14+deb12u1) 12.2.0 Red Hat Enterprise Linux 9.5 Kernel: 5.15 Compiler: gcc gcc (GCC) 11.5.0 20240719 (Red Hat 11.5.0-2) Red Hat Enterprise Linux 8.10 Kernel: 5.15 Compiler: gcc gcc (GCC) 8.5.0 20210514 (Red Hat 8.5.0-22) Ubuntu 24.04 Kernel: 5.15 Compiler: gcc gcc (Ubuntu 13.3.0-6ubuntu2~24.04) 13.3.0 CentOS Stream 10 Kernel: 5.15 Compiler: gcc gcc (GCC) 14.2.1 20250110 (Red Hat 14.2.1-8) Alpine Linux 3.22.0 Kernel: 5.15 Compiler: gcc gcc (Alpine 14.2.0) 14.2.0 Ubuntu 22.04 Kernel: 5.15 Compiler: gcc gcc (Ubuntu 11.4.0-1ubuntu1~22.04) 11.4.0 Windows Server 2022 Kernel: 10.0.20348.2031 Compiler: clang 15.0.7, gcc 14.1.0 (MinGW), and MSVC VS 19.39.33521 To view detailed results, visit: https://lab.dpdk.org/results/dashboard/patchsets/34526/ UNH-IOL DPDK Community Lab To manage your email subscriptions, visit: https://lab.dpdk.org/results/dashboard/preferences/subscriptions/