From mboxrd@z Thu Jan 1 00:00:00 1970 Return-Path: Received: from mails.dpdk.org (mails.dpdk.org [217.70.189.124]) by inbox.dpdk.org (Postfix) with ESMTP id 3FE4748AF1 for ; Thu, 13 Nov 2025 02:12:57 +0100 (CET) Received: from mails.dpdk.org (localhost [127.0.0.1]) by mails.dpdk.org (Postfix) with ESMTP id 395A540151; Thu, 13 Nov 2025 02:12:57 +0100 (CET) Received: from mail-qv1-f100.google.com (mail-qv1-f100.google.com [209.85.219.100]) by mails.dpdk.org (Postfix) with ESMTP id 8CE8640151 for ; Thu, 13 Nov 2025 02:12:56 +0100 (CET) Received: by mail-qv1-f100.google.com with SMTP id 6a1803df08f44-88056cab4eeso1892146d6.2 for ; Wed, 12 Nov 2025 17:12:56 -0800 (PST) DKIM-Signature: v=1; a=rsa-sha256; c=relaxed/relaxed; d=iol.unh.edu; s=unh-iol; t=1762996376; x=1763601176; darn=dpdk.org; h=references:in-reply-to:cc:to:from:subject:message-id:date:from:to :cc:subject:date:message-id:reply-to; bh=nabMFl5u6qdxoohZz6JyiOVPmX/N9lVcmpKL7TYSVLc=; b=fnQ5hnCQgPd0ZS2JzjJ11fY8EC4ytJGJfO0ZjgRKoUg/R7JdauWIWD5MlKYFbHp9pt nr/uWLL6kkcayPSvMHtq9sixhIPJ90UvI7pj6+mzM3fr1agewA1T9+0fw9tL+2ToEKHE CLODlvwaHsoJp8Mqvex2trQgclKPjDTUvOKvw= X-Google-DKIM-Signature: v=1; a=rsa-sha256; c=relaxed/relaxed; d=1e100.net; s=20230601; t=1762996376; x=1763601176; h=references:in-reply-to:cc:to:from:subject:message-id:date:x-gm-gg :x-gm-message-state:from:to:cc:subject:date:message-id:reply-to; bh=nabMFl5u6qdxoohZz6JyiOVPmX/N9lVcmpKL7TYSVLc=; b=dUW5fgFPFIrPUC/oPkOopwpdAQmjnvyUWfL/YbNyfYCGvcudMkCZk3Sioyd8V+vdLs V3bolDCv7tKmj0iBj7p09d4iur1SYJZA7n1gAARnTdtN9/+qGY8BtfMWpVt9iEimU4/1 E4n7Q6tFgUXDlhmhIo+Pi6k4GtZ2TXq4ruCchAt/OoJf/Yqz2hPpqTsDBzHuuDYlGi7L 4QM5L75SLiq/DjYVo3XwnBWUjajURRbC+JlFCa2OWsTE3s5rLwHSWqiZ+CO/u2jYlr8C R5fZ/kwiQZVRrxz6cBCfFcV2iamIJNV91iGInSeEZIpOihilfh+nhhsA4djC00ATxPPX KuEQ== X-Gm-Message-State: AOJu0YzEIscDf8Cn84JZAb48aklDfhNCzZ08WnBT0mhSqI9crjTOG/nt lLqsxAZXo6lQq0nPQAgJlQU/2YUWqZ9whC03uUM6r/L7kZ3kGE9B35KL9xFE7H/mKxY6CF5GTTs q5xBkUNDWt7VRfdbce2n8rvbmDAbiOdaXHnbJXssPbZcj X-Gm-Gg: ASbGncsIMyoZDJWoXuCdZW7bf0GqBb/esoKzRI3iiefwtRgnEJx4GuvVI1P1bi8vSfF kjN58KiJEETj1hv8oXfnFfNxrfKkxVxMvb7CGRdnijecsmgx5hnGNQTCkPtVwk9eUNwBu0H66i0 MLqr6GO7l63tbBexXobBsTRRyvTPitENoRlxpar1JdQpRL7RCiSNJVNcwzsjhMsB5AyN11ZnShx c+YJomPD2gl1eQjv0X4HdwFOjHQkw4T6+npS1MMRBC5bK/RNxiUzqH7jgu/gpSuLhfBFFvMlNS4 0xqFv6IKAWYNZgk0ofdHO+/kQWpoXDnvddETrKZukbSyNX+cefIutaoWBnMlRws5hFHDfc64Cl0 aU9k+2HPsBlT9ap8/DMrTwfT4i+wFE/Y= X-Google-Smtp-Source: AGHT+IGJLlGtDLD3zoLnK8+n1QBmwsQEm9egFyJ+xNTiLjcWmatac0NouvK2slUp7WJR4Ix2i9Oz1c+wLt0X X-Received: by 2002:a05:6214:cc7:b0:880:4c15:599b with SMTP id 6a1803df08f44-882718bb150mr78459426d6.14.1762996375850; Wed, 12 Nov 2025 17:12:55 -0800 (PST) Received: from postal.iol.unh.edu (postal.iol.unh.edu. [132.177.123.84]) by smtp-relay.gmail.com with ESMTPS id 6a1803df08f44-8828653a03dsm418286d6.19.2025.11.12.17.12.55 (version=TLS1_2 cipher=ECDHE-ECDSA-AES128-GCM-SHA256 bits=128/128); Wed, 12 Nov 2025 17:12:55 -0800 (PST) X-Relaying-Domain: iol.unh.edu Date: Wed, 12 Nov 2025 17:12:55 -0800 (PST) Message-ID: <69153097.050a0220.1039c6.2482SMTPIN_ADDED_MISSING@mx.google.com> Received: from [172.21.0.3] (unknown [172.18.0.240]) by postal.iol.unh.edu (Postfix) with ESMTP id 8FE866051830; Wed, 12 Nov 2025 20:12:55 -0500 (EST) Subject: |SUCCESS| pw158641 [PATCH] lib/ring: do not allow zero size ring From: dpdklab@iol.unh.edu To: Test Report Cc: dpdk-test-reports@iol.unh.edu In-Reply-To: <20251110222827.575488-1-iboukris@gmail.com> References: <20251110222827.575488-1-iboukris@gmail.com> Content-Type: text/plain X-BeenThere: test-report@dpdk.org X-Mailman-Version: 2.1.29 Precedence: list List-Id: automatic DPDK test reports List-Unsubscribe: , List-Archive: List-Post: List-Help: List-Subscribe: , Errors-To: test-report-bounces@dpdk.org Test-Label: iol-compile-amd64-testing Test-Status: SUCCESS http://dpdk.org/patch/158641 _Testing PASS_ Submitter: Isaac Boukris Date: Monday, November 10 2025 22:28:27 DPDK git baseline: Repo:dpdk Branch: master CommitID:660bde60e43c309ba4b58371e2ac3690593bda0b 158641 --> testing pass Upstream job id: Windows-Compile-DPDK-Native#32269 Test environment and result as below: +-------------------------------+--------------------+------------------+-------------------+-------------------------+----------------------+ | Environment | dpdk_meson_compile | dpdk_compile_ovs | dpdk_msvc_compile | dpdk_llvm_clang_compile | dpdk_mingw64_compile | +===============================+====================+==================+===================+=========================+======================+ | Ubuntu 20.04 | PASS | SKIPPED | SKIPPED | SKIPPED | SKIPPED | +-------------------------------+--------------------+------------------+-------------------+-------------------------+----------------------+ | CentOS Stream 9 | PASS | SKIPPED | SKIPPED | SKIPPED | SKIPPED | +-------------------------------+--------------------+------------------+-------------------+-------------------------+----------------------+ | Red Hat Enterprise Linux 8.10 | PASS | SKIPPED | SKIPPED | SKIPPED | SKIPPED | +-------------------------------+--------------------+------------------+-------------------+-------------------------+----------------------+ | CentOS Stream 10 | PASS | SKIPPED | SKIPPED | SKIPPED | SKIPPED | +-------------------------------+--------------------+------------------+-------------------+-------------------------+----------------------+ | Ubuntu 24.04 | PASS | PASS | SKIPPED | SKIPPED | SKIPPED | +-------------------------------+--------------------+------------------+-------------------+-------------------------+----------------------+ | Fedora Linux 42 | PASS | PASS | SKIPPED | SKIPPED | SKIPPED | +-------------------------------+--------------------+------------------+-------------------+-------------------------+----------------------+ | Debian GNU/Linux 12 | PASS | SKIPPED | SKIPPED | SKIPPED | SKIPPED | +-------------------------------+--------------------+------------------+-------------------+-------------------------+----------------------+ | openSUSE Leap 15.6 | PASS | SKIPPED | SKIPPED | SKIPPED | SKIPPED | +-------------------------------+--------------------+------------------+-------------------+-------------------------+----------------------+ | Red Hat Enterprise Linux 9.5 | PASS | SKIPPED | SKIPPED | SKIPPED | SKIPPED | +-------------------------------+--------------------+------------------+-------------------+-------------------------+----------------------+ | Ubuntu 22.04 | PASS | SKIPPED | SKIPPED | SKIPPED | SKIPPED | +-------------------------------+--------------------+------------------+-------------------+-------------------------+----------------------+ | Alpine Linux 3.22.0 | PASS | SKIPPED | SKIPPED | SKIPPED | SKIPPED | +-------------------------------+--------------------+------------------+-------------------+-------------------------+----------------------+ | FreeBSD 14.2 | PASS | SKIPPED | SKIPPED | SKIPPED | SKIPPED | +-------------------------------+--------------------+------------------+-------------------+-------------------------+----------------------+ | Windows Server 2022 | SKIPPED | SKIPPED | PASS | PASS | PASS | +-------------------------------+--------------------+------------------+-------------------+-------------------------+----------------------+ Ubuntu 20.04 Kernel: 4.19 Compiler: gcc gcc (Ubuntu 9.4.0-1ubuntu1~20.04.2) 9.4.0 CentOS Stream 9 Kernel: 5.15 Compiler: gcc gcc (GCC) 11.5.0 20240719 (Red Hat 11.5.0-11) Red Hat Enterprise Linux 8.10 Kernel: 5.15 Compiler: gcc gcc (GCC) 8.5.0 20210514 (Red Hat 8.5.0-22) CentOS Stream 10 Kernel: 5.15 Compiler: gcc gcc (GCC) 14.2.1 20250110 (Red Hat 14.2.1-8) Ubuntu 24.04 Kernel: 5.15 Compiler: gcc gcc (Ubuntu 13.3.0-6ubuntu2~24.04) 13.3.0 Fedora Linux 42 Kernel: 5.15 Compiler: gcc gcc (GCC) 15.2.1 20250808 (Red Hat 15.2.1-1) Debian GNU/Linux 12 Kernel: 5.15 Compiler: gcc gcc (Debian 12.2.0-14+deb12u1) 12.2.0 openSUSE Leap 15.6 Kernel: 5.15 Compiler: gcc gcc (SUSE Linux) 7.5.0 Red Hat Enterprise Linux 9.5 Kernel: 5.15 Compiler: gcc gcc (GCC) 11.5.0 20240719 (Red Hat 11.5.0-2) Ubuntu 22.04 Kernel: 5.15 Compiler: gcc gcc (Ubuntu 11.4.0-1ubuntu1~22.04) 11.4.0 Alpine Linux 3.22.0 Kernel: 5.15 Compiler: gcc gcc (Alpine 14.2.0) 14.2.0 FreeBSD 14.2 Kernel: 14.2-RELEASE Compiler: clang 18.1.6 Windows Server 2022 Kernel: 10.0.20348.2031 Compiler: clang 15.0.7, gcc 14.1.0 (MinGW), and MSVC VS 19.39.33521 To view detailed results, visit: https://lab.dpdk.org/results/dashboard/patchsets/34525/ UNH-IOL DPDK Community Lab To manage your email subscriptions, visit: https://lab.dpdk.org/results/dashboard/preferences/subscriptions/