From mboxrd@z Thu Jan 1 00:00:00 1970 Return-Path: Received: from mails.dpdk.org (mails.dpdk.org [217.70.189.124]) by inbox.dpdk.org (Postfix) with ESMTP id 6F66448AF1 for ; Thu, 13 Nov 2025 02:14:12 +0100 (CET) Received: from mails.dpdk.org (localhost [127.0.0.1]) by mails.dpdk.org (Postfix) with ESMTP id 693A240151; Thu, 13 Nov 2025 02:14:12 +0100 (CET) Received: from mail-il1-f227.google.com (mail-il1-f227.google.com [209.85.166.227]) by mails.dpdk.org (Postfix) with ESMTP id 2181A40151 for ; Thu, 13 Nov 2025 02:14:11 +0100 (CET) Received: by mail-il1-f227.google.com with SMTP id e9e14a558f8ab-4330d2ea04eso1371015ab.3 for ; Wed, 12 Nov 2025 17:14:11 -0800 (PST) DKIM-Signature: v=1; a=rsa-sha256; c=relaxed/relaxed; d=iol.unh.edu; s=unh-iol; t=1762996450; x=1763601250; darn=dpdk.org; h=cc:to:from:subject:message-id:date:from:to:cc:subject:date :message-id:reply-to; bh=fqSHf334zEgm6BqkaDPRe+Vj/cofB3h6lqzpeP3YaQk=; b=L7onqzCjGh1KUuc+VOn/i01UEaDq7XFdQqUq0zaXDcvgjvF4xF5UeuY1pcM2Ou0tsG 5eo/Ula0zV1PBxzXcbXCB8igcDthDzubXG/+odizM6WYWHmVopa8K0hCcDvbpLRW6rDn j6zbwQ2rXvWijTK++8L6JqAS9+xfzm+b1aqCo= X-Google-DKIM-Signature: v=1; a=rsa-sha256; c=relaxed/relaxed; d=1e100.net; s=20230601; t=1762996450; x=1763601250; h=cc:to:from:subject:message-id:date:x-gm-gg:x-gm-message-state:from :to:cc:subject:date:message-id:reply-to; bh=fqSHf334zEgm6BqkaDPRe+Vj/cofB3h6lqzpeP3YaQk=; b=bn4+BFjyNjiQ7Gh16vtfnEkv/MEMUgsQJkuTJVGxj+f9liBYxgPy/Ndrd/eX2xqQ3B Cf4vzXV661vdhYMPRCf+eO56fSGTqR+i0TWEh0dfQeUAMHgG4IgMUmiYct9IX6L2ACix zItjXzwg1RJT5fP/TG/H0XgU40cYh8cyxznJzFTC6tc+HPISiqLWfnyO+eku7dE1NpXP jwQ3eaxzJ8XRAKFJkiLKZYJAFtdv+VW0+ObcXPPZjYglM8KEydl5x33crZD5J5F9Fx// 6kGhO/SfcmwnqZQeXamrB+NCSKtK0XQN4AX2YF8LRV8TBCP5uzup9edbIb7TxiipUm/+ kymQ== X-Gm-Message-State: AOJu0YwjoxxmI+iBi4Rzrqexh/D/vw2h9L0vgH91dA1TYtBr48srDpR4 bkAllaBZ3dkFUMmTjLlRvCUbeYCIu4XWNt8VEZb+fAyq55rLZRbVVZ6hOd1TeHxZIldgQ5g/XRD JpV79gO7Y/NH9x2C+PZ+GmGIHadnASFG/ao3EZ+rZDdFrh6ZK5i0g X-Gm-Gg: ASbGncthVy16ve0WJiFO6M+l3GRwdvkjHXnQieuhJ65sEl30Qa+0IGcgSEqlKtSQAKj 7iEnZDV8arYF98ok4Ms3LG5qHRZ0j6rV5Bg5qmRJl32G3X6NBthiyvLgL4brogFGNSyhVka8z0t YTlct6tHq2f4oDaZqT8whr48vhTCo/kbGRj0ICo3fqhCQIvt3YHNZPYnF2JS5WHM29WA7qtlfSR rAcn5mRCxOyjVsmDo1ddRIXjnhA+E2yDXgVW6FHB3GOyt6gCjNp7an4/W9RfUdLgx4I6ONA56lo DUImoGwK3mifKn3I07N9xFmusZ81YrF1YdEvpju8nDlXisCOaeLRH+uKKhPGdmPVdRSNRgPi9YI +yvnB3/Ur X-Google-Smtp-Source: AGHT+IF/OqfWX0kULVLshsJt/L5b9f2gYp3AnC/Y18BXd866LLs6BZg1i63dpPsm3lb+nP2bwIo9kezZq6Rb X-Received: by 2002:a05:6e02:178d:b0:433:7511:3005 with SMTP id e9e14a558f8ab-43473d1b66fmr67313285ab.9.1762996450380; Wed, 12 Nov 2025 17:14:10 -0800 (PST) Received: from postal.iol.unh.edu (postal.iol.unh.edu. [2606:4100:3880:1234::84]) by smtp-relay.gmail.com with ESMTPS id 8926c6da1cb9f-5b7bd266e07sm41267173.10.2025.11.12.17.14.10 (version=TLS1_2 cipher=ECDHE-ECDSA-AES128-GCM-SHA256 bits=128/128); Wed, 12 Nov 2025 17:14:10 -0800 (PST) X-Relaying-Domain: iol.unh.edu Date: Wed, 12 Nov 2025 17:14:10 -0800 (PST) Message-ID: <691530e2.020a0220.f6ba3.270aSMTPIN_ADDED_MISSING@mx.google.com> Received: from [172.21.0.2] (unknown [172.18.0.240]) by postal.iol.unh.edu (Postfix) with ESMTP id 036886051830; Wed, 12 Nov 2025 20:14:10 -0500 (EST) Subject: |SUCCESS| [GIT MASTER] 0bd935abcb823f581ce53986986aa54eaf6f8140 From: dpdklab@iol.unh.edu To: Test Report Cc: dpdk-test-reports@iol.unh.edu, Xueming Li , Christian Ehrhardt , Kevin Traynor , Luca Boccassi Content-Type: text/plain X-BeenThere: test-report@dpdk.org X-Mailman-Version: 2.1.29 Precedence: list List-Id: automatic DPDK test reports List-Unsubscribe: , List-Archive: List-Post: List-Help: List-Subscribe: , Errors-To: test-report-bounces@dpdk.org _Testing PASS_ Branch: tags/v24.11 0bd935abcb823f581ce53986986aa54eaf6f8140 --> testing pass Upstream job id: Windows-Compile-DPDK-VS#7492 Test environment and result as below: +-------------------------------+--------------------+------------------+-------------------+ | Environment | dpdk_meson_compile | dpdk_compile_ovs | dpdk_msvc_compile | +===============================+====================+==================+===================+ | CentOS Stream 10 | PASS | SKIPPED | SKIPPED | +-------------------------------+--------------------+------------------+-------------------+ | CentOS Stream 9 | PASS | SKIPPED | SKIPPED | +-------------------------------+--------------------+------------------+-------------------+ | Fedora Linux 42 | PASS | PASS | SKIPPED | +-------------------------------+--------------------+------------------+-------------------+ | Debian GNU/Linux 12 | PASS | SKIPPED | SKIPPED | +-------------------------------+--------------------+------------------+-------------------+ | Ubuntu 20.04 | PASS | SKIPPED | SKIPPED | +-------------------------------+--------------------+------------------+-------------------+ | Ubuntu 22.04 | PASS | SKIPPED | SKIPPED | +-------------------------------+--------------------+------------------+-------------------+ | Red Hat Enterprise Linux 8.10 | PASS | SKIPPED | SKIPPED | +-------------------------------+--------------------+------------------+-------------------+ | Ubuntu 24.04 | PASS | PASS | SKIPPED | +-------------------------------+--------------------+------------------+-------------------+ | Alpine Linux 3.22.0 | PASS | SKIPPED | SKIPPED | +-------------------------------+--------------------+------------------+-------------------+ | Red Hat Enterprise Linux 9.5 | PASS | SKIPPED | SKIPPED | +-------------------------------+--------------------+------------------+-------------------+ | openSUSE Leap 15.6 | PASS | SKIPPED | SKIPPED | +-------------------------------+--------------------+------------------+-------------------+ | FreeBSD 14.2 | PASS | SKIPPED | SKIPPED | +-------------------------------+--------------------+------------------+-------------------+ | Windows Server 2022 | SKIPPED | SKIPPED | PASS | +-------------------------------+--------------------+------------------+-------------------+ CentOS Stream 10 Kernel: 5.15 Compiler: gcc gcc (GCC) 14.2.1 20250110 (Red Hat 14.2.1-8) CentOS Stream 9 Kernel: 5.15 Compiler: gcc gcc (GCC) 11.5.0 20240719 (Red Hat 11.5.0-11) Fedora Linux 42 Kernel: 5.15 Compiler: clang gcc (GCC) 15.2.1 20250808 (Red Hat 15.2.1-1) Debian GNU/Linux 12 Kernel: 5.15 Compiler: gcc gcc (Debian 12.2.0-14+deb12u1) 12.2.0 Ubuntu 20.04 Kernel: 5.15 Compiler: gcc gcc (Ubuntu 9.4.0-1ubuntu1~20.04.2) 9.4.0 Ubuntu 22.04 Kernel: 5.15 Compiler: gcc gcc (Ubuntu 11.4.0-1ubuntu1~22.04) 11.4.0 Red Hat Enterprise Linux 8.10 Kernel: 5.15 Compiler: gcc gcc (GCC) 8.5.0 20210514 (Red Hat 8.5.0-22) Ubuntu 24.04 Kernel: 5.15 Compiler: gcc gcc (Ubuntu 13.3.0-6ubuntu2~24.04) 13.3.0 Alpine Linux 3.22.0 Kernel: 5.15 Compiler: gcc gcc (Alpine 14.2.0) 14.2.0 Red Hat Enterprise Linux 9.5 Kernel: 5.15 Compiler: gcc gcc (GCC) 11.5.0 20240719 (Red Hat 11.5.0-2) openSUSE Leap 15.6 Kernel: 5.15 Compiler: gcc gcc (SUSE Linux) 7.5.0 FreeBSD 14.2 Kernel: 14.2-RELEASE Compiler: clang 18.1.6 Windows Server 2022 Kernel: 10.0.20348.2031 Compiler: clang 15.0.7, gcc 14.1.0 (MinGW), and MSVC VS 19.39.33521 To view detailed results, visit: https://lab.dpdk.org/results/dashboard/tarballs/35533/ UNH-IOL DPDK Community Lab To manage your email subscriptions, visit: https://lab.dpdk.org/results/dashboard/preferences/subscriptions/