From mboxrd@z Thu Jan 1 00:00:00 1970 Return-Path: Received: from mails.dpdk.org (mails.dpdk.org [217.70.189.124]) by inbox.dpdk.org (Postfix) with ESMTP id DD6C648AF1 for ; Thu, 13 Nov 2025 02:18:22 +0100 (CET) Received: from mails.dpdk.org (localhost [127.0.0.1]) by mails.dpdk.org (Postfix) with ESMTP id BEDDC40151; Thu, 13 Nov 2025 02:18:22 +0100 (CET) Received: from mail-oo1-f99.google.com (mail-oo1-f99.google.com [209.85.161.99]) by mails.dpdk.org (Postfix) with ESMTP id B332840151 for ; Thu, 13 Nov 2025 02:18:21 +0100 (CET) Received: by mail-oo1-f99.google.com with SMTP id 006d021491bc7-656ce836420so170703eaf.1 for ; Wed, 12 Nov 2025 17:18:21 -0800 (PST) DKIM-Signature: v=1; a=rsa-sha256; c=relaxed/relaxed; d=iol.unh.edu; s=unh-iol; t=1762996701; x=1763601501; darn=dpdk.org; h=references:in-reply-to:cc:to:from:subject:message-id:date:from:to :cc:subject:date:message-id:reply-to; bh=KnZgFpPnvyhjxReQvxus3lajNiGK8cKLK/QrbtV/Vl0=; b=J0TcfflwkE1vAFvRqAjpr6sBx03Yoylv9U2mBGavbSN56cS78o2uUW++QMZ0TJhxug mrMltEj6jQnbXpza+znKN3MRWeSsW1kaws+nJ1LCwl2DPFHgYwgt5LoWAPvzEKek1wiY 9xDNKCLdm31Gevp/UiE6J8JynE/bVWDu8TrN0= X-Google-DKIM-Signature: v=1; a=rsa-sha256; c=relaxed/relaxed; d=1e100.net; s=20230601; t=1762996701; x=1763601501; h=references:in-reply-to:cc:to:from:subject:message-id:date:x-gm-gg :x-gm-message-state:from:to:cc:subject:date:message-id:reply-to; bh=KnZgFpPnvyhjxReQvxus3lajNiGK8cKLK/QrbtV/Vl0=; b=CocfbBhhJ5ScC07WFBIIzE0A/D/NSZ6ps/D40H9wwflJevE/4kRzbLimC+o4B/bY9L eOwc23Fl14Ml8Xk5Lqjx4e/sEBaJO+maTNFR+RsrklYvKOlX7DEcDMD4WGYQE3RYBPZz Bm2V2NKVJW+PsQ15WKI4haUYEtLkjWBKWOMHHlNLoR+H4HJDshuwmtQooznLc63M6twx xoT/xuH2THXtcr1OlySjYnzfAfPjZZsP/7GDG2XPYuQD0N0lH3FLz+2BcoloviWZ5PDm 4lbGeUoQ5qoiM1KQQpa4xCJiYYbKg8JIZg+f2OUKzAyMgAMKZaIK4CLtFA8tEs29wCuM pSUQ== X-Gm-Message-State: AOJu0YzxMkj0u5Y84C9Nbo7jbDNAWAdJlYajquqlfzvjB6o21/FMu5j6 5rdgnYDEw1r3Bbc7yG6SP489EFz4s+hiUPnJdixzuEzpsPgWVi+kDPcwAol4jVAt0GFsWZsbCpl PCUlnq3gHioQcgidTpuq/xLWqu8wpCDhqalnfIz+Utrut X-Gm-Gg: ASbGncsZlRbDQ0S6qiNouS7jQ/Uy0jVaruSPqUoKMVcDLR9SYF1tWooj1sWOILnHjlQ 5S2RGoN6ceMdOanTgEM8Z3+3EWM6EgNSGWKVETJI2BstXGrsXGr1DUF2seTFOG+xkL/AdNND9YH jUbKpjsvBaaTs/SurptXBqrpWuXPzBn6Sq7DqqR6RXeksFP4OLv/XuOv/UgwuEBCtQ1kO4WiNBZ ME+m+WSQd8XSV6IjhJx+OrpF0Yslojb5Cf2TyAOIw7rwnr0dIiyII/gLaKRryXJNu2LU33GGKX7 KoUK6lJwJXuVKGwOI+LEfuluE6hbcIS05DTklefZ8spC7yiDvdi3rrkn3UpLVBuRDfEiLNqTgCh vuNCuJmIpBZI9GaGRKbGGAZQHVRI7kKg= X-Google-Smtp-Source: AGHT+IHqj/+fvdMZpVf7DAysZhVRMINZ98a41caMlbqC+ACeuszkyIDAPkyb2VZhjDu7fYQ32f6IIWEVijIt X-Received: by 2002:a05:6870:5150:b0:3d3:7035:f649 with SMTP id 586e51a60fabf-3e834213daamr2874750fac.49.1762996700750; Wed, 12 Nov 2025 17:18:20 -0800 (PST) Received: from postal.iol.unh.edu (postal.iol.unh.edu. [132.177.123.84]) by smtp-relay.gmail.com with ESMTPS id 586e51a60fabf-3e85227103asm48363fac.15.2025.11.12.17.18.20 (version=TLS1_2 cipher=ECDHE-ECDSA-AES128-GCM-SHA256 bits=128/128); Wed, 12 Nov 2025 17:18:20 -0800 (PST) X-Relaying-Domain: iol.unh.edu Date: Wed, 12 Nov 2025 17:18:20 -0800 (PST) Message-ID: <691531dc.050a0220.1839b6.2c1bSMTPIN_ADDED_MISSING@mx.google.com> Received: from [172.21.0.2] (unknown [172.18.0.240]) by postal.iol.unh.edu (Postfix) with ESMTP id 387046051830; Wed, 12 Nov 2025 20:18:20 -0500 (EST) Subject: |SUCCESS| pw158642 [PATCH] [v2] lib/ring: do not allow zero size rin From: dpdklab@iol.unh.edu To: Test Report Cc: dpdk-test-reports@iol.unh.edu In-Reply-To: <20251110231546.576516-1-iboukris@gmail.com> References: <20251110231546.576516-1-iboukris@gmail.com> Content-Type: text/plain X-BeenThere: test-report@dpdk.org X-Mailman-Version: 2.1.29 Precedence: list List-Id: automatic DPDK test reports List-Unsubscribe: , List-Archive: List-Post: List-Help: List-Subscribe: , Errors-To: test-report-bounces@dpdk.org Test-Label: iol-compile-amd64-testing Test-Status: SUCCESS http://dpdk.org/patch/158642 _Testing PASS_ Submitter: Isaac Boukris Date: Monday, November 10 2025 23:15:45 DPDK git baseline: Repo:dpdk Branch: master CommitID:0cacbcd9e9595c1392629e151403b348917a2d50 158642 --> testing pass Upstream job id: Windows-Compile-DPDK-Native#32270 Test environment and result as below: +-------------------------------+--------------------+------------------+-------------------+-------------------------+ | Environment | dpdk_meson_compile | dpdk_compile_ovs | dpdk_msvc_compile | dpdk_llvm_clang_compile | +===============================+====================+==================+===================+=========================+ | Ubuntu 20.04 | PASS | SKIPPED | SKIPPED | SKIPPED | +-------------------------------+--------------------+------------------+-------------------+-------------------------+ | CentOS Stream 9 | PASS | SKIPPED | SKIPPED | SKIPPED | +-------------------------------+--------------------+------------------+-------------------+-------------------------+ | FreeBSD 14.2 | PASS | SKIPPED | SKIPPED | SKIPPED | +-------------------------------+--------------------+------------------+-------------------+-------------------------+ | Fedora Linux 42 | PASS | PASS | SKIPPED | SKIPPED | +-------------------------------+--------------------+------------------+-------------------+-------------------------+ | openSUSE Leap 15.6 | PASS | SKIPPED | SKIPPED | SKIPPED | +-------------------------------+--------------------+------------------+-------------------+-------------------------+ | Debian GNU/Linux 12 | PASS | SKIPPED | SKIPPED | SKIPPED | +-------------------------------+--------------------+------------------+-------------------+-------------------------+ | Red Hat Enterprise Linux 9.5 | PASS | SKIPPED | SKIPPED | SKIPPED | +-------------------------------+--------------------+------------------+-------------------+-------------------------+ | Red Hat Enterprise Linux 8.10 | PASS | SKIPPED | SKIPPED | SKIPPED | +-------------------------------+--------------------+------------------+-------------------+-------------------------+ | Ubuntu 24.04 | PASS | PASS | SKIPPED | SKIPPED | +-------------------------------+--------------------+------------------+-------------------+-------------------------+ | CentOS Stream 10 | PASS | SKIPPED | SKIPPED | SKIPPED | +-------------------------------+--------------------+------------------+-------------------+-------------------------+ | Alpine Linux 3.22.0 | PASS | SKIPPED | SKIPPED | SKIPPED | +-------------------------------+--------------------+------------------+-------------------+-------------------------+ | Ubuntu 22.04 | PASS | SKIPPED | SKIPPED | SKIPPED | +-------------------------------+--------------------+------------------+-------------------+-------------------------+ | Windows Server 2022 | SKIPPED | SKIPPED | PASS | PASS | +-------------------------------+--------------------+------------------+-------------------+-------------------------+ Ubuntu 20.04 Kernel: 5.15 Compiler: gcc gcc (Ubuntu 9.4.0-1ubuntu1~20.04.2) 9.4.0 CentOS Stream 9 Kernel: 5.15 Compiler: gcc gcc (GCC) 11.5.0 20240719 (Red Hat 11.5.0-11) FreeBSD 14.2 Kernel: 14.2-RELEASE Compiler: clang 18.1.6 Fedora Linux 42 Kernel: 5.15 Compiler: gcc gcc (GCC) 15.2.1 20250808 (Red Hat 15.2.1-1) openSUSE Leap 15.6 Kernel: 5.15 Compiler: gcc gcc (SUSE Linux) 7.5.0 Debian GNU/Linux 12 Kernel: 5.15 Compiler: gcc gcc (Debian 12.2.0-14+deb12u1) 12.2.0 Red Hat Enterprise Linux 9.5 Kernel: 5.15 Compiler: gcc gcc (GCC) 11.5.0 20240719 (Red Hat 11.5.0-2) Red Hat Enterprise Linux 8.10 Kernel: 5.15 Compiler: gcc gcc (GCC) 8.5.0 20210514 (Red Hat 8.5.0-22) Ubuntu 24.04 Kernel: 5.15 Compiler: gcc gcc (Ubuntu 13.3.0-6ubuntu2~24.04) 13.3.0 CentOS Stream 10 Kernel: 5.15 Compiler: gcc gcc (GCC) 14.2.1 20250110 (Red Hat 14.2.1-8) Alpine Linux 3.22.0 Kernel: 5.15 Compiler: gcc gcc (Alpine 14.2.0) 14.2.0 Ubuntu 22.04 Kernel: 5.15 Compiler: gcc gcc (Ubuntu 11.4.0-1ubuntu1~22.04) 11.4.0 Windows Server 2022 Kernel: 10.0.20348.2031 Compiler: clang 15.0.7, gcc 14.1.0 (MinGW), and MSVC VS 19.39.33521 To view detailed results, visit: https://lab.dpdk.org/results/dashboard/patchsets/34526/ UNH-IOL DPDK Community Lab To manage your email subscriptions, visit: https://lab.dpdk.org/results/dashboard/preferences/subscriptions/