From mboxrd@z Thu Jan 1 00:00:00 1970 Return-Path: Received: from mails.dpdk.org (mails.dpdk.org [217.70.189.124]) by inbox.dpdk.org (Postfix) with ESMTP id 0FE4848AF1 for ; Thu, 13 Nov 2025 02:36:56 +0100 (CET) Received: from mails.dpdk.org (localhost [127.0.0.1]) by mails.dpdk.org (Postfix) with ESMTP id 09E6640151; Thu, 13 Nov 2025 02:36:56 +0100 (CET) Received: from mail-yx1-f97.google.com (mail-yx1-f97.google.com [74.125.224.97]) by mails.dpdk.org (Postfix) with ESMTP id 01B5D40151 for ; Thu, 13 Nov 2025 02:36:55 +0100 (CET) Received: by mail-yx1-f97.google.com with SMTP id 956f58d0204a3-63bc1aeb427so229687d50.3 for ; Wed, 12 Nov 2025 17:36:54 -0800 (PST) DKIM-Signature: v=1; a=rsa-sha256; c=relaxed/relaxed; d=iol.unh.edu; s=unh-iol; t=1762997814; x=1763602614; darn=dpdk.org; h=cc:to:from:subject:message-id:date:from:to:cc:subject:date :message-id:reply-to; bh=oMg/VEk+J0kvkOBCDyMFjhoCS7t+4jpKcEPEQpX8UEA=; b=MMjCt+lckmxrwOYeOhkdJ/ocxsuaqn8sNsfEpLt7Zw8ZK+4ePgLkHqGbfL4ilT+FjY 7bse8RRIsr12rmeHOsxYUCSpnIt+/jbMGoutRc5a4rYZ4OMVCt8t3gvympQ3NaLgIb48 lwaRmxT4l0msGCcH2nsMtQobfBfmtiG3AmJTE= X-Google-DKIM-Signature: v=1; a=rsa-sha256; c=relaxed/relaxed; d=1e100.net; s=20230601; t=1762997814; x=1763602614; h=cc:to:from:subject:message-id:date:x-gm-gg:x-gm-message-state:from :to:cc:subject:date:message-id:reply-to; bh=oMg/VEk+J0kvkOBCDyMFjhoCS7t+4jpKcEPEQpX8UEA=; b=FAdZPdbFKUtyLfYYxnx4CpQbk3meA/8RP47yVqGgHCWClg4JSg99ae4u/Wd0cMvLj1 EU6ZR+f3IKjNpjurkTZAxZBK10JyNdx1y6Ry0v6EH0JuahAbfSjueEwsgBMgHKYYmGYy 987ZLrF4+SEfASJQiFYbSSbJyG6qIvbx7SXC7gCxNuF6HanOFEouQU9/BU0COeVpW5uy 9hMYREBs4cTH8VMeenja+FNIYueUYcMDCSuUswzSilp8I2Dm+dW56yfaRF/ohIq4ZPvg 4DwtImpv3/ReS7EBm0aYn1R3JEYb1AzDPAUhbycs2YHfNwD24YLLxY0lUqcHbJ0tbcOG RWIA== X-Gm-Message-State: AOJu0YzaBerGM3t9Hl3+SKNo7/z93dWNhErrlDQ7T2/IUF+W8DaQ9/i2 PQE/htLb4Yx4lW0PjE8Wpkxf+/ZpHAEwMeguj+ThDFr3PFlL3tvElotRL2VjN8+tElxO8IWMqyc mFdA1aR8rADjyrwrr+nbfoGOjtxHwUrIW12cg X-Gm-Gg: ASbGncsDBXS+lU+aFpVxtbOzI3cEwAt4m8J+dd4AuiRFHczb/IGhWN4iN+uvyqhAUxW FNDA3ZQ6Jqmr7ulFyX5K3uYrouuHhXHA/3HJQcTfmpKKoQuvI7pWltJwHh64hMpO2r+MtQd6B2z jgFyQ+9O6oVb7rTxBCgWJic04UgpIGslWgHa7LiVokxXB7d9ZsvmTj2wPu5Cw2Zmg+YdlVpMwyt LdIJBkme7+cvJAQP2nAHOQOZVC88LEPck34vIeLDqY3bCwoSJPpa9TV7Lym/hR4BcXVxgjQADxP FQpSjZW+pK7GdPEslPteyUPO5hX4oWEwLS5/3GYghl1AbQUO6x3N6WbBxupJkTSnnl5cB7ORZpQ RQyAE7djTHzJ3jD8+jmp+8zWJ1GSVrpQ= X-Google-Smtp-Source: AGHT+IHTc+r6YLYg1SZyS7mMOBpA+s15sVXt/do8O7QHbJS9RoJqBIIlRbb/fy600SAhgrwke5HVdM+ut56C X-Received: by 2002:a53:c050:0:10b0:63f:ac4d:426c with SMTP id 956f58d0204a3-64101b441b4mr3776618d50.51.1762997814226; Wed, 12 Nov 2025 17:36:54 -0800 (PST) Received: from postal.iol.unh.edu (postal.iol.unh.edu. [132.177.123.84]) by smtp-relay.gmail.com with ESMTPS id 00721157ae682-78821fd131esm331367b3.28.2025.11.12.17.36.54 (version=TLS1_2 cipher=ECDHE-ECDSA-AES128-GCM-SHA256 bits=128/128); Wed, 12 Nov 2025 17:36:54 -0800 (PST) X-Relaying-Domain: iol.unh.edu Date: Wed, 12 Nov 2025 17:36:54 -0800 (PST) Message-ID: <69153636.050a0220.87d6.1e0dSMTPIN_ADDED_MISSING@mx.google.com> Received: from [172.21.0.3] (unknown [172.18.0.240]) by postal.iol.unh.edu (Postfix) with ESMTP id DEEBF6051830; Wed, 12 Nov 2025 20:36:53 -0500 (EST) Subject: |SUCCESS| [GIT MASTER] 0bd935abcb823f581ce53986986aa54eaf6f8140 From: dpdklab@iol.unh.edu To: Test Report Cc: dpdk-test-reports@iol.unh.edu, Xueming Li , Christian Ehrhardt , Kevin Traynor , Luca Boccassi Content-Type: text/plain X-BeenThere: test-report@dpdk.org X-Mailman-Version: 2.1.29 Precedence: list List-Id: automatic DPDK test reports List-Unsubscribe: , List-Archive: List-Post: List-Help: List-Subscribe: , Errors-To: test-report-bounces@dpdk.org _Testing PASS_ Branch: tags/v24.11 0bd935abcb823f581ce53986986aa54eaf6f8140 --> testing pass Upstream job id: Generic-DPDK-Compile-Meson#443304 Test environment and result as below: +------------------------------+--------------------+ | Environment | dpdk_meson_compile | +==============================+====================+ | Red Hat Enterprise Linux 9.5 | PASS | +------------------------------+--------------------+ | Ubuntu 20.04 | PASS | +------------------------------+--------------------+ | Debian GNU/Linux 12 | PASS | +------------------------------+--------------------+ | Fedora Linux 42 | PASS | +------------------------------+--------------------+ | Ubuntu 22.04 | PASS | +------------------------------+--------------------+ | Ubuntu 24.04 | PASS | +------------------------------+--------------------+ | CentOS Stream 9 | PASS | +------------------------------+--------------------+ | CentOS Stream 10 | PASS | +------------------------------+--------------------+ Red Hat Enterprise Linux 9.5 Kernel: 5.4 Compiler: gcc gcc (GCC) 11.5.0 20240719 (Red Hat 11.5.0-2) Ubuntu 20.04 Kernel: 5.15 Compiler: aarch64-linux-gnu-gcc gcc (Ubuntu 9.4.0-1ubuntu1~20.04.2) 9.4.0 Debian GNU/Linux 12 Kernel: 5.4 Compiler: gcc gcc (Debian 12.2.0-14+deb12u1) 12.2.0 Fedora Linux 42 Kernel: 5.4 Compiler: gcc gcc (GCC) 15.2.1 20250808 (Red Hat 15.2.1-1) Ubuntu 22.04 Kernel: 5.4 Compiler: gcc gcc (Ubuntu 11.4.0-1ubuntu1~22.04) 11.4.0 Ubuntu 24.04 Kernel: 5.4 Compiler: gcc gcc (Ubuntu 13.3.0-6ubuntu2~24.04) 13.3.0 CentOS Stream 9 Kernel: 5.4 Compiler: gcc gcc (GCC) 11.5.0 20240719 (Red Hat 11.5.0-11) CentOS Stream 10 Kernel: 5.4 Compiler: gcc gcc (GCC) 14.2.1 20250110 (Red Hat 14.2.1-8) To view detailed results, visit: https://lab.dpdk.org/results/dashboard/tarballs/35551/ UNH-IOL DPDK Community Lab To manage your email subscriptions, visit: https://lab.dpdk.org/results/dashboard/preferences/subscriptions/