From mboxrd@z Thu Jan 1 00:00:00 1970 Return-Path: Received: from mails.dpdk.org (mails.dpdk.org [217.70.189.124]) by inbox.dpdk.org (Postfix) with ESMTP id 313BA48AF1 for ; Thu, 13 Nov 2025 02:49:16 +0100 (CET) Received: from mails.dpdk.org (localhost [127.0.0.1]) by mails.dpdk.org (Postfix) with ESMTP id 1149F40151; Thu, 13 Nov 2025 02:49:16 +0100 (CET) Received: from mail-yx1-f98.google.com (mail-yx1-f98.google.com [74.125.224.98]) by mails.dpdk.org (Postfix) with ESMTP id 060E640151 for ; Thu, 13 Nov 2025 02:49:14 +0100 (CET) Received: by mail-yx1-f98.google.com with SMTP id 956f58d0204a3-63e16fbdd50so265388d50.2 for ; Wed, 12 Nov 2025 17:49:14 -0800 (PST) DKIM-Signature: v=1; a=rsa-sha256; c=relaxed/relaxed; d=iol.unh.edu; s=unh-iol; t=1762998554; x=1763603354; darn=dpdk.org; h=cc:to:from:subject:message-id:date:from:to:cc:subject:date :message-id:reply-to; bh=am1uvosxA9zFLMqE+AcSt+rXSXUji9Gp8V97x/61IYI=; b=PKv1c0LdGHVe2Nh66/mc5uFZ6gCGr0gpavWz34HdKX0Au1abDiuZwTC2EikVjfo0eO futDFopD7nHBifLiZ1UsmvfN4n2Q7nQO2I+vzAIwX8gpOD34+bHnJL73JpyFaNxBy50S VCW9eABRzixrFw0ZYoJIhTY8tOoFz7+RjmQ8Q= X-Google-DKIM-Signature: v=1; a=rsa-sha256; c=relaxed/relaxed; d=1e100.net; s=20230601; t=1762998554; x=1763603354; h=cc:to:from:subject:message-id:date:x-gm-gg:x-gm-message-state:from :to:cc:subject:date:message-id:reply-to; bh=am1uvosxA9zFLMqE+AcSt+rXSXUji9Gp8V97x/61IYI=; b=m7Bhn9+Pj3Y3dyJo2RZ0I5Y2KaXdACfUzBvwkRQ46lXEw+AUWqsOkVizDemwjIsEEM Gof0/T694mdc2QvHYQ63skNlDATnQbwIQpTO79VeLSgawibjpsxcvw3++um6+9XPbWGI 6OS5ZQMZ5xy/G5mNr4QCfcHa4Mjifpg3fmgpdVG2Z/jkrxy0qEC8/1cXWKXeT40tNWYx 2G7azp3UsaVudZ56avj49dli6W4jSga1akeMPuhDc7O9rwUSnbrAvf52cylSGMQtAe4F Zf53KZ771t+KDDES862uBJmughzyEt14AxNxq5l43r6ha6vSma7Cd94pZXeHKvNwHxoV KlMA== X-Gm-Message-State: AOJu0Yw7m2miJmrkNBC0qZT33bEX9zA05tHUB1oDCqU2f8lNoequCKbA Fjeb8KrcRRubaFZVCgRdf5eRPj6KvJ8Rdqtz0r2jAX6jc5Z48ikT3A9Z7oTwnG40Jd+e6URrgtY +qU+xIcRXKJDNImQNQVaZF9X69OSdVXhEwFMoJAAu58jZ5TXIre3B X-Gm-Gg: ASbGncuBvXYe7vzSMKckyfenPR/24KkO/RTpelnYjtNB2uysZ/O6yEa66amv9qgXptH xAVxdoleghhKlNp+A3bUyHBIHI5E2VsQaLnMMfbBOKu+Cb/57eoLmU00NzLv+gcHS61qcBVXXXr Hxh4WfIGHEAtH6El+Vkhu7YrHSB30wiJ8eZMWwoCX74RaWXr8Jy4yGT0Rh17YJ+XH3sfT04Kxbz yNE32OywL9Ab+qp4sxDtvtSJy6VnNpJKraSZGBsjKRdNyOqEc4piqPvBi0qf0hT4ud1UvRJhI82 UDk3ph5apGrtnfx9Y8zkAhOPHX42TSXyDygrka8graRMGgetdZfMHO/xzvU1EXq7NnEoVJIqz8L 9bUZzishl X-Google-Smtp-Source: AGHT+IEvkBzu8ygt3H8N6hCnSTiWflWeobfwY/EUtM0lJz6Bw+UFZNezPD5tcVnZJdzDNS2Pi7+QPSGJCw2A X-Received: by 2002:a53:c042:0:10b0:63f:b26a:225d with SMTP id 956f58d0204a3-64101a02192mr3864188d50.14.1762998554288; Wed, 12 Nov 2025 17:49:14 -0800 (PST) Received: from postal.iol.unh.edu (postal.iol.unh.edu. [2606:4100:3880:1234::84]) by smtp-relay.gmail.com with ESMTPS id 956f58d0204a3-6410ea07158sm48294d50.4.2025.11.12.17.49.14 (version=TLS1_2 cipher=ECDHE-ECDSA-AES128-GCM-SHA256 bits=128/128); Wed, 12 Nov 2025 17:49:14 -0800 (PST) X-Relaying-Domain: iol.unh.edu Date: Wed, 12 Nov 2025 17:49:14 -0800 (PST) Message-ID: <6915391a.530a0220.cb393.2b90SMTPIN_ADDED_MISSING@mx.google.com> Received: from [172.21.0.6] (unknown [172.18.0.240]) by postal.iol.unh.edu (Postfix) with ESMTP id 9DFD16051830; Wed, 12 Nov 2025 20:49:13 -0500 (EST) Subject: |SUCCESS| [GIT MASTER] 9784db2c5af1eecd02fc21132b59b5b266039b87 From: dpdklab@iol.unh.edu To: Test Report Cc: dpdk-test-reports@iol.unh.edu, Xueming Li , Christian Ehrhardt , Kevin Traynor , Luca Boccassi Content-Type: text/plain X-BeenThere: test-report@dpdk.org X-Mailman-Version: 2.1.29 Precedence: list List-Id: automatic DPDK test reports List-Unsubscribe: , List-Archive: List-Post: List-Help: List-Subscribe: , Errors-To: test-report-bounces@dpdk.org _Testing PASS_ Branch: tags/v22.11 9784db2c5af1eecd02fc21132b59b5b266039b87 --> testing pass Upstream job id: Windows-Compile-DPDK-Native#32272 Test environment and result as below: +-------------------------------+--------------------+-------------------------+ | Environment | dpdk_meson_compile | dpdk_llvm_clang_compile | +===============================+====================+=========================+ | FreeBSD 14.2 | PASS | SKIPPED | +-------------------------------+--------------------+-------------------------+ | Ubuntu 20.04 | PASS | SKIPPED | +-------------------------------+--------------------+-------------------------+ | Fedora Linux 42 | PASS | SKIPPED | +-------------------------------+--------------------+-------------------------+ | Ubuntu 24.04 | PASS | SKIPPED | +-------------------------------+--------------------+-------------------------+ | CentOS Stream 10 | PASS | SKIPPED | +-------------------------------+--------------------+-------------------------+ | Debian GNU/Linux 12 | PASS | SKIPPED | +-------------------------------+--------------------+-------------------------+ | CentOS Stream 9 | PASS | SKIPPED | +-------------------------------+--------------------+-------------------------+ | Red Hat Enterprise Linux 9.5 | PASS | SKIPPED | +-------------------------------+--------------------+-------------------------+ | Red Hat Enterprise Linux 8.10 | PASS | SKIPPED | +-------------------------------+--------------------+-------------------------+ | openSUSE Leap 15.6 | PASS | SKIPPED | +-------------------------------+--------------------+-------------------------+ | Ubuntu 22.04 | PASS | SKIPPED | +-------------------------------+--------------------+-------------------------+ | Windows Server 2022 | SKIPPED | PASS | +-------------------------------+--------------------+-------------------------+ FreeBSD 14.2 Kernel: 14.2-RELEASE Compiler: clang 18.1.6 Ubuntu 20.04 Kernel: 4.19 Compiler: gcc gcc (Ubuntu 9.4.0-1ubuntu1~20.04.2) 9.4.0 Fedora Linux 42 Kernel: 5.15 Compiler: gcc gcc (GCC) 15.2.1 20250808 (Red Hat 15.2.1-1) Ubuntu 24.04 Kernel: 5.15 Compiler: gcc gcc (Ubuntu 13.3.0-6ubuntu2~24.04) 13.3.0 CentOS Stream 10 Kernel: 5.15 Compiler: gcc gcc (GCC) 14.2.1 20250110 (Red Hat 14.2.1-8) Debian GNU/Linux 12 Kernel: 5.15 Compiler: gcc gcc (Debian 12.2.0-14+deb12u1) 12.2.0 CentOS Stream 9 Kernel: 5.15 Compiler: gcc gcc (GCC) 11.5.0 20240719 (Red Hat 11.5.0-11) Red Hat Enterprise Linux 9.5 Kernel: 5.15 Compiler: gcc gcc (GCC) 11.5.0 20240719 (Red Hat 11.5.0-2) Red Hat Enterprise Linux 8.10 Kernel: 5.15 Compiler: gcc gcc (GCC) 8.5.0 20210514 (Red Hat 8.5.0-22) openSUSE Leap 15.6 Kernel: 5.15 Compiler: gcc gcc (SUSE Linux) 7.5.0 Ubuntu 22.04 Kernel: 5.15 Compiler: gcc gcc (Ubuntu 11.4.0-1ubuntu1~22.04) 11.4.0 Windows Server 2022 Kernel: 10.0.20348.2031 Compiler: clang 15.0.7, gcc 14.1.0 (MinGW), and MSVC VS 19.39.33521 To view detailed results, visit: https://lab.dpdk.org/results/dashboard/tarballs/35531/ UNH-IOL DPDK Community Lab To manage your email subscriptions, visit: https://lab.dpdk.org/results/dashboard/preferences/subscriptions/