From mboxrd@z Thu Jan 1 00:00:00 1970 Return-Path: Received: from mails.dpdk.org (mails.dpdk.org [217.70.189.124]) by inbox.dpdk.org (Postfix) with ESMTP id 5A32748AF1 for ; Thu, 13 Nov 2025 03:27:28 +0100 (CET) Received: from mails.dpdk.org (localhost [127.0.0.1]) by mails.dpdk.org (Postfix) with ESMTP id 5533740151; Thu, 13 Nov 2025 03:27:28 +0100 (CET) Received: from mail-oo1-f99.google.com (mail-oo1-f99.google.com [209.85.161.99]) by mails.dpdk.org (Postfix) with ESMTP id A240640151 for ; Thu, 13 Nov 2025 03:27:26 +0100 (CET) Received: by mail-oo1-f99.google.com with SMTP id 006d021491bc7-657230e45e8so256685eaf.1 for ; Wed, 12 Nov 2025 18:27:26 -0800 (PST) DKIM-Signature: v=1; a=rsa-sha256; c=relaxed/relaxed; d=iol.unh.edu; s=unh-iol; t=1763000846; x=1763605646; darn=dpdk.org; h=references:in-reply-to:cc:to:from:subject:message-id:date:from:to :cc:subject:date:message-id:reply-to; bh=UHeADLlenyxLG3NznacfzfFrkAoUbxNDF7Y4D5bVMtM=; b=K8dAga4LMMfdSuSMA490d8b+rlUkby1oOwc52A183G8Tivgi/sXE95EK335RoYJw9H QtsrQL22QjgaoeT2QKCqn2MQcoIZFSSR5CFrM5qCSCVjhxT4eAjeoilFDOkjZxdRdzTw bY07zWcqoF0xBv0CQ9lua4JJnAUcRbvLpgsWc= X-Google-DKIM-Signature: v=1; a=rsa-sha256; c=relaxed/relaxed; d=1e100.net; s=20230601; t=1763000846; x=1763605646; h=references:in-reply-to:cc:to:from:subject:message-id:date:x-gm-gg :x-gm-message-state:from:to:cc:subject:date:message-id:reply-to; bh=UHeADLlenyxLG3NznacfzfFrkAoUbxNDF7Y4D5bVMtM=; b=d54CchcaCnjKuIxhQyxbWnUNaF9qdmVjx3bW54Q5u7BQUoRBBoSr3bAUTO2L7RId5s /DRClTy4y+boB8N8tmjDssqumfolGI99jPNQ6YTTeTqLXZQn9dwjU1pyuAE0e0vXhuiG uQutFvIkt22NCFEH98bcdEXBBf584hLsVhdzcGHh9Y4jf6QquMG6NbQpMHc1jOWnQkmF 1HZ52f+6ESYAryUWaCoY2w+3fQ1CE5x4sLY6BVXpmFYkgJVgPnBSKxA/hRjG1eTIMKQ9 QIs8nlf/6s8tUXbqXIEEHqIA/f/SOLhuihQcq+ZNZ1y56vSoSa3/Zl2tV0uNjt8yuUNf FIFA== X-Gm-Message-State: AOJu0YyMdfSznXhdsVATqMREhgauArg99+xi9/6nPAh97HMzcR1elmBw VjAbLxzNdpjOznNvuR+fatOW9MkS1oOcYUecTUGoJFoenBcHQJPZLcjA5rGhyVCVRORx89yP0Jb Kp23Dpuk0MFyxbN3wJvJ77UEsa8iC6xLB9SO0jXYnpmueBB75zWRWupmL0UO2 X-Gm-Gg: ASbGncvdR562eYYiHlDB/F+zHX+ydI1P/3t2UNOHWysZ4yyn53ryFD5rAh83YSRGOOg +Pvj9aRnzCbFZQpBNka4QGJc1KA6UykM4bQQPApMuYI+BPGbgRDQ8EGTDOSk996PczZ4wkodj8I 2EPl4C23fWn1TsvZnW34GmrmraVxx3saE27Ybn40FDg/VhKDjjItDgJXXU0SJ3/ZIdIdpzRCen7 Ch8nMyBDEfqN5IoehWeArzMctqk0izttgKVPHtDzIntQspUuXBB4wZWh4Zw9tDGqa3nHYKUqaX/ NaEa3Iv4MVwHSus+Pi2dKsUiGnvmsL9QG1rjUy03ne92aI1X+XZXfbbAOAKJvqszNWSI51s4Ye6 1bl6sfXtW X-Google-Smtp-Source: AGHT+IHXFStof05o2QtA8p7AxCTM40boi/AE6QNmuYzqpHNjnT3s7yi8Unc/XsgLXw20AOdIj9K7pOmuRCVE X-Received: by 2002:a05:6808:1b0a:b0:44f:e5cb:39f4 with SMTP id 5614622812f47-4508651d5bfmr1014472b6e.12.1763000845763; Wed, 12 Nov 2025 18:27:25 -0800 (PST) Received: from postal.iol.unh.edu (postal.iol.unh.edu. [2606:4100:3880:1234::84]) by smtp-relay.gmail.com with ESMTPS id 586e51a60fabf-3e85200865bsm65878fac.8.2025.11.12.18.27.25 (version=TLS1_2 cipher=ECDHE-ECDSA-AES128-GCM-SHA256 bits=128/128); Wed, 12 Nov 2025 18:27:25 -0800 (PST) X-Relaying-Domain: iol.unh.edu Date: Wed, 12 Nov 2025 18:27:25 -0800 (PST) Message-ID: <6915420d.050a0220.30e67.3a05SMTPIN_ADDED_MISSING@mx.google.com> Received: from [172.21.0.14] (unknown [172.18.0.240]) by postal.iol.unh.edu (Postfix) with ESMTP id 239C36051830; Wed, 12 Nov 2025 21:27:25 -0500 (EST) Subject: |SUCCESS| pw158711-158712 [PATCH] [2/2] pdump: fix race in pdump dis From: dpdklab@iol.unh.edu To: Test Report Cc: dpdk-test-reports@iol.unh.edu In-Reply-To: <20251112200510.332651-2-stephen@networkplumber.org> References: <20251112200510.332651-2-stephen@networkplumber.org> Content-Type: text/plain X-BeenThere: test-report@dpdk.org X-Mailman-Version: 2.1.29 Precedence: list List-Id: automatic DPDK test reports List-Unsubscribe: , List-Archive: List-Post: List-Help: List-Subscribe: , Errors-To: test-report-bounces@dpdk.org Test-Label: iol-unit-amd64-testing Test-Status: SUCCESS http://dpdk.org/patch/158712 _Testing PASS_ Submitter: Stephen Hemminger Date: Wednesday, November 12 2025 20:05:10 DPDK git baseline: Repo:dpdk Branch: master CommitID:be0112878b4fc3a1b918370ed2fe615c52039d77 158711-158712 --> testing pass Upstream job id: Generic-Unit-Test-DPDK#391712 Test environment and result as below: +-------------------------------+----------------+ | Environment | dpdk_unit_test | +===============================+================+ | Debian GNU/Linux 12 | PASS | +-------------------------------+----------------+ | Fedora Linux 40 | PASS | +-------------------------------+----------------+ | CentOS Stream 10 | PASS | +-------------------------------+----------------+ | Fedora Linux 41 | PASS | +-------------------------------+----------------+ | CentOS Stream 9 | PASS | +-------------------------------+----------------+ | Fedora Linux 42 | PASS | +-------------------------------+----------------+ | Ubuntu 20.04 | PASS | +-------------------------------+----------------+ | Red Hat Enterprise Linux 8.10 | PASS | +-------------------------------+----------------+ | Red Hat Enterprise Linux 9.5 | PASS | +-------------------------------+----------------+ | Ubuntu 22.04 | PASS | +-------------------------------+----------------+ | Ubuntu 24.04 | PASS | +-------------------------------+----------------+ Debian GNU/Linux 12 Kernel: 5.15 Compiler: gcc gcc (Debian 12.2.0-14+deb12u1) 12.2.0 Fedora Linux 40 Kernel: 5.15 Compiler: gcc gcc (GCC) 14.2.1 20240912 (Red Hat 14.2.1-3) CentOS Stream 10 Kernel: 5.15 Compiler: gcc gcc (GCC) 14.2.1 20250110 (Red Hat 14.2.1-8) Fedora Linux 41 Kernel: 5.15 Compiler: gcc gcc (GCC) 14.3.1 20250523 (Red Hat 14.3.1-1) CentOS Stream 9 Kernel: 5.15 Compiler: gcc gcc (GCC) 11.5.0 20240719 (Red Hat 11.5.0-11) Fedora Linux 42 Kernel: 5.15 Compiler: gcc gcc (GCC) 15.2.1 20250808 (Red Hat 15.2.1-1) Ubuntu 20.04 Kernel: 5.15 Compiler: gcc gcc (Ubuntu 9.4.0-1ubuntu1~20.04.2) 9.4.0 Red Hat Enterprise Linux 8.10 Kernel: 5.15 Compiler: gcc gcc (GCC) 8.5.0 20210514 (Red Hat 8.5.0-22) Red Hat Enterprise Linux 9.5 Kernel: 5.15 Compiler: gcc gcc (GCC) 11.5.0 20240719 (Red Hat 11.5.0-2) Ubuntu 22.04 Kernel: 5.15 Compiler: gcc gcc (Ubuntu 11.4.0-1ubuntu1~22.04) 11.4.0 Ubuntu 24.04 Kernel: 5.15 Compiler: gcc gcc (Ubuntu 13.3.0-6ubuntu2~24.04) 13.3.0 To view detailed results, visit: https://lab.dpdk.org/results/dashboard/patchsets/34560/ UNH-IOL DPDK Community Lab To manage your email subscriptions, visit: https://lab.dpdk.org/results/dashboard/preferences/subscriptions/