From mboxrd@z Thu Jan 1 00:00:00 1970 Return-Path: Received: from mails.dpdk.org (mails.dpdk.org [217.70.189.124]) by inbox.dpdk.org (Postfix) with ESMTP id 67FFA48AF1 for ; Thu, 13 Nov 2025 03:27:37 +0100 (CET) Received: from mails.dpdk.org (localhost [127.0.0.1]) by mails.dpdk.org (Postfix) with ESMTP id 6412740151; Thu, 13 Nov 2025 03:27:37 +0100 (CET) Received: from mail-pl1-f228.google.com (mail-pl1-f228.google.com [209.85.214.228]) by mails.dpdk.org (Postfix) with ESMTP id D360B40151 for ; Thu, 13 Nov 2025 03:27:35 +0100 (CET) Received: by mail-pl1-f228.google.com with SMTP id d9443c01a7336-29555415c5fso3596295ad.1 for ; Wed, 12 Nov 2025 18:27:35 -0800 (PST) DKIM-Signature: v=1; a=rsa-sha256; c=relaxed/relaxed; d=iol.unh.edu; s=unh-iol; t=1763000855; x=1763605655; darn=dpdk.org; h=references:in-reply-to:cc:to:from:subject:message-id:date:from:to :cc:subject:date:message-id:reply-to; bh=pULHfIxdm5TVetv48B4rwRM/nSFsHDSyHs3X/AlJWc0=; b=hKahCd+FdLL5B/0DshDj/p0p/R+ku+An/yFdxtmbtPD3ki9YAgF9zHkUZSpDulc8HD 17/sWRuFdO7KMEGy8mr/chqotm7RckuB9UaIDoVEAj2uZvTDqztOiH4mj24QSTyTXWb9 3oa/cCyzswmwDz8HRbZe6048pThyWJiVLfERI= X-Google-DKIM-Signature: v=1; a=rsa-sha256; c=relaxed/relaxed; d=1e100.net; s=20230601; t=1763000855; x=1763605655; h=references:in-reply-to:cc:to:from:subject:message-id:date:x-gm-gg :x-gm-message-state:from:to:cc:subject:date:message-id:reply-to; bh=pULHfIxdm5TVetv48B4rwRM/nSFsHDSyHs3X/AlJWc0=; b=mAeGCK2OuUMZFrqcF9EcONSrYShwWCUEFNuiW1axna9GnJQCjQwi40eSwSvElRmp8M NzdPVpOgjKoNjxCajCmc/bxgGL4aVharGs4rJpG4p8BUwMBihToALqoIHwl1GU274ffG Hpo7gqKpslD+4NHMAeRPqR9wqbueGS77635OoX67pff8zAg1okAW5tOjjgPWyZiOct5M G0kCHtsLk9S/h3ACuzWvu9LxiwtxGHdwdDdeniPxn4p1bsueK+EimPGX2gb2xNzhnKNH v2ywtuDlmJ6pZDBIZDBP0R4RN8bs2RlTSQT6ygcD9/0Q2rxqHqwm1saY18EN3L5gjcFU IDqg== X-Gm-Message-State: AOJu0YxWX3l4gGBabD701qGMTZyZVcTOYJ0IK801/SeqBTd2QDmSBMoR 87hvO6tc/VAvt7TXmHNB964tU6A64eoXzR1CjQTV/Sf5Y+sXWYBWODdIZ+N9c8ldJv9LgeWqsgc vuMavE/tUJ+x5giqwHa3drDMzLYDOy+ouFi8zlv4KKZIf X-Gm-Gg: ASbGncsgYl09coyySlt3Ao+ZabD0BEMwhN2n71Bb0Vs1wXpqUYp+ZMwGi+TNQIK5sj+ kfVZ35KhMo72VtKsWP/kxx8jPxqmGbse5JSvjvz4Mqg7D2odGm1biyI+3JgbKW0I8an7X7J5YTM q3ZKAk9DqWMD5EiBnfYReAkXUtOYFf/LbVuiCvz/tLGjYvOOlXBBF4SL6VkGfd+1zV7b8JOUP5s Xu3TKKO7HY2eQd9Xx6tt0VnkLBumbZeRfvZVBo9S93PB7BlEJYYihvIqdOk3RJzm2d+MmmTT4Ae q90sOpn7PQcMLFzIjRwtEqnDT3Wbe69UeYVYEzgaz2Xi0CFhOJPLSJSyrBcVuH9mpGiQi87KZf5 z5TfNCCICPdfT6zbKBFth5Mtv2DQBOzc= X-Google-Smtp-Source: AGHT+IEq0SQXVoaTO+TRfNbB1j5k+wJ4a3/1inie1zUmgq9yp6DHx6Y32qApRCCXLVqiTjS42jqkYA/nYCug X-Received: by 2002:a17:902:dac3:b0:262:9c4:5470 with SMTP id d9443c01a7336-2984edc800amr67620795ad.28.1763000854830; Wed, 12 Nov 2025 18:27:34 -0800 (PST) Received: from postal.iol.unh.edu (postal.iol.unh.edu. [132.177.123.84]) by smtp-relay.gmail.com with ESMTPS id d9443c01a7336-2985c2b8935sm724825ad.52.2025.11.12.18.27.34 (version=TLS1_2 cipher=ECDHE-ECDSA-AES128-GCM-SHA256 bits=128/128); Wed, 12 Nov 2025 18:27:34 -0800 (PST) X-Relaying-Domain: iol.unh.edu Date: Wed, 12 Nov 2025 18:27:34 -0800 (PST) Message-ID: <69154216.170a0220.234aea.4922SMTPIN_ADDED_MISSING@mx.google.com> Received: from [172.21.0.16] (unknown [172.18.0.240]) by postal.iol.unh.edu (Postfix) with ESMTP id 18FF16051830; Wed, 12 Nov 2025 21:27:34 -0500 (EST) Subject: |SUCCESS| pw158705 [PATCH] net/intel: ensure correct Rx path is sele From: dpdklab@iol.unh.edu To: Test Report Cc: dpdk-test-reports@iol.unh.edu, Bruce Richardson In-Reply-To: <20251112151123.3757688-1-ciara.loftus@intel.com> References: <20251112151123.3757688-1-ciara.loftus@intel.com> Content-Type: text/plain X-BeenThere: test-report@dpdk.org X-Mailman-Version: 2.1.29 Precedence: list List-Id: automatic DPDK test reports List-Unsubscribe: , List-Archive: List-Post: List-Help: List-Subscribe: , Errors-To: test-report-bounces@dpdk.org Test-Label: iol-compile-amd64-testing Test-Status: SUCCESS http://dpdk.org/patch/158705 _Testing PASS_ Submitter: Loftus, Ciara Date: Wednesday, November 12 2025 15:11:23 DPDK git baseline: Repo:dpdk-next-net-intel Branch: master CommitID:c63646d076330fb2ef3282cbd413aaf93f0509e6 158705 --> testing pass Upstream job id: Generic-DPDK-Compile-Meson#443483 Test environment and result as below: +-------------------------------+--------------------+------------------+ | Environment | dpdk_meson_compile | dpdk_compile_ovs | +===============================+====================+==================+ | Ubuntu 20.04 | PASS | SKIPPED | +-------------------------------+--------------------+------------------+ | FreeBSD 14.2 | PASS | SKIPPED | +-------------------------------+--------------------+------------------+ | CentOS Stream 9 | PASS | SKIPPED | +-------------------------------+--------------------+------------------+ | CentOS Stream 10 | PASS | SKIPPED | +-------------------------------+--------------------+------------------+ | Debian GNU/Linux 12 | PASS | SKIPPED | +-------------------------------+--------------------+------------------+ | Fedora Linux 42 | PASS | PASS | +-------------------------------+--------------------+------------------+ | openSUSE Leap 15.6 | PASS | SKIPPED | +-------------------------------+--------------------+------------------+ | Red Hat Enterprise Linux 8.10 | PASS | SKIPPED | +-------------------------------+--------------------+------------------+ | Red Hat Enterprise Linux 9.5 | PASS | SKIPPED | +-------------------------------+--------------------+------------------+ | Ubuntu 22.04 | PASS | SKIPPED | +-------------------------------+--------------------+------------------+ | Ubuntu 24.04 | PASS | PASS | +-------------------------------+--------------------+------------------+ | Alpine Linux 3.22.0 | PASS | SKIPPED | +-------------------------------+--------------------+------------------+ Ubuntu 20.04 Kernel: 4.19 Compiler: gcc gcc (Ubuntu 9.4.0-1ubuntu1~20.04.2) 9.4.0 FreeBSD 14.2 Kernel: 14.2-RELEASE Compiler: clang 18.1.6 CentOS Stream 9 Kernel: 5.15 Compiler: gcc gcc (GCC) 11.5.0 20240719 (Red Hat 11.5.0-11) CentOS Stream 10 Kernel: 5.15 Compiler: gcc gcc (GCC) 14.2.1 20250110 (Red Hat 14.2.1-8) Debian GNU/Linux 12 Kernel: 5.15 Compiler: gcc gcc (Debian 12.2.0-14+deb12u1) 12.2.0 Fedora Linux 42 Kernel: 5.15 Compiler: clang gcc (GCC) 15.2.1 20250808 (Red Hat 15.2.1-1) openSUSE Leap 15.6 Kernel: 5.15 Compiler: gcc gcc (SUSE Linux) 7.5.0 Red Hat Enterprise Linux 8.10 Kernel: 5.15 Compiler: gcc gcc (GCC) 8.5.0 20210514 (Red Hat 8.5.0-22) Red Hat Enterprise Linux 9.5 Kernel: 5.15 Compiler: gcc gcc (GCC) 11.5.0 20240719 (Red Hat 11.5.0-2) Ubuntu 22.04 Kernel: 5.15 Compiler: gcc gcc (Ubuntu 11.4.0-1ubuntu1~22.04) 11.4.0 Ubuntu 24.04 Kernel: 5.15 Compiler: gcc gcc (Ubuntu 13.3.0-6ubuntu2~24.04) 13.3.0 Alpine Linux 3.22.0 Kernel: 5.15 Compiler: gcc gcc (Alpine 14.2.0) 14.2.0 To view detailed results, visit: https://lab.dpdk.org/results/dashboard/patchsets/34552/ UNH-IOL DPDK Community Lab To manage your email subscriptions, visit: https://lab.dpdk.org/results/dashboard/preferences/subscriptions/