From mboxrd@z Thu Jan 1 00:00:00 1970 Return-Path: Received: from mails.dpdk.org (mails.dpdk.org [217.70.189.124]) by inbox.dpdk.org (Postfix) with ESMTP id 7D40848AF1 for ; Thu, 13 Nov 2025 03:28:04 +0100 (CET) Received: from mails.dpdk.org (localhost [127.0.0.1]) by mails.dpdk.org (Postfix) with ESMTP id 7820F40151; Thu, 13 Nov 2025 03:28:04 +0100 (CET) Received: from mail-pj1-f100.google.com (mail-pj1-f100.google.com [209.85.216.100]) by mails.dpdk.org (Postfix) with ESMTP id C988140151 for ; Thu, 13 Nov 2025 03:28:02 +0100 (CET) Received: by mail-pj1-f100.google.com with SMTP id 98e67ed59e1d1-3438d4ae152so369542a91.1 for ; Wed, 12 Nov 2025 18:28:02 -0800 (PST) DKIM-Signature: v=1; a=rsa-sha256; c=relaxed/relaxed; d=iol.unh.edu; s=unh-iol; t=1763000882; x=1763605682; darn=dpdk.org; h=references:in-reply-to:cc:to:from:subject:message-id:date:from:to :cc:subject:date:message-id:reply-to; bh=qc1d5M7Ak8jT7syQpc4y0D2WozUZLAg6R2SZxtO2UeM=; b=LDNT9EnanR4V64G5bkQHHpNP993D85V6wyZ/DH9YkhzyJp5nzj1jV7hrhKGSp/ewni myRwhdzk0lxnVe5C/XfNCOAhaJ6HJJ9l+yLnPodyL7Gz4sdOzyBH1zDuyGgKDcVPlqPE IpgsUNSR6Sd/ZfbTx1nAul1EYEAIV6EOQ7QjI= X-Google-DKIM-Signature: v=1; a=rsa-sha256; c=relaxed/relaxed; d=1e100.net; s=20230601; t=1763000882; x=1763605682; h=references:in-reply-to:cc:to:from:subject:message-id:date:x-gm-gg :x-gm-message-state:from:to:cc:subject:date:message-id:reply-to; bh=qc1d5M7Ak8jT7syQpc4y0D2WozUZLAg6R2SZxtO2UeM=; b=teRekPks7gr22OkmfMN/DGSq/0SGBSpW9YHgsD9JAiL5b4D3QXbfoRacIZojX7KAuj g+gIo2rUllM1B7/IRpMs9GGvk3+Z2fRP43+LAhmdg7z6O10HACIjNUf1wtj98EA7XHK8 MiU3eX5NWfPIXWzOSLc6pltvGoTOKfMn11iduc1wXFS414FNmliduDkATmkrScgUrH7o SDUJ9dnTRYZ4r7NEu37wy6Oe7zWl8pXnhDlmFtnsz8NVDNi944Q/PbPMHe+7fk1MOYDH OtoJmim8VRHUCp71wsydX7ox7MzSMh2NaYl8dLL6RhG1/4PsaZ2edGHypX0RFywRv71l UmDQ== X-Gm-Message-State: AOJu0YxiCUaiL0D1okdVdzNkE2mwEeQocIO7xYY185FYVDgVjwvZ5r8m fbvjxCV4drywVNwH3z25ul+srjnjvl75gH3urlUx8yVmzeqGVjE0VstItLIvUlLUt3z6ubsm259 SnoABCSTLeQjGMFbfgAPXQ7+y/A8Gl/UnJbtIxoPNAbJD X-Gm-Gg: ASbGnctGbtJgg/QidORkx78V3KE7stpA1uwOjUct3LAHWjRs0ANcxm+zcExfe7+Knap H13OtiUtqxlG+Tfw6SYWpr44sNeKf5sRJAp3VyR3AvlhI6dkPAYo9cadjDJxUIAqp4MuP4s0Gcb mUQ0XqAUHVFub15MB0ykREKl5qdQ0QY7EN4IQJcXxN4dEga/Th1YpbzvjSG3eyOwlGa7nvqjrki lYU56kyFo13NpWTJb80cIB4C21QmNUzGbjlBFZ8Py57lIeHTuuLAB5rDOaAbQzu/vDJj2V0xcqc fLFw4oSj6LF1ek39C/+mqyu8qd4Rop+OKd5skPxeWjeWkj9BBl8vgcgDrNgG5fhgJjqpdl3Ys3p PHCQGoMo/4XbBGPEoqxEJO0R0ovC+exk= X-Google-Smtp-Source: AGHT+IGAYMwaLQ4x17JcVh7pv1EMBgib1Xl651M+0O7MRFqv2mcQr2qlnaZ0wBLF81WKoLsiIcN2PH2t3ter X-Received: by 2002:a17:90b:5908:b0:341:8bda:d0ae with SMTP id 98e67ed59e1d1-343dde6ecdfmr6592615a91.20.1763000881928; Wed, 12 Nov 2025 18:28:01 -0800 (PST) Received: from postal.iol.unh.edu (postal.iol.unh.edu. [132.177.123.84]) by smtp-relay.gmail.com with ESMTPS id 98e67ed59e1d1-343e06fcf4asm419044a91.2.2025.11.12.18.28.01 (version=TLS1_2 cipher=ECDHE-ECDSA-AES128-GCM-SHA256 bits=128/128); Wed, 12 Nov 2025 18:28:01 -0800 (PST) X-Relaying-Domain: iol.unh.edu Date: Wed, 12 Nov 2025 18:28:01 -0800 (PST) Message-ID: <69154231.170a0220.38e4f0.588fSMTPIN_ADDED_MISSING@mx.google.com> Received: from [172.21.0.2] (unknown [172.18.0.240]) by postal.iol.unh.edu (Postfix) with ESMTP id 695896051830; Wed, 12 Nov 2025 21:28:01 -0500 (EST) Subject: |SUCCESS| pw158645 [PATCH] [v3] lib/ring: do not allow zero size rin From: dpdklab@iol.unh.edu To: Test Report Cc: dpdk-test-reports@iol.unh.edu In-Reply-To: <20251111062253.578121-1-iboukris@gmail.com> References: <20251111062253.578121-1-iboukris@gmail.com> Content-Type: text/plain X-BeenThere: test-report@dpdk.org X-Mailman-Version: 2.1.29 Precedence: list List-Id: automatic DPDK test reports List-Unsubscribe: , List-Archive: List-Post: List-Help: List-Subscribe: , Errors-To: test-report-bounces@dpdk.org Test-Label: iol-compile-amd64-testing Test-Status: SUCCESS http://dpdk.org/patch/158645 _Testing PASS_ Submitter: Isaac Boukris Date: Tuesday, November 11 2025 06:22:52 DPDK git baseline: Repo:dpdk Branch: master CommitID:8ae4f1d511226fd65a979e9f8a1e51835281a59b 158645 --> testing pass Upstream job id: Windows-Compile-DPDK-VS#7495 Test environment and result as below: +-------------------------------+--------------------+------------------+-------------------+ | Environment | dpdk_meson_compile | dpdk_compile_ovs | dpdk_msvc_compile | +===============================+====================+==================+===================+ | Ubuntu 20.04 | PASS | SKIPPED | SKIPPED | +-------------------------------+--------------------+------------------+-------------------+ | FreeBSD 14.2 | PASS | SKIPPED | SKIPPED | +-------------------------------+--------------------+------------------+-------------------+ | Fedora Linux 42 | PASS | PASS | SKIPPED | +-------------------------------+--------------------+------------------+-------------------+ | CentOS Stream 10 | PASS | SKIPPED | SKIPPED | +-------------------------------+--------------------+------------------+-------------------+ | CentOS Stream 9 | PASS | SKIPPED | SKIPPED | +-------------------------------+--------------------+------------------+-------------------+ | Debian GNU/Linux 12 | PASS | SKIPPED | SKIPPED | +-------------------------------+--------------------+------------------+-------------------+ | openSUSE Leap 15.6 | PASS | SKIPPED | SKIPPED | +-------------------------------+--------------------+------------------+-------------------+ | Ubuntu 22.04 | PASS | SKIPPED | SKIPPED | +-------------------------------+--------------------+------------------+-------------------+ | Red Hat Enterprise Linux 8.10 | PASS | SKIPPED | SKIPPED | +-------------------------------+--------------------+------------------+-------------------+ | Red Hat Enterprise Linux 9.5 | PASS | SKIPPED | SKIPPED | +-------------------------------+--------------------+------------------+-------------------+ | Ubuntu 24.04 | PASS | PASS | SKIPPED | +-------------------------------+--------------------+------------------+-------------------+ | Alpine Linux 3.22.0 | PASS | SKIPPED | SKIPPED | +-------------------------------+--------------------+------------------+-------------------+ | Windows Server 2022 | SKIPPED | SKIPPED | PASS | +-------------------------------+--------------------+------------------+-------------------+ Ubuntu 20.04 Kernel: 4.19 Compiler: gcc gcc (Ubuntu 9.4.0-1ubuntu1~20.04.2) 9.4.0 FreeBSD 14.2 Kernel: 14.2-RELEASE Compiler: clang 18.1.6 Fedora Linux 42 Kernel: 5.15 Compiler: gcc gcc (GCC) 15.2.1 20250808 (Red Hat 15.2.1-1) CentOS Stream 10 Kernel: 5.15 Compiler: gcc gcc (GCC) 14.2.1 20250110 (Red Hat 14.2.1-8) CentOS Stream 9 Kernel: 5.15 Compiler: gcc gcc (GCC) 11.5.0 20240719 (Red Hat 11.5.0-11) Debian GNU/Linux 12 Kernel: 5.15 Compiler: gcc gcc (Debian 12.2.0-14+deb12u1) 12.2.0 openSUSE Leap 15.6 Kernel: 5.15 Compiler: gcc gcc (SUSE Linux) 7.5.0 Ubuntu 22.04 Kernel: 5.15 Compiler: gcc gcc (Ubuntu 11.4.0-1ubuntu1~22.04) 11.4.0 Red Hat Enterprise Linux 8.10 Kernel: 5.15 Compiler: gcc gcc (GCC) 8.5.0 20210514 (Red Hat 8.5.0-22) Red Hat Enterprise Linux 9.5 Kernel: 5.15 Compiler: gcc gcc (GCC) 11.5.0 20240719 (Red Hat 11.5.0-2) Ubuntu 24.04 Kernel: 5.15 Compiler: gcc gcc (Ubuntu 13.3.0-6ubuntu2~24.04) 13.3.0 Alpine Linux 3.22.0 Kernel: 5.15 Compiler: gcc gcc (Alpine 14.2.0) 14.2.0 Windows Server 2022 Kernel: 10.0.20348.2031 Compiler: clang 15.0.7, gcc 14.1.0 (MinGW), and MSVC VS 19.39.33521 To view detailed results, visit: https://lab.dpdk.org/results/dashboard/patchsets/34529/ UNH-IOL DPDK Community Lab To manage your email subscriptions, visit: https://lab.dpdk.org/results/dashboard/preferences/subscriptions/