From mboxrd@z Thu Jan 1 00:00:00 1970 Return-Path: Received: from mails.dpdk.org (mails.dpdk.org [217.70.189.124]) by inbox.dpdk.org (Postfix) with ESMTP id D3A3B48AF1 for ; Thu, 13 Nov 2025 03:30:38 +0100 (CET) Received: from mails.dpdk.org (localhost [127.0.0.1]) by mails.dpdk.org (Postfix) with ESMTP id B148040151; Thu, 13 Nov 2025 03:30:38 +0100 (CET) Received: from mail-vk1-f228.google.com (mail-vk1-f228.google.com [209.85.221.228]) by mails.dpdk.org (Postfix) with ESMTP id 05F6540151 for ; Thu, 13 Nov 2025 03:30:36 +0100 (CET) Received: by mail-vk1-f228.google.com with SMTP id 71dfb90a1353d-55953d7486cso220664e0c.2 for ; Wed, 12 Nov 2025 18:30:36 -0800 (PST) DKIM-Signature: v=1; a=rsa-sha256; c=relaxed/relaxed; d=iol.unh.edu; s=unh-iol; t=1763001036; x=1763605836; darn=dpdk.org; h=cc:to:from:subject:message-id:date:from:to:cc:subject:date :message-id:reply-to; bh=LIPgSFwcys0QyODaxcTv4Y/5aoxUBS44zQhRleh93iA=; b=CeNKWo6/PXpg8OovxmSTdhJz02r/m2WKamaBPfnWrXV8uvit+dCQY7YFKvo95uPusR AmMge5X+BWsvm6EdqPD4IF8249CDQmj1oBzDdszPGFhpKnYM8GFK/gS2k+2nPvCQKJeu 59KJ3WCw/mrfzdqxafJz3K7gwFLbrd4zwOdaA= X-Google-DKIM-Signature: v=1; a=rsa-sha256; c=relaxed/relaxed; d=1e100.net; s=20230601; t=1763001036; x=1763605836; h=cc:to:from:subject:message-id:date:x-gm-gg:x-gm-message-state:from :to:cc:subject:date:message-id:reply-to; bh=LIPgSFwcys0QyODaxcTv4Y/5aoxUBS44zQhRleh93iA=; b=hWGJCRAegyH12BFfpF1KcPCuKuotUT+XTBPkF8Uyrd6RMbC5e5/r8Mfiz0qgR8fxu6 19BN4BKzipfN4+6+VVzDl9jjskgiWZyclGjd9Avqp1vFUtnnaraTJ1p8GVpQ7Wmbk5bU VgG6MLsW1vyiZI76bxEsY0aCNqOuN2Sd+vszVdZEQDadXBTGg9RTO6OyYhvG16u7ipN+ /+HqL2i6GtHsinrbH/qVUtNgZkklUk6dmrmIDAMqsHX09uRUG9V4NUcbuibK9GH1wBZw 7LRtbGa+RsMXhVUbloaIutCTXwrPcZjBeMZjsmcBklrdOzcHqrr/ocFXzeR+vvL393lH BywA== X-Gm-Message-State: AOJu0YzvJadCcrCoulKsP0tYikC+qcHQHRAbMSSDE+TtE3ub2816vC9q 4fpKAOnrDFTN8olm3C4tt3bSXIrf52tJBh/u8IAaLW4GbJJvq1RnGCxbDOYyubV32V/DDQ5oZL3 ukJ5RAHZbT0ewz/vRWaG7qd8AHAp/GHbgjak0 X-Gm-Gg: ASbGncs+dSoRJMFf+Ft5HqG+wdolxYJTiYqDoFzJ+P3YftAvANYBF4nHLMss8xVa8s5 MTK8AtIzNm7kFDPX4ygOlTDJRS1vgXy6XXcWEi/OkR6avEbF+/tT+Ah2oUuDd32VaRuLykoTMLY 6yOWiPklDi5/mEmV6HT4IiRbE7+NNhTCtBQ9HNxUNAJknP0wamgoCQHGsJSB4tKXNgnwFmrttE6 0FqXj/CkPRtiPqo0aZyVo6Iy9XMFanXzvGuczxyni3NSht92YHVEqEv34rqSWW99Gm4r2Fk1abS pzpQ20GYsHxgnPoIvIUxva/BDLwpf41iAFQ0Z35h4DWG3SlyJsYs0UumBoWegQk7/yWfdcqH5e4 N//P3ZvblGXI/sCixK+lxZZdb0SZMFwo= X-Google-Smtp-Source: AGHT+IH3Zc/GgOPsJCrJ7hV/25GUMIVdYcRMU2NaqClM/A0TEk1n5Mnh1cvVK/QRQUeIQtE5bm7xA3yTS372 X-Received: by 2002:a05:6122:c93:b0:559:79d8:27a5 with SMTP id 71dfb90a1353d-559e7853338mr2124422e0c.0.1763001036309; Wed, 12 Nov 2025 18:30:36 -0800 (PST) Received: from postal.iol.unh.edu (postal.iol.unh.edu. [132.177.123.84]) by smtp-relay.gmail.com with ESMTPS id 71dfb90a1353d-55b0f45ab7dsm78074e0c.5.2025.11.12.18.30.36 (version=TLS1_2 cipher=ECDHE-ECDSA-AES128-GCM-SHA256 bits=128/128); Wed, 12 Nov 2025 18:30:36 -0800 (PST) X-Relaying-Domain: iol.unh.edu Date: Wed, 12 Nov 2025 18:30:36 -0800 (PST) Message-ID: <691542cc.050a0220.2b0b9e.44fbSMTPIN_ADDED_MISSING@mx.google.com> Received: from [172.21.0.2] (unknown [172.18.0.240]) by postal.iol.unh.edu (Postfix) with ESMTP id DB6DA6051830; Wed, 12 Nov 2025 21:30:35 -0500 (EST) Subject: |SUCCESS| [GIT MASTER] 9784db2c5af1eecd02fc21132b59b5b266039b87 From: dpdklab@iol.unh.edu To: Test Report Cc: dpdk-test-reports@iol.unh.edu, Xueming Li , Christian Ehrhardt , Kevin Traynor , Luca Boccassi Content-Type: text/plain X-BeenThere: test-report@dpdk.org X-Mailman-Version: 2.1.29 Precedence: list List-Id: automatic DPDK test reports List-Unsubscribe: , List-Archive: List-Post: List-Help: List-Subscribe: , Errors-To: test-report-bounces@dpdk.org _Testing PASS_ Branch: tags/v22.11 9784db2c5af1eecd02fc21132b59b5b266039b87 --> testing pass Upstream job id: Windows-Compile-DPDK-Native#32273 Test environment and result as below: +-------------------------------+--------------------+-------------------------+----------------------+ | Environment | dpdk_meson_compile | dpdk_llvm_clang_compile | dpdk_mingw64_compile | +===============================+====================+=========================+======================+ | FreeBSD 14.2 | PASS | SKIPPED | SKIPPED | +-------------------------------+--------------------+-------------------------+----------------------+ | Ubuntu 20.04 | PASS | SKIPPED | SKIPPED | +-------------------------------+--------------------+-------------------------+----------------------+ | Fedora Linux 42 | PASS | SKIPPED | SKIPPED | +-------------------------------+--------------------+-------------------------+----------------------+ | Ubuntu 24.04 | PASS | SKIPPED | SKIPPED | +-------------------------------+--------------------+-------------------------+----------------------+ | CentOS Stream 10 | PASS | SKIPPED | SKIPPED | +-------------------------------+--------------------+-------------------------+----------------------+ | Debian GNU/Linux 12 | PASS | SKIPPED | SKIPPED | +-------------------------------+--------------------+-------------------------+----------------------+ | CentOS Stream 9 | PASS | SKIPPED | SKIPPED | +-------------------------------+--------------------+-------------------------+----------------------+ | Red Hat Enterprise Linux 9.5 | PASS | SKIPPED | SKIPPED | +-------------------------------+--------------------+-------------------------+----------------------+ | Red Hat Enterprise Linux 8.10 | PASS | SKIPPED | SKIPPED | +-------------------------------+--------------------+-------------------------+----------------------+ | openSUSE Leap 15.6 | PASS | SKIPPED | SKIPPED | +-------------------------------+--------------------+-------------------------+----------------------+ | Ubuntu 22.04 | PASS | SKIPPED | SKIPPED | +-------------------------------+--------------------+-------------------------+----------------------+ | Windows Server 2022 | SKIPPED | PASS | PASS | +-------------------------------+--------------------+-------------------------+----------------------+ FreeBSD 14.2 Kernel: 14.2-RELEASE Compiler: clang 18.1.6 Ubuntu 20.04 Kernel: 4.19 Compiler: gcc gcc (Ubuntu 9.4.0-1ubuntu1~20.04.2) 9.4.0 Fedora Linux 42 Kernel: 5.15 Compiler: gcc gcc (GCC) 15.2.1 20250808 (Red Hat 15.2.1-1) Ubuntu 24.04 Kernel: 5.15 Compiler: gcc gcc (Ubuntu 13.3.0-6ubuntu2~24.04) 13.3.0 CentOS Stream 10 Kernel: 5.15 Compiler: gcc gcc (GCC) 14.2.1 20250110 (Red Hat 14.2.1-8) Debian GNU/Linux 12 Kernel: 5.15 Compiler: gcc gcc (Debian 12.2.0-14+deb12u1) 12.2.0 CentOS Stream 9 Kernel: 5.15 Compiler: gcc gcc (GCC) 11.5.0 20240719 (Red Hat 11.5.0-11) Red Hat Enterprise Linux 9.5 Kernel: 5.15 Compiler: gcc gcc (GCC) 11.5.0 20240719 (Red Hat 11.5.0-2) Red Hat Enterprise Linux 8.10 Kernel: 5.15 Compiler: gcc gcc (GCC) 8.5.0 20210514 (Red Hat 8.5.0-22) openSUSE Leap 15.6 Kernel: 5.15 Compiler: gcc gcc (SUSE Linux) 7.5.0 Ubuntu 22.04 Kernel: 5.15 Compiler: gcc gcc (Ubuntu 11.4.0-1ubuntu1~22.04) 11.4.0 Windows Server 2022 Kernel: 10.0.20348.2031 Compiler: clang 15.0.7, gcc 14.1.0 (MinGW), and MSVC VS 19.39.33521 To view detailed results, visit: https://lab.dpdk.org/results/dashboard/tarballs/35531/ UNH-IOL DPDK Community Lab To manage your email subscriptions, visit: https://lab.dpdk.org/results/dashboard/preferences/subscriptions/