From mboxrd@z Thu Jan 1 00:00:00 1970 Return-Path: Received: from mails.dpdk.org (mails.dpdk.org [217.70.189.124]) by inbox.dpdk.org (Postfix) with ESMTP id 7C44748AF1 for ; Thu, 13 Nov 2025 03:38:39 +0100 (CET) Received: from mails.dpdk.org (localhost [127.0.0.1]) by mails.dpdk.org (Postfix) with ESMTP id 784CC40151; Thu, 13 Nov 2025 03:38:39 +0100 (CET) Received: from mail-io1-f98.google.com (mail-io1-f98.google.com [209.85.166.98]) by mails.dpdk.org (Postfix) with ESMTP id A0BC740151 for ; Thu, 13 Nov 2025 03:38:37 +0100 (CET) Received: by mail-io1-f98.google.com with SMTP id ca18e2360f4ac-94880a46f3fso11050539f.2 for ; Wed, 12 Nov 2025 18:38:37 -0800 (PST) DKIM-Signature: v=1; a=rsa-sha256; c=relaxed/relaxed; d=iol.unh.edu; s=unh-iol; t=1763001517; x=1763606317; darn=dpdk.org; h=references:in-reply-to:cc:to:from:subject:message-id:date:from:to :cc:subject:date:message-id:reply-to; bh=x8ktynM/DOpDKTFYdXY6640tixDZX0wbboXvV8bi/oU=; b=cQ/8jEF2rjN2rivi8rloSYz2ePL6orMKr4BcJUzxow46mbZ2d2pDrLsun3ZBglFBZL g0AVzk4sdNKrQaZIErPihGIDDwHnU02LpXpj2En9CL4FZzC7/7GcU3aNKV36vKFjj4Zi D2ZAQffTlBreK7pc+vFhYL+lr+16x91YbxS6w= X-Google-DKIM-Signature: v=1; a=rsa-sha256; c=relaxed/relaxed; d=1e100.net; s=20230601; t=1763001517; x=1763606317; h=references:in-reply-to:cc:to:from:subject:message-id:date:x-gm-gg :x-gm-message-state:from:to:cc:subject:date:message-id:reply-to; bh=x8ktynM/DOpDKTFYdXY6640tixDZX0wbboXvV8bi/oU=; b=qTl5ka7NL6ea5M5A9oqtpJvzuOP95m8Hal7QrJYyasWu0ZwvT6mpNGIl5lzwWvPGhy B1PrHszZbhiJX7rt7IbLSFUJ6otARmz8Wfj49oE1IavczyVuln0W42Pwjogez881hFID JI3ixG/uips3uWOWBNHLInboH61GI3bVdlDoFkttYSZ0xjiQBU0Q7QTrfmmoLV844Dd6 fS/6W8pDVgWGxrBU8Y++gp5J+jxZu8hnLxo5DRIP4jD8ZDtSikesXF3hJvGwnvpUWk7R sTTK1jC9zX8Sly9VPDLSnmsqiE31M1J5LvgJShojMMYnwzFUVpmZsRjesXmg4eZdc24s s08Q== X-Gm-Message-State: AOJu0YxP8PdFO2KDi7aWF7RCT34Q2ph/r/9XvmO68VyeorKcfAHuFwkh gDk33WmvVCKoFRB6xt82hJaowvFjVHImdqsmTQP6XlYYH1CmV24agp++hYJf/OPcEz7nCPEes8/ Ved5WKwlnJOYBQLPJbeaD2zo6TsLwLidA9dg0UQ6qpLOpLT+rkhz/mS9CY/jF X-Gm-Gg: ASbGncubJYOm6o/fSaWVrI36jDZ4wFaMtJHZkkEKWEYDBlxjmjBJyLKjQPDEC3yP0lj viVmSVlaj9En2K/CpTbyd/NGTcWtUQtWSuxr1rpoXrSm7F7HtzYobCCwmXBCl/pk++1WiRhwZBH qTRXGFHMvUEJHXpIGkDubMvlyyS76lTDmJael1JaorxWzpU/mvXePbz7fat5Q4es6ZaWmPKWabX Swrln/Ect9XlFZnE1TKrX9tHMV5mX/2mpYEVIONQnkYcKWaZJdPM/nbWOF8EPKU040yzp7N88iU cEqQhsNLgZqqhbngNIAgfgpwN5QPJ/ViaIeGhvDkrSdPqU/O4TqahdB7/Og0prdqakMGsUi++l8 F0m2E5cnu X-Google-Smtp-Source: AGHT+IFGYdNpsx9bABsJxp+iBbMyUpBgkApx4oHIgCgR/sWFKIbOeaxoUPDFIlh0sc2g0sldZ308l9EgogFW X-Received: by 2002:a05:6602:6d02:b0:945:a27d:d4a6 with SMTP id ca18e2360f4ac-948c4641b58mr608343839f.12.1763001516832; Wed, 12 Nov 2025 18:38:36 -0800 (PST) Received: from postal.iol.unh.edu (postal.iol.unh.edu. [2606:4100:3880:1234::84]) by smtp-relay.gmail.com with ESMTPS id 8926c6da1cb9f-5b7bd319e12sm51200173.23.2025.11.12.18.38.36 (version=TLS1_2 cipher=ECDHE-ECDSA-AES128-GCM-SHA256 bits=128/128); Wed, 12 Nov 2025 18:38:36 -0800 (PST) X-Relaying-Domain: iol.unh.edu Date: Wed, 12 Nov 2025 18:38:36 -0800 (PST) Message-ID: <691544ac.050a0220.1e942e.2e6fSMTPIN_ADDED_MISSING@mx.google.com> Received: from [172.21.0.2] (unknown [172.18.0.240]) by postal.iol.unh.edu (Postfix) with ESMTP id 5DAD36051830; Wed, 12 Nov 2025 21:38:36 -0500 (EST) Subject: |SUCCESS| pw158547 [PATCH] telemetry: make socket handler typedef pr From: dpdklab@iol.unh.edu To: Test Report Cc: dpdk-test-reports@iol.unh.edu In-Reply-To: <20251107093259.3305537-1-bruce.richardson@intel.com> References: <20251107093259.3305537-1-bruce.richardson@intel.com> Content-Type: text/plain X-BeenThere: test-report@dpdk.org X-Mailman-Version: 2.1.29 Precedence: list List-Id: automatic DPDK test reports List-Unsubscribe: , List-Archive: List-Post: List-Help: List-Subscribe: , Errors-To: test-report-bounces@dpdk.org Test-Label: iol-compile-amd64-testing Test-Status: SUCCESS http://dpdk.org/patch/158547 _Testing PASS_ Submitter: Bruce Richardson Date: Friday, November 07 2025 09:32:59 DPDK git baseline: Repo:dpdk Branch: master CommitID:be0112878b4fc3a1b918370ed2fe615c52039d77 158547 --> testing pass Upstream job id: Generic-DPDK-Compile-Meson#443509 Test environment and result as below: +-------------------------------+--------------------+------------------+ | Environment | dpdk_meson_compile | dpdk_compile_ovs | +===============================+====================+==================+ | FreeBSD 14.2 | PASS | SKIPPED | +-------------------------------+--------------------+------------------+ | Ubuntu 20.04 | PASS | SKIPPED | +-------------------------------+--------------------+------------------+ | CentOS Stream 9 | PASS | SKIPPED | +-------------------------------+--------------------+------------------+ | Fedora Linux 42 | PASS | PASS | +-------------------------------+--------------------+------------------+ | CentOS Stream 10 | PASS | SKIPPED | +-------------------------------+--------------------+------------------+ | Debian GNU/Linux 12 | PASS | SKIPPED | +-------------------------------+--------------------+------------------+ | openSUSE Leap 15.6 | PASS | SKIPPED | +-------------------------------+--------------------+------------------+ | Red Hat Enterprise Linux 8.10 | PASS | SKIPPED | +-------------------------------+--------------------+------------------+ | Red Hat Enterprise Linux 9.5 | PASS | SKIPPED | +-------------------------------+--------------------+------------------+ | Ubuntu 22.04 | PASS | SKIPPED | +-------------------------------+--------------------+------------------+ | Ubuntu 24.04 | PASS | PASS | +-------------------------------+--------------------+------------------+ | Alpine Linux 3.22.0 | PASS | SKIPPED | +-------------------------------+--------------------+------------------+ FreeBSD 14.2 Kernel: 14.2-RELEASE Compiler: clang 18.1.6 Ubuntu 20.04 Kernel: 4.19 Compiler: gcc gcc (Ubuntu 9.4.0-1ubuntu1~20.04.2) 9.4.0 CentOS Stream 9 Kernel: 5.15 Compiler: gcc gcc (GCC) 11.5.0 20240719 (Red Hat 11.5.0-11) Fedora Linux 42 Kernel: 5.15 Compiler: clang gcc (GCC) 15.2.1 20250808 (Red Hat 15.2.1-1) CentOS Stream 10 Kernel: 5.15 Compiler: gcc gcc (GCC) 14.2.1 20250110 (Red Hat 14.2.1-8) Debian GNU/Linux 12 Kernel: 5.15 Compiler: gcc gcc (Debian 12.2.0-14+deb12u1) 12.2.0 openSUSE Leap 15.6 Kernel: 5.15 Compiler: gcc gcc (SUSE Linux) 7.5.0 Red Hat Enterprise Linux 8.10 Kernel: 5.15 Compiler: gcc gcc (GCC) 8.5.0 20210514 (Red Hat 8.5.0-22) Red Hat Enterprise Linux 9.5 Kernel: 5.15 Compiler: gcc gcc (GCC) 11.5.0 20240719 (Red Hat 11.5.0-2) Ubuntu 22.04 Kernel: 5.15 Compiler: gcc gcc (Ubuntu 11.4.0-1ubuntu1~22.04) 11.4.0 Ubuntu 24.04 Kernel: 5.15 Compiler: gcc gcc (Ubuntu 13.3.0-6ubuntu2~24.04) 13.3.0 Alpine Linux 3.22.0 Kernel: 5.15 Compiler: gcc gcc (Alpine 14.2.0) 14.2.0 To view detailed results, visit: https://lab.dpdk.org/results/dashboard/patchsets/34555/ UNH-IOL DPDK Community Lab To manage your email subscriptions, visit: https://lab.dpdk.org/results/dashboard/preferences/subscriptions/