From mboxrd@z Thu Jan 1 00:00:00 1970 Return-Path: Received: from mails.dpdk.org (mails.dpdk.org [217.70.189.124]) by inbox.dpdk.org (Postfix) with ESMTP id 4C9AF48AF1 for ; Thu, 13 Nov 2025 03:46:58 +0100 (CET) Received: from mails.dpdk.org (localhost [127.0.0.1]) by mails.dpdk.org (Postfix) with ESMTP id 21BC440151; Thu, 13 Nov 2025 03:46:58 +0100 (CET) Received: from mail-qv1-f98.google.com (mail-qv1-f98.google.com [209.85.219.98]) by mails.dpdk.org (Postfix) with ESMTP id 11BEF40151 for ; Thu, 13 Nov 2025 03:46:56 +0100 (CET) Received: by mail-qv1-f98.google.com with SMTP id 6a1803df08f44-8823d5127daso4372026d6.0 for ; Wed, 12 Nov 2025 18:46:55 -0800 (PST) DKIM-Signature: v=1; a=rsa-sha256; c=relaxed/relaxed; d=iol.unh.edu; s=unh-iol; t=1763002015; x=1763606815; darn=dpdk.org; h=references:in-reply-to:cc:to:from:subject:message-id:date:from:to :cc:subject:date:message-id:reply-to; bh=VPqErXbmbsxq/mN/QBJgt/S9TmE2fyQImsfgoOb40iw=; b=dIR/Ex8tnKEeH4bs/j+2mgm45LFZd6WDbQTWzD8UHDzs12LRMImc0/iQzFZKZqAhJq cf0dIgt1V4suc02VqUGDyPOA3HEIoyhthuJ8GreWL0w6t9wBbXNkXLfp0W27ndyfT+ZA VBUv0S7JUgfu786Jorpq4K+j3CqpVTcEr61Gc= X-Google-DKIM-Signature: v=1; a=rsa-sha256; c=relaxed/relaxed; d=1e100.net; s=20230601; t=1763002015; x=1763606815; h=references:in-reply-to:cc:to:from:subject:message-id:date:x-gm-gg :x-gm-message-state:from:to:cc:subject:date:message-id:reply-to; bh=VPqErXbmbsxq/mN/QBJgt/S9TmE2fyQImsfgoOb40iw=; b=nnSI56GyDbaNR3TWg822MLBmgfFb6yXVoXyG0h4MyglGf0IwoTqTSIFClCcKYo8yMW 49sSKdQcCqgt3Mm/vdREt3gdnJOnUhTSnl2aptPUWaldsJErOjbL+Kmi9t8wXfe1maSV JC3/FbqregX4ihh9+vT0vZpsb5TbJ9Lvuv89Q9SleInYNO9gkFYda7G+4dG8HRTe4Y5t GzyGQFNemsDCngJRwoJANVstSFLp50yeTti2LQNACGqs1omTZvbbuBv7bEI0IMgZeGa/ +0XcdIIg478zCGJSEMfJ7Dqc1BSC5GEZXgTH6KHllw4S2wmpg+aoBc1QP5itNDXQ4Qqq RFZw== X-Gm-Message-State: AOJu0YzT2bLDnsdhP9pYLJBnMLObSBiS4OMq+hK+bRB/zp9C6RpLQKqc SqvXe7+4ulcFEceSogs5eTHsPgyr5isuuB2hR0ZZYAATy5Cr4yDtfYTrF6y6s2Qo8zjdGWB7y8v 4jIAgWDzpN86XCR0Zfnahwrz6RN0JJT/Fg3OF6wfxHJKd X-Gm-Gg: ASbGncs0DdS7FfBCkQOMBQtJ6aoDQxOgYddLXpXIZvPHZjoJeTnTkmuJfPiba6E6gwF IQSG7EWHr5Q7EOY2l7+uBveypR37JAZt/PemifHUoFWhtzsCPetk/huOygEigQsaqiVzLFnEwpn GiUDwk1md8GZ8FI7H70af+pESM9xVD1XNc79q0EQMRQV1BwrM0+bD7G+95Fz83WkSZnGQ5N4S4J N5kptDylDQcA/dvA7ed39UHnwuwOTDAcFOjEnhYV7kOrsVTcjOh7Xeb+ChihU/rghjFZPEiX1+V P6eJbdATmdQ4lbCpY4tNKlz+L8N0yPUjJ/fcT1lWgP/y10td8UBFruCwzFStC09j5OZ4r80jpj3 A8+y0VNyWsmc5V5m3Mmm79j/4xbI53Co= X-Google-Smtp-Source: AGHT+IFaePQY5w32sODsnXX9ZBaEe6JO1dmGgu3i96ml6yKP1Le/Jmh/3E9j204rHWdQYdGkhMswnZn/hrhS X-Received: by 2002:a05:6214:268b:b0:880:216e:4b3b with SMTP id 6a1803df08f44-882718f865emr76567606d6.23.1763002015345; Wed, 12 Nov 2025 18:46:55 -0800 (PST) Received: from postal.iol.unh.edu (postal.iol.unh.edu. [132.177.123.84]) by smtp-relay.gmail.com with ESMTPS id 6a1803df08f44-8828635ea69sm643826d6.15.2025.11.12.18.46.55 (version=TLS1_2 cipher=ECDHE-ECDSA-AES128-GCM-SHA256 bits=128/128); Wed, 12 Nov 2025 18:46:55 -0800 (PST) X-Relaying-Domain: iol.unh.edu Date: Wed, 12 Nov 2025 18:46:55 -0800 (PST) Message-ID: <6915469f.050a0220.cf65a.3472SMTPIN_ADDED_MISSING@mx.google.com> Received: from [172.21.0.2] (unknown [172.18.0.240]) by postal.iol.unh.edu (Postfix) with ESMTP id D02626051830; Wed, 12 Nov 2025 21:46:54 -0500 (EST) Subject: |SUCCESS| pw158706 [PATCH] net/mlx5: fix send to kernel resources re From: dpdklab@iol.unh.edu To: Test Report Cc: dpdk-test-reports@iol.unh.edu In-Reply-To: <20251112162440.425611-1-getelson@nvidia.com> References: <20251112162440.425611-1-getelson@nvidia.com> Content-Type: text/plain X-BeenThere: test-report@dpdk.org X-Mailman-Version: 2.1.29 Precedence: list List-Id: automatic DPDK test reports List-Unsubscribe: , List-Archive: List-Post: List-Help: List-Subscribe: , Errors-To: test-report-bounces@dpdk.org Test-Label: iol-compile-amd64-testing Test-Status: SUCCESS http://dpdk.org/patch/158706 _Testing PASS_ Submitter: Gregory Etelson Date: Wednesday, November 12 2025 16:24:40 DPDK git baseline: Repo:dpdk-next-net-mlx Branch: master CommitID:ae657d56b1f0ea979b3f611edf28d773efc2ddcf 158706 --> testing pass Upstream job id: Generic-DPDK-Compile-Meson#443536 Test environment and result as below: +-------------------------------+--------------------+------------------+ | Environment | dpdk_meson_compile | dpdk_compile_ovs | +===============================+====================+==================+ | Ubuntu 20.04 | PASS | SKIPPED | +-------------------------------+--------------------+------------------+ | FreeBSD 14.2 | PASS | SKIPPED | +-------------------------------+--------------------+------------------+ | CentOS Stream 9 | PASS | SKIPPED | +-------------------------------+--------------------+------------------+ | CentOS Stream 10 | PASS | SKIPPED | +-------------------------------+--------------------+------------------+ | Debian GNU/Linux 12 | PASS | SKIPPED | +-------------------------------+--------------------+------------------+ | Fedora Linux 42 | PASS | PASS | +-------------------------------+--------------------+------------------+ | openSUSE Leap 15.6 | PASS | SKIPPED | +-------------------------------+--------------------+------------------+ | Red Hat Enterprise Linux 8.10 | PASS | SKIPPED | +-------------------------------+--------------------+------------------+ | Red Hat Enterprise Linux 9.5 | PASS | SKIPPED | +-------------------------------+--------------------+------------------+ | Ubuntu 22.04 | PASS | SKIPPED | +-------------------------------+--------------------+------------------+ | Ubuntu 24.04 | PASS | PASS | +-------------------------------+--------------------+------------------+ | Alpine Linux 3.22.0 | PASS | SKIPPED | +-------------------------------+--------------------+------------------+ Ubuntu 20.04 Kernel: 4.19 Compiler: gcc gcc (Ubuntu 9.4.0-1ubuntu1~20.04.2) 9.4.0 FreeBSD 14.2 Kernel: 14.2-RELEASE Compiler: clang 18.1.6 CentOS Stream 9 Kernel: 5.15 Compiler: gcc gcc (GCC) 11.5.0 20240719 (Red Hat 11.5.0-11) CentOS Stream 10 Kernel: 5.15 Compiler: gcc gcc (GCC) 14.2.1 20250110 (Red Hat 14.2.1-8) Debian GNU/Linux 12 Kernel: 5.15 Compiler: gcc gcc (Debian 12.2.0-14+deb12u1) 12.2.0 Fedora Linux 42 Kernel: 5.15 Compiler: clang gcc (GCC) 15.2.1 20250808 (Red Hat 15.2.1-1) openSUSE Leap 15.6 Kernel: 5.15 Compiler: gcc gcc (SUSE Linux) 7.5.0 Red Hat Enterprise Linux 8.10 Kernel: 5.15 Compiler: gcc gcc (GCC) 8.5.0 20210514 (Red Hat 8.5.0-22) Red Hat Enterprise Linux 9.5 Kernel: 5.15 Compiler: gcc gcc (GCC) 11.5.0 20240719 (Red Hat 11.5.0-2) Ubuntu 22.04 Kernel: 5.15 Compiler: gcc gcc (Ubuntu 11.4.0-1ubuntu1~22.04) 11.4.0 Ubuntu 24.04 Kernel: 5.15 Compiler: gcc gcc (Ubuntu 13.3.0-6ubuntu2~24.04) 13.3.0 Alpine Linux 3.22.0 Kernel: 5.15 Compiler: gcc gcc (Alpine 14.2.0) 14.2.0 To view detailed results, visit: https://lab.dpdk.org/results/dashboard/patchsets/34558/ UNH-IOL DPDK Community Lab To manage your email subscriptions, visit: https://lab.dpdk.org/results/dashboard/preferences/subscriptions/