From mboxrd@z Thu Jan 1 00:00:00 1970 Return-Path: Received: from mails.dpdk.org (mails.dpdk.org [217.70.189.124]) by inbox.dpdk.org (Postfix) with ESMTP id A367248AF1 for ; Thu, 13 Nov 2025 03:57:22 +0100 (CET) Received: from mails.dpdk.org (localhost [127.0.0.1]) by mails.dpdk.org (Postfix) with ESMTP id 895FB40151; Thu, 13 Nov 2025 03:57:22 +0100 (CET) Received: from mail-qv1-f97.google.com (mail-qv1-f97.google.com [209.85.219.97]) by mails.dpdk.org (Postfix) with ESMTP id 937EA40151 for ; Thu, 13 Nov 2025 03:57:21 +0100 (CET) Received: by mail-qv1-f97.google.com with SMTP id 6a1803df08f44-8738c6fdbe8so3561486d6.1 for ; Wed, 12 Nov 2025 18:57:21 -0800 (PST) DKIM-Signature: v=1; a=rsa-sha256; c=relaxed/relaxed; d=iol.unh.edu; s=unh-iol; t=1763002641; x=1763607441; darn=dpdk.org; h=references:in-reply-to:cc:to:from:subject:message-id:date:from:to :cc:subject:date:message-id:reply-to; bh=F62hLMrb4vFm82DlPQZqOulp4geKWfAbWMM8MsUMgg8=; b=ZivKUJDBBwEXAsgQyRX0bVcJxhPNsW4sKp4/TGqRWszW+G4h3E0bFaonlwdyUBIhjm 5zXt2+DL/G32G2+AiLn0P+KYY9YlRCBI0qSV6Yzl9ZgPJX/dSg+LLL+ZkxlOkJ72kRz0 AIO9cBeo9dFE3G/91nrFvFPFf8btaQq9z2Ufs= X-Google-DKIM-Signature: v=1; a=rsa-sha256; c=relaxed/relaxed; d=1e100.net; s=20230601; t=1763002641; x=1763607441; h=references:in-reply-to:cc:to:from:subject:message-id:date:x-gm-gg :x-gm-message-state:from:to:cc:subject:date:message-id:reply-to; bh=F62hLMrb4vFm82DlPQZqOulp4geKWfAbWMM8MsUMgg8=; b=FgiykF4huc4vxxF2KbFkP5Bwnp1lgDfOVy2RO7zyLyf0AjKfJEhok8Gnp3V8qYx1Tb R2Rm8rUUGfOoonA8CIVswNGJkrtglIoWG9yQ9MuOBLyH0fJIDq4EDZqYXYL4M+caSSjf tAikLNSQzdIpVgnn7uHkqn1jLhJQIYK10GiDSr7Ayo6fzWlUyuTUC2HsKC1n1KeJxl5p PMDtWYXSlx9xSua25CV5jYAjy9aI9pBrkaaF0aRck8qTqAOeTE8zor6OyYvKwpDuvEXb Cd7oYEBZsRB5aA9W8dqxjcKH++ZqXQwyFWSPSlP+yHP9Ou5EogivELiPuVYusosuGOtv LPGA== X-Gm-Message-State: AOJu0YwEmJ4Pyh6jTg3k48dzbJartxhKXPLfmw6FGEWAFE/4yEvTedvM fUWaFUqVhe7oZXRC2KdoOVljEd+x7XybyZpjamEx+n5gJ+zj2/WqY0qz++uqnLuuxyO1n1aZfpD we91ameMIj0erqRU8+66e4iSwYW6LTM3quU9Qak31vtD/8H54MFrzdiZbJEPA X-Gm-Gg: ASbGncuLg1vYm/s8CVNIhx9HM9RueOr3VklTzwKeuNKMXZc34rGwdHxYP3xkMpuPfYn G9XLwMH4BG3Hm+Cv/v8qEBuMd2Gfe4t6mfBw1AWP4iaq1GfysTLij5RCuQhrLtixSp792MZUyKU bqzXNDfEE2fmuedDL6sYbPl9bhlMizhHcq9+bnDL/dpBt8eiHDRxibmpDldn/D8j3lJkYwLS+Un fv/jrz9zheLXJIDVb942qbKBHeKlsg0QkW/Z9jdf3o5kFE1odmthz/CaZQQw2qY0wgkkuWaLpAy JB+KMN75yO3KuFgAEghbW/mPIQUnFhvk1g6ntGLpjgSuulpUQHwEAnXEXPEnwFPBsGBn8qIejZP gJAfK50nZ X-Google-Smtp-Source: AGHT+IHJbtUVgZPswYP6NNXL7Ud0OjDl+x39EU0KAOFlkSZNdPKeZYmHAjBjmsOxCgAw4RPyMR9ULlfiaeQP X-Received: by 2002:a0c:f10d:0:b0:882:7811:3e52 with SMTP id 6a1803df08f44-882817c2de2mr22402416d6.3.1763002640930; Wed, 12 Nov 2025 18:57:20 -0800 (PST) Received: from postal.iol.unh.edu (postal.iol.unh.edu. [2606:4100:3880:1234::84]) by smtp-relay.gmail.com with ESMTPS id 6a1803df08f44-882865a59besm641606d6.29.2025.11.12.18.57.20 (version=TLS1_2 cipher=ECDHE-ECDSA-AES128-GCM-SHA256 bits=128/128); Wed, 12 Nov 2025 18:57:20 -0800 (PST) X-Relaying-Domain: iol.unh.edu Date: Wed, 12 Nov 2025 18:57:20 -0800 (PST) Message-ID: <69154910.050a0220.a869c.349dSMTPIN_ADDED_MISSING@mx.google.com> Received: from [172.21.0.2] (unknown [172.18.0.240]) by postal.iol.unh.edu (Postfix) with ESMTP id 9933E6051830; Wed, 12 Nov 2025 21:57:20 -0500 (EST) Subject: |SUCCESS| pw158707-158710 [PATCH] [v2,4/4] test: vary size of packet From: dpdklab@iol.unh.edu To: Test Report Cc: dpdk-test-reports@iol.unh.edu In-Reply-To: <20251112181421.285119-5-stephen@networkplumber.org> References: <20251112181421.285119-5-stephen@networkplumber.org> Content-Type: text/plain X-BeenThere: test-report@dpdk.org X-Mailman-Version: 2.1.29 Precedence: list List-Id: automatic DPDK test reports List-Unsubscribe: , List-Archive: List-Post: List-Help: List-Subscribe: , Errors-To: test-report-bounces@dpdk.org Test-Label: iol-compile-amd64-testing Test-Status: SUCCESS http://dpdk.org/patch/158710 _Testing PASS_ Submitter: Stephen Hemminger Date: Wednesday, November 12 2025 18:12:50 DPDK git baseline: Repo:dpdk Branch: master CommitID:be0112878b4fc3a1b918370ed2fe615c52039d77 158707-158710 --> testing pass Upstream job id: Generic-DPDK-Compile-Meson#443563 Test environment and result as below: +-------------------------------+--------------------+------------------+ | Environment | dpdk_meson_compile | dpdk_compile_ovs | +===============================+====================+==================+ | Ubuntu 20.04 | PASS | SKIPPED | +-------------------------------+--------------------+------------------+ | FreeBSD 14.2 | PASS | SKIPPED | +-------------------------------+--------------------+------------------+ | CentOS Stream 9 | PASS | SKIPPED | +-------------------------------+--------------------+------------------+ | Debian GNU/Linux 12 | PASS | SKIPPED | +-------------------------------+--------------------+------------------+ | CentOS Stream 10 | PASS | SKIPPED | +-------------------------------+--------------------+------------------+ | Fedora Linux 42 | PASS | PASS | +-------------------------------+--------------------+------------------+ | openSUSE Leap 15.6 | PASS | SKIPPED | +-------------------------------+--------------------+------------------+ | Red Hat Enterprise Linux 8.10 | PASS | SKIPPED | +-------------------------------+--------------------+------------------+ | Red Hat Enterprise Linux 9.5 | PASS | SKIPPED | +-------------------------------+--------------------+------------------+ | Ubuntu 22.04 | PASS | SKIPPED | +-------------------------------+--------------------+------------------+ | Ubuntu 24.04 | PASS | PASS | +-------------------------------+--------------------+------------------+ | Alpine Linux 3.22.0 | PASS | SKIPPED | +-------------------------------+--------------------+------------------+ Ubuntu 20.04 Kernel: 4.19 Compiler: gcc gcc (Ubuntu 9.4.0-1ubuntu1~20.04.2) 9.4.0 FreeBSD 14.2 Kernel: 14.2-RELEASE Compiler: clang 18.1.6 CentOS Stream 9 Kernel: 5.15 Compiler: gcc gcc (GCC) 11.5.0 20240719 (Red Hat 11.5.0-11) Debian GNU/Linux 12 Kernel: 5.15 Compiler: gcc gcc (Debian 12.2.0-14+deb12u1) 12.2.0 CentOS Stream 10 Kernel: 5.15 Compiler: gcc gcc (GCC) 14.2.1 20250110 (Red Hat 14.2.1-8) Fedora Linux 42 Kernel: 5.15 Compiler: clang gcc (GCC) 15.2.1 20250808 (Red Hat 15.2.1-1) openSUSE Leap 15.6 Kernel: 5.15 Compiler: gcc gcc (SUSE Linux) 7.5.0 Red Hat Enterprise Linux 8.10 Kernel: 5.15 Compiler: gcc gcc (GCC) 8.5.0 20210514 (Red Hat 8.5.0-22) Red Hat Enterprise Linux 9.5 Kernel: 5.15 Compiler: gcc gcc (GCC) 11.5.0 20240719 (Red Hat 11.5.0-2) Ubuntu 22.04 Kernel: 5.15 Compiler: gcc gcc (Ubuntu 11.4.0-1ubuntu1~22.04) 11.4.0 Ubuntu 24.04 Kernel: 5.15 Compiler: gcc gcc (Ubuntu 13.3.0-6ubuntu2~24.04) 13.3.0 Alpine Linux 3.22.0 Kernel: 5.15 Compiler: gcc gcc (Alpine 14.2.0) 14.2.0 To view detailed results, visit: https://lab.dpdk.org/results/dashboard/patchsets/34559/ UNH-IOL DPDK Community Lab To manage your email subscriptions, visit: https://lab.dpdk.org/results/dashboard/preferences/subscriptions/