From mboxrd@z Thu Jan 1 00:00:00 1970 Return-Path: Received: from mails.dpdk.org (mails.dpdk.org [217.70.189.124]) by inbox.dpdk.org (Postfix) with ESMTP id 1146848AF2 for ; Thu, 13 Nov 2025 04:20:50 +0100 (CET) Received: from mails.dpdk.org (localhost [127.0.0.1]) by mails.dpdk.org (Postfix) with ESMTP id D831A40151; Thu, 13 Nov 2025 04:20:49 +0100 (CET) Received: from mail-pl1-f228.google.com (mail-pl1-f228.google.com [209.85.214.228]) by mails.dpdk.org (Postfix) with ESMTP id 13A9A40151 for ; Thu, 13 Nov 2025 04:20:48 +0100 (CET) Received: by mail-pl1-f228.google.com with SMTP id d9443c01a7336-297ef378069so2905855ad.3 for ; Wed, 12 Nov 2025 19:20:47 -0800 (PST) DKIM-Signature: v=1; a=rsa-sha256; c=relaxed/relaxed; d=iol.unh.edu; s=unh-iol; t=1763004047; x=1763608847; darn=dpdk.org; h=references:in-reply-to:cc:to:from:subject:message-id:date:from:to :cc:subject:date:message-id:reply-to; bh=TIwSJwGjhkpFShYLKXAitueFQ1+ER5goJqo4c9HT/VM=; b=BswtgKAjc0RDoMycjyvf0y6jmydN6W2rU5dTsIDLjUURLy39EMdgVzCdZkd223Cx7P fZAETx1Cvkkz6D7wzVPirFR5jFczjiewQKrXm9cLuais/hb08nw2znrGrmEwZ2n8Q08t Rhs9imPbmRU6SHPTlNzt+yFNqiR0/QTGUCW6I= X-Google-DKIM-Signature: v=1; a=rsa-sha256; c=relaxed/relaxed; d=1e100.net; s=20230601; t=1763004047; x=1763608847; h=references:in-reply-to:cc:to:from:subject:message-id:date:x-gm-gg :x-gm-message-state:from:to:cc:subject:date:message-id:reply-to; bh=TIwSJwGjhkpFShYLKXAitueFQ1+ER5goJqo4c9HT/VM=; b=SJURyZe3HWvBAN/WS7QemIczBNPTRYJNUkdCKwj8TnvpRV4JuoDY25BVIigy2nfN9A zwws2/agXTLYXlOMHDTlYt10jEpoe8z0WGQjZkW4bWVGmfwrB0ta4LvG3pRdMey9Zx/r JDrrSnBJNh3hvmA+ant5/opOR4Ws8891DTLxTvn7ozyNPELkZGLvzBbwSs+8sI1qnnfk LLIPU/D7NDT1E74qv19dNT5HapH7vOLiX7zjwH/mRFUCGF95GiAJugK+Xv6T1XNZ2Wvy 9oMs28TP2VNsVACnIG4dZCcLn+uEIo6l1PjJE78a+IVERktRPiIiKsJjpVmZNo6PhJ/f KDCA== X-Gm-Message-State: AOJu0YxowYMhijUUB55un1C4RAKvyNIKOzDHWi6hBI6jLqVgGAPXcoHA BJRGCsuv6fYvlrjATQolR7ruFVIZgJ5uAnKrpjEss3wjBYh4q5c200RSOJf9HK/+tzA7UWoI9Ji suclOp/SWRw+E7VXwTy5ubZ9H/9e5C9PrkoxFVbFzrH08 X-Gm-Gg: ASbGnctQTvWD26XeBzVUH7BDGXlQ5dW1MU70vhAhOKzFCtSYFC845Katcu4PCBTX0Wb UcgMAQcXRpB6+QSmy7iiXl1YmT3CISYOLb0AWxcNZHT3ODc1ixEEhbK/qUvYsg5Yj7Za+8hV5gG 7icTi2n2a2qBPvdwkpZkrItKIrpQFhrndNYqnB3jdlddKOFKo3Z36ev7vhq1j5eUVWtJZwR31Sw /rFM6N/i5Hp/Fhvhxy9rjy7uIhD4zeqBoWLrc5cOn0izpJicvYyrxQm/a40BmoGgBooqBT7Xjfj lvoarKPVaT6AGWHYiVrBzznURrRxW8XZBl7TAUmcHSCXnHz5DT1NOPG4suOHLiUi4dXGJSxrS21 m8i5ZVPwBkvluZY51qbMGNgFc/sbYi54= X-Google-Smtp-Source: AGHT+IEvO0ykq7Vfb7bVJuCAG3yj027TvmvnrcmCqtB4HMT3riKtlzdIhr8n69dHtpbm8851ztwgf2xU3fyR X-Received: by 2002:a17:902:c94b:b0:295:3584:1bbd with SMTP id d9443c01a7336-2984ee0308cmr66961705ad.41.1763004047082; Wed, 12 Nov 2025 19:20:47 -0800 (PST) Received: from postal.iol.unh.edu (postal.iol.unh.edu. [132.177.123.84]) by smtp-relay.gmail.com with ESMTPS id d9443c01a7336-2985c2a8b2fsm757635ad.30.2025.11.12.19.20.46 (version=TLS1_2 cipher=ECDHE-ECDSA-AES128-GCM-SHA256 bits=128/128); Wed, 12 Nov 2025 19:20:47 -0800 (PST) X-Relaying-Domain: iol.unh.edu Date: Wed, 12 Nov 2025 19:20:47 -0800 (PST) Message-ID: <69154e8f.170a0220.38d01a.460cSMTPIN_ADDED_MISSING@mx.google.com> Received: from [172.21.0.2] (unknown [172.18.0.240]) by postal.iol.unh.edu (Postfix) with ESMTP id 7F4CC60003F4; Wed, 12 Nov 2025 22:20:46 -0500 (EST) Subject: |SUCCESS| pw158648-158652 [PATCH] [v4,5/5] vhost_user: Increase numb From: dpdklab@iol.unh.edu To: Test Report Cc: dpdk-test-reports@iol.unh.edu, Chenbo Xia , Maxime Coquelin In-Reply-To: <20251111111235.2902146-6-pravin.bathija@dell.com> References: <20251111111235.2902146-6-pravin.bathija@dell.com> Content-Type: text/plain X-BeenThere: test-report@dpdk.org X-Mailman-Version: 2.1.29 Precedence: list List-Id: automatic DPDK test reports List-Unsubscribe: , List-Archive: List-Post: List-Help: List-Subscribe: , Errors-To: test-report-bounces@dpdk.org Test-Label: iol-compile-amd64-testing Test-Status: SUCCESS http://dpdk.org/patch/158652 _Testing PASS_ Submitter: Bathija, Pravin Date: Tuesday, November 11 2025 11:12:35 DPDK git baseline: Repo:dpdk-next-virtio Branch: master CommitID:6b37c26a95388aa41bb5267c7c42f604fd571a38 158648-158652 --> testing pass Upstream job id: Windows-Compile-DPDK-VS#7497 Test environment and result as below: +-------------------------------+--------------------+------------------+-------------------+ | Environment | dpdk_meson_compile | dpdk_compile_ovs | dpdk_msvc_compile | +===============================+====================+==================+===================+ | CentOS Stream 9 | PASS | SKIPPED | SKIPPED | +-------------------------------+--------------------+------------------+-------------------+ | Fedora Linux 42 | PASS | PASS | SKIPPED | +-------------------------------+--------------------+------------------+-------------------+ | CentOS Stream 10 | PASS | SKIPPED | SKIPPED | +-------------------------------+--------------------+------------------+-------------------+ | Debian GNU/Linux 12 | PASS | SKIPPED | SKIPPED | +-------------------------------+--------------------+------------------+-------------------+ | Ubuntu 20.04 | PASS | SKIPPED | SKIPPED | +-------------------------------+--------------------+------------------+-------------------+ | Red Hat Enterprise Linux 8.10 | PASS | SKIPPED | SKIPPED | +-------------------------------+--------------------+------------------+-------------------+ | Alpine Linux 3.22.0 | PASS | SKIPPED | SKIPPED | +-------------------------------+--------------------+------------------+-------------------+ | Ubuntu 24.04 | PASS | PASS | SKIPPED | +-------------------------------+--------------------+------------------+-------------------+ | openSUSE Leap 15.6 | PASS | SKIPPED | SKIPPED | +-------------------------------+--------------------+------------------+-------------------+ | FreeBSD 14.2 | PASS | SKIPPED | SKIPPED | +-------------------------------+--------------------+------------------+-------------------+ | Ubuntu 22.04 | PASS | SKIPPED | SKIPPED | +-------------------------------+--------------------+------------------+-------------------+ | Red Hat Enterprise Linux 9.5 | PASS | SKIPPED | SKIPPED | +-------------------------------+--------------------+------------------+-------------------+ | Windows Server 2022 | SKIPPED | SKIPPED | PASS | +-------------------------------+--------------------+------------------+-------------------+ CentOS Stream 9 Kernel: 5.15 Compiler: gcc gcc (GCC) 11.5.0 20240719 (Red Hat 11.5.0-11) Fedora Linux 42 Kernel: 5.15 Compiler: clang gcc (GCC) 15.2.1 20250808 (Red Hat 15.2.1-1) CentOS Stream 10 Kernel: 5.15 Compiler: gcc gcc (GCC) 14.2.1 20250110 (Red Hat 14.2.1-8) Debian GNU/Linux 12 Kernel: 5.15 Compiler: gcc gcc (Debian 12.2.0-14+deb12u1) 12.2.0 Ubuntu 20.04 Kernel: 5.15 Compiler: gcc gcc (Ubuntu 9.4.0-1ubuntu1~20.04.2) 9.4.0 Red Hat Enterprise Linux 8.10 Kernel: 5.15 Compiler: gcc gcc (GCC) 8.5.0 20210514 (Red Hat 8.5.0-22) Alpine Linux 3.22.0 Kernel: 5.15 Compiler: gcc gcc (Alpine 14.2.0) 14.2.0 Ubuntu 24.04 Kernel: 5.15 Compiler: gcc gcc (Ubuntu 13.3.0-6ubuntu2~24.04) 13.3.0 openSUSE Leap 15.6 Kernel: 5.15 Compiler: gcc gcc (SUSE Linux) 7.5.0 FreeBSD 14.2 Kernel: 14.2-RELEASE Compiler: clang 18.1.6 Ubuntu 22.04 Kernel: 5.15 Compiler: gcc gcc (Ubuntu 11.4.0-1ubuntu1~22.04) 11.4.0 Red Hat Enterprise Linux 9.5 Kernel: 5.15 Compiler: gcc gcc (GCC) 11.5.0 20240719 (Red Hat 11.5.0-2) Windows Server 2022 Kernel: 10.0.20348.2031 Compiler: clang 15.0.7, gcc 14.1.0 (MinGW), and MSVC VS 19.39.33521 To view detailed results, visit: https://lab.dpdk.org/results/dashboard/patchsets/34530/ UNH-IOL DPDK Community Lab To manage your email subscriptions, visit: https://lab.dpdk.org/results/dashboard/preferences/subscriptions/