From mboxrd@z Thu Jan 1 00:00:00 1970 Return-Path: Received: from mails.dpdk.org (mails.dpdk.org [217.70.189.124]) by inbox.dpdk.org (Postfix) with ESMTP id B87A248AF2 for ; Thu, 13 Nov 2025 04:28:59 +0100 (CET) Received: from mails.dpdk.org (localhost [127.0.0.1]) by mails.dpdk.org (Postfix) with ESMTP id 945DB40151; Thu, 13 Nov 2025 04:28:59 +0100 (CET) Received: from mail-pl1-f227.google.com (mail-pl1-f227.google.com [209.85.214.227]) by mails.dpdk.org (Postfix) with ESMTP id 60C6340151 for ; Thu, 13 Nov 2025 04:28:58 +0100 (CET) Received: by mail-pl1-f227.google.com with SMTP id d9443c01a7336-298145fe27eso3554065ad.1 for ; Wed, 12 Nov 2025 19:28:58 -0800 (PST) DKIM-Signature: v=1; a=rsa-sha256; c=relaxed/relaxed; d=iol.unh.edu; s=unh-iol; t=1763004537; x=1763609337; darn=dpdk.org; h=references:in-reply-to:cc:to:from:subject:message-id:date:from:to :cc:subject:date:message-id:reply-to; bh=CH8OOpIX97I1WK6mHedks5ukpbBwwtKGzRvMOEotBgA=; b=crnhe7iDLqWB7KbpoOyo+XtP7uL2MLw5R8gnaNKF1qFaR7ttg9uLdnmGw7D9A9y5g1 hMQShmY7GK3BKr1JL/zkUSjSUBr1a/TS0gRahAy3qYBfL0uhwwNtRzJ7wUPYLcn293WR x4thqfS62VXUNIrQkQq1q0vCHukDSyfKQd+Fk= X-Google-DKIM-Signature: v=1; a=rsa-sha256; c=relaxed/relaxed; d=1e100.net; s=20230601; t=1763004537; x=1763609337; h=references:in-reply-to:cc:to:from:subject:message-id:date:x-gm-gg :x-gm-message-state:from:to:cc:subject:date:message-id:reply-to; bh=CH8OOpIX97I1WK6mHedks5ukpbBwwtKGzRvMOEotBgA=; b=FgGc6YzVmTWanVqh9svS2XH264Cq2PAMGQlH5UKivJXYDYNgrJIu9SZZBMP1dWdBgp LQnfSKUaShvk9s7AYtdrgSUkFc65cK8ormnmE3A2JE7/QrPlFZgQ8YBurtuQwTnfLPfk UcYJv3sMcgaSTZHg6hYGSTu/mAjHnIjWg/hdbBjTdRyKuj0WjE2OF/vEyt6RvW8DBVw6 eTtnqGbrqCakG9DD6d9r5xVzfovr+bEGDDfciUylJ+sYE30x9UdDxzMNWPEEd6EOujJX ov2cV8J4p0hRVHKeVPrCWztUnWg4r01d0XJrhA3YfeNkYLKP7aWCt0ZRB/XpV3Lj1FvS 8DxA== X-Gm-Message-State: AOJu0YyWzYLZsemcRbl8ipj5dJ0Nvpn+vl9m0ZYFhZL/enG9i3045RyM JBALb41u/z1XL+ybo6NyUVQMk/gLCCo39VwU7BYNUJxGJIeL2Gd9lPPh27v1S4A2MJjBb5zxp3y d/wfxjB1Wg4DfZyLgot1UczlPdjtLU09SKopbuC8dmiHD X-Gm-Gg: ASbGncvObuJMr0+LTdjht+jAM9NoguieRmdAd6909zFmX6MlNY1MWXr1PoDc6OGqX6R rdYLDk7HDsYmpW2WYu/tJ4RI3DAvIMKMzUdjDUbcMtLpQV+lUa1s+ZzkzGTBNm4t+WNE64FFIjr uksnkP/5elfUOdzbcj3GWmg5w/C3g7wS7ELVVwcfDa4MzUi7fli+bCzdgXlLhohhzxCmtBuIYk/ Z0uRWiMkUp/pLYJ1NiTSXiCLbpT1z7W/HJyVk02O0NXhcMdvPbseODAIksdQh9XThfa4zIoxUxS rYJeFa9gkDe1OumuXziExdGMrM+50NrmhhgUzbZbwwqfsKymy947hau2sWsnZSrwbNVs8jNcMXO G2/lK3wotLHHBC0yTDdOGfudyP8tv7y8= X-Google-Smtp-Source: AGHT+IFydzW+zM2cophcCeHNl9kXvjQ8vUxJK32tZ9DnxvPTFVYCNQgStqxPsdeyS6YFUJPeUwexZVNdMsoN X-Received: by 2002:a17:902:8d88:b0:297:e231:f40c with SMTP id d9443c01a7336-2984ed4950amr45579315ad.19.1763004537386; Wed, 12 Nov 2025 19:28:57 -0800 (PST) Received: from postal.iol.unh.edu (postal.iol.unh.edu. [132.177.123.84]) by smtp-relay.gmail.com with ESMTPS id d9443c01a7336-2985c2b7b81sm877215ad.50.2025.11.12.19.28.57 (version=TLS1_2 cipher=ECDHE-ECDSA-AES128-GCM-SHA256 bits=128/128); Wed, 12 Nov 2025 19:28:57 -0800 (PST) X-Relaying-Domain: iol.unh.edu Date: Wed, 12 Nov 2025 19:28:57 -0800 (PST) Message-ID: <69155079.170a0220.2073c2.5a0aSMTPIN_ADDED_MISSING@mx.google.com> Received: from [172.21.0.2] (unknown [172.18.0.240]) by postal.iol.unh.edu (Postfix) with ESMTP id 98A0B6051830; Wed, 12 Nov 2025 22:28:56 -0500 (EST) Subject: |SUCCESS| pw158645 [PATCH] [v3] lib/ring: do not allow zero size rin From: dpdklab@iol.unh.edu To: Test Report Cc: dpdk-test-reports@iol.unh.edu In-Reply-To: <20251111062253.578121-1-iboukris@gmail.com> References: <20251111062253.578121-1-iboukris@gmail.com> Content-Type: text/plain X-BeenThere: test-report@dpdk.org X-Mailman-Version: 2.1.29 Precedence: list List-Id: automatic DPDK test reports List-Unsubscribe: , List-Archive: List-Post: List-Help: List-Subscribe: , Errors-To: test-report-bounces@dpdk.org Test-Label: iol-unit-amd64-testing Test-Status: SUCCESS http://dpdk.org/patch/158645 _Testing PASS_ Submitter: Isaac Boukris Date: Tuesday, November 11 2025 06:22:52 DPDK git baseline: Repo:dpdk Branch: master CommitID:8ae4f1d511226fd65a979e9f8a1e51835281a59b 158645 --> testing pass Upstream job id: Generic-VM-Unit-Test-DPDK#32451 Test environment and result as below: +-------------------------------+----------------+ | Environment | dpdk_unit_test | +===============================+================+ | Fedora Linux 42 | PASS | +-------------------------------+----------------+ | Debian GNU/Linux 12 | PASS | +-------------------------------+----------------+ | CentOS Stream 10 | PASS | +-------------------------------+----------------+ | CentOS Stream 9 | PASS | +-------------------------------+----------------+ | Fedora Linux 41 | PASS | +-------------------------------+----------------+ | Fedora Linux 40 | PASS | +-------------------------------+----------------+ | Red Hat Enterprise Linux 8.10 | PASS | +-------------------------------+----------------+ | Red Hat Enterprise Linux 9.5 | PASS | +-------------------------------+----------------+ | Ubuntu 20.04 | PASS | +-------------------------------+----------------+ | Ubuntu 22.04 | PASS | +-------------------------------+----------------+ | Ubuntu 24.04 | PASS | +-------------------------------+----------------+ | Windows Server 2022 | PASS | +-------------------------------+----------------+ Fedora Linux 42 Kernel: 5.15 Compiler: gcc gcc (GCC) 15.2.1 20250808 (Red Hat 15.2.1-1) Debian GNU/Linux 12 Kernel: 5.15 Compiler: gcc gcc (Debian 12.2.0-14+deb12u1) 12.2.0 CentOS Stream 10 Kernel: 5.15 Compiler: gcc gcc (GCC) 14.2.1 20250110 (Red Hat 14.2.1-8) CentOS Stream 9 Kernel: 5.15 Compiler: gcc gcc (GCC) 11.5.0 20240719 (Red Hat 11.5.0-11) Fedora Linux 41 Kernel: 5.15 Compiler: gcc gcc (GCC) 14.3.1 20250523 (Red Hat 14.3.1-1) Fedora Linux 40 Kernel: 5.15 Compiler: clang gcc (GCC) 14.2.1 20240912 (Red Hat 14.2.1-3) Red Hat Enterprise Linux 8.10 Kernel: 5.15 Compiler: gcc gcc (GCC) 8.5.0 20210514 (Red Hat 8.5.0-22) Red Hat Enterprise Linux 9.5 Kernel: 5.15 Compiler: gcc gcc (GCC) 11.5.0 20240719 (Red Hat 11.5.0-2) Ubuntu 20.04 Kernel: 5.15 Compiler: gcc gcc (Ubuntu 9.4.0-1ubuntu1~20.04.2) 9.4.0 Ubuntu 22.04 Kernel: 5.15 Compiler: gcc gcc (Ubuntu 11.4.0-1ubuntu1~22.04) 11.4.0 Ubuntu 24.04 Kernel: 5.15 Compiler: gcc gcc (Ubuntu 13.3.0-6ubuntu2~24.04) 13.3.0 Windows Server 2022 Kernel: 10.0.20348.2031 Compiler: clang 15.0.7, gcc 14.1.0 (MinGW), and MSVC VS 19.39.33521 To view detailed results, visit: https://lab.dpdk.org/results/dashboard/patchsets/34529/ UNH-IOL DPDK Community Lab To manage your email subscriptions, visit: https://lab.dpdk.org/results/dashboard/preferences/subscriptions/