From mboxrd@z Thu Jan 1 00:00:00 1970 Return-Path: Received: from mails.dpdk.org (mails.dpdk.org [217.70.189.124]) by inbox.dpdk.org (Postfix) with ESMTP id 984A048AF2 for ; Thu, 13 Nov 2025 04:40:04 +0100 (CET) Received: from mails.dpdk.org (localhost [127.0.0.1]) by mails.dpdk.org (Postfix) with ESMTP id 77B7D40151; Thu, 13 Nov 2025 04:40:04 +0100 (CET) Received: from mail-yx1-f99.google.com (mail-yx1-f99.google.com [74.125.224.99]) by mails.dpdk.org (Postfix) with ESMTP id 27A0A40151 for ; Thu, 13 Nov 2025 04:40:03 +0100 (CET) Received: by mail-yx1-f99.google.com with SMTP id 956f58d0204a3-63fc6d9fde5so310109d50.3 for ; Wed, 12 Nov 2025 19:40:03 -0800 (PST) DKIM-Signature: v=1; a=rsa-sha256; c=relaxed/relaxed; d=iol.unh.edu; s=unh-iol; t=1763005202; x=1763610002; darn=dpdk.org; h=references:in-reply-to:cc:to:from:subject:message-id:date:from:to :cc:subject:date:message-id:reply-to; bh=S9k9UvOA9uwps0csR904vbrQLThWchwwqf5bHxQvafE=; b=NdRPpMtzcbrNP3SNoXzLpaMWXGB0ZarnMW/XjmEqAtrk6UnE9T4wB/k5tRoknGUzVL q/mZUSyl4HAqn7IYuh7f4TEausmthdb9/XZG2VWecE3hNJ18eS9TvYtCnh5jNDFMQnnY PIpiD/h6beoasVmcZN5jxad3Bsim55nrTEsH8= X-Google-DKIM-Signature: v=1; a=rsa-sha256; c=relaxed/relaxed; d=1e100.net; s=20230601; t=1763005202; x=1763610002; h=references:in-reply-to:cc:to:from:subject:message-id:date:x-gm-gg :x-gm-message-state:from:to:cc:subject:date:message-id:reply-to; bh=S9k9UvOA9uwps0csR904vbrQLThWchwwqf5bHxQvafE=; b=QViYk8mg8YmTDZ25fsbaY+gsQAsNxeXbYp9iqSuOLRKFEA5YKrRWkiqvGc83NZiMRM 731Ko6cneS5KO4AE92ZbDbxayvnBvY8pMUy6f1751V3FewdOBMOIqUPYMglIh3YxOTb3 YBw372HOBRsncPd0rtedxmGytQp51A3SHWEDlTgZQHm2+FtpUTyxjooryToGP/Uv3OvY NPuA4ieQBNrVeD/17V18J+rxBtXGqOBh/G7W5pN6q/BkJVl8syjNG5bRyH2lMK4GwED2 WbFXggvWY2KEo8LPxKx/LQZsNHSiTBKD6xt+r44PeXvUGtPV77qtlcWR7+4ANUyk9ub7 1H4A== X-Gm-Message-State: AOJu0YzUKWQxJwKX1IhE2Y1VfEtTV6NCOGSKz4eBzzaglf+wQRigFv8I MrGmawIWGiCK14jNKpu3uULuJUHT2Xpb9707H9SxLRzqlHqmw/L1Uo4Y12oaIVVmvaqm2ycBvkK DN2gI8bEVUVRbmJLPZC4XCbNEn9Ztpv3InMzwKsP6TUh8 X-Gm-Gg: ASbGncvIOC14fns377+dEeuxlewqjb4dTN0/nyTrZRW+hDv1ydJQAQguKkafqswG1oS ypvKpxxZzgHfb+4EiZ86GS1vxOE6k33HEJ8hZC9n3Lpo/nhzLSqb7hmCl66tVVvz6uAjgMFS+6K xLc/Z40uYewFyfS5E8ZzYLkox0lUv8sv1NRaLqEzs2sUev4ntE/uFUBvidEte+EjoahDaIYszDz dVjSICNchUOxHJbr08UeonVJMvOA9xBTv+e5suGB4orc4GOsrT1dva61skaKgvzmEzBDXJfF2X+ FQRrqX+kGej4eLeZLVrRQzqqzAvVEl4Ugf+SJrNmXLOVZimJZ9KbgHdP+SUnPo9eK13Z0k4vms5 a9ZqI7lBaWg4cjXOUPbT51yfSxRr1CRg= X-Google-Smtp-Source: AGHT+IHChxetZ1ABRiUyw7pYNqA0iqDVRw3eWMWfrGmwxcRZPDQDeWA4T3+w7fOT2wAXd82m7ncOtlw4Ui7u X-Received: by 2002:a05:690e:23c3:b0:63e:210d:380c with SMTP id 956f58d0204a3-64101b3b981mr3760251d50.57.1763005202363; Wed, 12 Nov 2025 19:40:02 -0800 (PST) Received: from postal.iol.unh.edu (postal.iol.unh.edu. [132.177.123.84]) by smtp-relay.gmail.com with ESMTPS id 956f58d0204a3-6410eae9644sm61744d50.13.2025.11.12.19.40.02 (version=TLS1_2 cipher=ECDHE-ECDSA-AES128-GCM-SHA256 bits=128/128); Wed, 12 Nov 2025 19:40:02 -0800 (PST) X-Relaying-Domain: iol.unh.edu Date: Wed, 12 Nov 2025 19:40:02 -0800 (PST) Message-ID: <69155312.050a0220.ded01.354bSMTPIN_ADDED_MISSING@mx.google.com> Received: from [172.21.0.2] (unknown [172.18.0.240]) by postal.iol.unh.edu (Postfix) with ESMTP id 085B86051830; Wed, 12 Nov 2025 22:40:02 -0500 (EST) Subject: |SUCCESS| pw158645 [PATCH] [v3] lib/ring: do not allow zero size rin From: dpdklab@iol.unh.edu To: Test Report Cc: dpdk-test-reports@iol.unh.edu In-Reply-To: <20251111062253.578121-1-iboukris@gmail.com> References: <20251111062253.578121-1-iboukris@gmail.com> Content-Type: text/plain X-BeenThere: test-report@dpdk.org X-Mailman-Version: 2.1.29 Precedence: list List-Id: automatic DPDK test reports List-Unsubscribe: , List-Archive: List-Post: List-Help: List-Subscribe: , Errors-To: test-report-bounces@dpdk.org Test-Label: iol-unit-amd64-testing Test-Status: SUCCESS http://dpdk.org/patch/158645 _Testing PASS_ Submitter: Isaac Boukris Date: Tuesday, November 11 2025 06:22:52 DPDK git baseline: Repo:dpdk Branch: master CommitID:8ae4f1d511226fd65a979e9f8a1e51835281a59b 158645 --> testing pass Upstream job id: Generic-VM-Unit-Test-DPDK#32452 Test environment and result as below: +-------------------------------+----------------+ | Environment | dpdk_unit_test | +===============================+================+ | Fedora Linux 42 | PASS | +-------------------------------+----------------+ | Debian GNU/Linux 12 | PASS | +-------------------------------+----------------+ | CentOS Stream 10 | PASS | +-------------------------------+----------------+ | CentOS Stream 9 | PASS | +-------------------------------+----------------+ | Fedora Linux 41 | PASS | +-------------------------------+----------------+ | Fedora Linux 40 | PASS | +-------------------------------+----------------+ | Red Hat Enterprise Linux 8.10 | PASS | +-------------------------------+----------------+ | Red Hat Enterprise Linux 9.5 | PASS | +-------------------------------+----------------+ | Ubuntu 20.04 | PASS | +-------------------------------+----------------+ | Ubuntu 22.04 | PASS | +-------------------------------+----------------+ | Ubuntu 24.04 | PASS | +-------------------------------+----------------+ | Windows Server 2022 | PASS | +-------------------------------+----------------+ Fedora Linux 42 Kernel: 5.15 Compiler: gcc gcc (GCC) 15.2.1 20250808 (Red Hat 15.2.1-1) Debian GNU/Linux 12 Kernel: 5.15 Compiler: gcc gcc (Debian 12.2.0-14+deb12u1) 12.2.0 CentOS Stream 10 Kernel: 5.15 Compiler: gcc gcc (GCC) 14.2.1 20250110 (Red Hat 14.2.1-8) CentOS Stream 9 Kernel: 5.15 Compiler: gcc gcc (GCC) 11.5.0 20240719 (Red Hat 11.5.0-11) Fedora Linux 41 Kernel: 5.15 Compiler: gcc gcc (GCC) 14.3.1 20250523 (Red Hat 14.3.1-1) Fedora Linux 40 Kernel: 5.15 Compiler: clang gcc (GCC) 14.2.1 20240912 (Red Hat 14.2.1-3) Red Hat Enterprise Linux 8.10 Kernel: 5.15 Compiler: gcc gcc (GCC) 8.5.0 20210514 (Red Hat 8.5.0-22) Red Hat Enterprise Linux 9.5 Kernel: 5.15 Compiler: gcc gcc (GCC) 11.5.0 20240719 (Red Hat 11.5.0-2) Ubuntu 20.04 Kernel: 5.15 Compiler: gcc gcc (Ubuntu 9.4.0-1ubuntu1~20.04.2) 9.4.0 Ubuntu 22.04 Kernel: 5.15 Compiler: gcc gcc (Ubuntu 11.4.0-1ubuntu1~22.04) 11.4.0 Ubuntu 24.04 Kernel: 5.15 Compiler: gcc gcc (Ubuntu 13.3.0-6ubuntu2~24.04) 13.3.0 Windows Server 2022 Kernel: 10.0.20348.2031 Compiler: clang 15.0.7, gcc 14.1.0 (MinGW), and MSVC VS 19.39.33521 To view detailed results, visit: https://lab.dpdk.org/results/dashboard/patchsets/34529/ UNH-IOL DPDK Community Lab To manage your email subscriptions, visit: https://lab.dpdk.org/results/dashboard/preferences/subscriptions/