From mboxrd@z Thu Jan 1 00:00:00 1970 Return-Path: Received: from mails.dpdk.org (mails.dpdk.org [217.70.189.124]) by inbox.dpdk.org (Postfix) with ESMTP id 455EF48AF2 for ; Thu, 13 Nov 2025 04:56:15 +0100 (CET) Received: from mails.dpdk.org (localhost [127.0.0.1]) by mails.dpdk.org (Postfix) with ESMTP id 0BE0D40151; Thu, 13 Nov 2025 04:56:15 +0100 (CET) Received: from mail-vk1-f227.google.com (mail-vk1-f227.google.com [209.85.221.227]) by mails.dpdk.org (Postfix) with ESMTP id 0555040151 for ; Thu, 13 Nov 2025 04:56:12 +0100 (CET) Received: by mail-vk1-f227.google.com with SMTP id 71dfb90a1353d-559966a86caso97173e0c.2 for ; Wed, 12 Nov 2025 19:56:12 -0800 (PST) DKIM-Signature: v=1; a=rsa-sha256; c=relaxed/relaxed; d=iol.unh.edu; s=unh-iol; t=1763006172; x=1763610972; darn=dpdk.org; h=references:in-reply-to:cc:to:from:subject:message-id:date:from:to :cc:subject:date:message-id:reply-to; bh=jWCM/DhD6Q5TK6KoQDPLjLYgXJXNb1xz9lw+7G4CXzA=; b=SsgeI94fubHO3D+AcDMO+6VwFcrL980k9elK8GIdp9BNo/2inml96HyUmpWGNYf27x INYOtysVxkegaHTVvKjctV6aLa/0crSt0PN43lfubQRVNoIhpR7vxZDlSIr3WAaqIP0C WLJXw6YJv+XOe81UE3+gIQk9ELCXcln8GWoDo= X-Google-DKIM-Signature: v=1; a=rsa-sha256; c=relaxed/relaxed; d=1e100.net; s=20230601; t=1763006172; x=1763610972; h=references:in-reply-to:cc:to:from:subject:message-id:date:x-gm-gg :x-gm-message-state:from:to:cc:subject:date:message-id:reply-to; bh=jWCM/DhD6Q5TK6KoQDPLjLYgXJXNb1xz9lw+7G4CXzA=; b=lsT3K+ouORu/iV7Y1pjuzLXiGsXd+S1vQy+UlghbPnaXmEC9TWBHQp+MS/gSMLHvEh ZgYBVEyq/xTl8rbOMhBhRyCmMvh7e91gGdRnhcfkHdcHZJ9C8RUbPNe9SSJHK1xiIbjm jWeGqrO82swlHJlrd1WJkWnuBcGeQZ8TPiDJurKBnK1qOOq8oXSJ2SL4M6VoyDKjtGaM +K0rWCwS8YZo9cPcmi/Yc0K2QfZJiTbEetT8VhjFMy/MXPUcb0LrtHS9VijzOhYkuS+y ESUCvtdMc7uXltoe3DMgbomDSc4RoXmupu69qCp9RD8ofs2ZIxuQqXwOwU8dogW25sqM gluQ== X-Gm-Message-State: AOJu0Yxno0WrEnrVJv/er73VohMlTe1Kkbvu1aQJahElJf5Czrn78JOe E2jGF4kOs6h/RzUKX5p+JTuIkpLmC77ybM9EQWKdBqlH9v2sz1zVng36XSAH8y6NfGzNxer8FFH /DaOK0bfI5RfY+IQq8Q7x5ocZnd33rECEYcN0NJ8Le+It X-Gm-Gg: ASbGncshZSuUcyu3YmnI13WIUj7vUV2K5bJoIdNX72jrouN8D8jmL3ezU79EtFQcsL3 vyFJ/fi36EgfD5kTgBRaI1ECiQWt2FhRIaqz3tcHrw3cPctne3wtw74X6MMRh44jQkQ7fkzxmNG ARte5W69QGDJEpIM4D6Ii8vHi20ujBemsgh5NZAndVd78qPwJHWbp+et2o9o4kLaB+4UtMDXKuv w3Z8ovzMe2EXCd0lxONv/R8bwwOyM8FcbF83cEK4aM9KDyVqRhlmG4YfKlj5+7+1YZOzzXtUkRI 3DWxI1Xf3M/jC8cCXS9WJeB+DR6/+J16L9kYoX/Yb3dynEznXuiag42m2mx+Tzq3H0X+KZ7BS+r c/hwbYlwoIt4vq7Sr09xpccmvbj1LB+o= X-Google-Smtp-Source: AGHT+IFkWHl7mkqp8mw7sUW+9i3b7aHE5SUA+vflyk/oWHPTmC2IyHMzCQckhzmcKfB97daaC4YGMY6+Dm1s X-Received: by 2002:a05:6122:459d:b0:55b:aab:95e8 with SMTP id 71dfb90a1353d-55b0aab9979mr1180921e0c.9.1763006172092; Wed, 12 Nov 2025 19:56:12 -0800 (PST) Received: from postal.iol.unh.edu (postal.iol.unh.edu. [132.177.123.84]) by smtp-relay.gmail.com with ESMTPS id 71dfb90a1353d-55b0f45b27dsm95255e0c.6.2025.11.12.19.56.12 (version=TLS1_2 cipher=ECDHE-ECDSA-AES128-GCM-SHA256 bits=128/128); Wed, 12 Nov 2025 19:56:12 -0800 (PST) X-Relaying-Domain: iol.unh.edu Date: Wed, 12 Nov 2025 19:56:12 -0800 (PST) Message-ID: <691556dc.050a0220.2865dc.5c4bSMTPIN_ADDED_MISSING@mx.google.com> Received: from [172.21.0.2] (unknown [172.18.0.240]) by postal.iol.unh.edu (Postfix) with ESMTP id B76326051830; Wed, 12 Nov 2025 22:56:11 -0500 (EST) Subject: |SUCCESS| pw158648-158652 [PATCH] [v4,5/5] vhost_user: Increase numb From: dpdklab@iol.unh.edu To: Test Report Cc: dpdk-test-reports@iol.unh.edu, Chenbo Xia , Maxime Coquelin In-Reply-To: <20251111111235.2902146-6-pravin.bathija@dell.com> References: <20251111111235.2902146-6-pravin.bathija@dell.com> Content-Type: text/plain X-BeenThere: test-report@dpdk.org X-Mailman-Version: 2.1.29 Precedence: list List-Id: automatic DPDK test reports List-Unsubscribe: , List-Archive: List-Post: List-Help: List-Subscribe: , Errors-To: test-report-bounces@dpdk.org Test-Label: iol-unit-amd64-testing Test-Status: SUCCESS http://dpdk.org/patch/158652 _Testing PASS_ Submitter: Bathija, Pravin Date: Tuesday, November 11 2025 11:12:35 DPDK git baseline: Repo:dpdk-next-virtio Branch: master CommitID:6b37c26a95388aa41bb5267c7c42f604fd571a38 158648-158652 --> testing pass Upstream job id: Generic-VM-Unit-Test-DPDK#32453 Test environment and result as below: +-------------------------------+----------------+ | Environment | dpdk_unit_test | +===============================+================+ | CentOS Stream 10 | PASS | +-------------------------------+----------------+ | Debian GNU/Linux 12 | PASS | +-------------------------------+----------------+ | Fedora Linux 40 | PASS | +-------------------------------+----------------+ | CentOS Stream 9 | PASS | +-------------------------------+----------------+ | Fedora Linux 41 | PASS | +-------------------------------+----------------+ | Red Hat Enterprise Linux 9.5 | PASS | +-------------------------------+----------------+ | Ubuntu 22.04 | PASS | +-------------------------------+----------------+ | Fedora Linux 42 | PASS | +-------------------------------+----------------+ | Red Hat Enterprise Linux 8.10 | PASS | +-------------------------------+----------------+ | Ubuntu 24.04 | PASS | +-------------------------------+----------------+ | Ubuntu 20.04 | PASS | +-------------------------------+----------------+ | Windows Server 2022 | PASS | +-------------------------------+----------------+ CentOS Stream 10 Kernel: 5.15 Compiler: gcc gcc (GCC) 14.2.1 20250110 (Red Hat 14.2.1-8) Debian GNU/Linux 12 Kernel: 5.15 Compiler: gcc gcc (Debian 12.2.0-14+deb12u1) 12.2.0 Fedora Linux 40 Kernel: 5.15 Compiler: gcc gcc (GCC) 14.2.1 20240912 (Red Hat 14.2.1-3) CentOS Stream 9 Kernel: 5.15 Compiler: gcc gcc (GCC) 11.5.0 20240719 (Red Hat 11.5.0-11) Fedora Linux 41 Kernel: 5.15 Compiler: gcc gcc (GCC) 14.3.1 20250523 (Red Hat 14.3.1-1) Red Hat Enterprise Linux 9.5 Kernel: 5.15 Compiler: gcc gcc (GCC) 11.5.0 20240719 (Red Hat 11.5.0-2) Ubuntu 22.04 Kernel: 5.15 Compiler: gcc gcc (Ubuntu 11.4.0-1ubuntu1~22.04) 11.4.0 Fedora Linux 42 Kernel: 5.15 Compiler: gcc gcc (GCC) 15.2.1 20250808 (Red Hat 15.2.1-1) Red Hat Enterprise Linux 8.10 Kernel: 5.15 Compiler: gcc gcc (GCC) 8.5.0 20210514 (Red Hat 8.5.0-22) Ubuntu 24.04 Kernel: 5.15 Compiler: gcc gcc (Ubuntu 13.3.0-6ubuntu2~24.04) 13.3.0 Ubuntu 20.04 Kernel: 5.15 Compiler: gcc gcc (Ubuntu 9.4.0-1ubuntu1~20.04.2) 9.4.0 Windows Server 2022 Kernel: 10.0.20348.2031 Compiler: clang 15.0.7, gcc 14.1.0 (MinGW), and MSVC VS 19.39.33521 To view detailed results, visit: https://lab.dpdk.org/results/dashboard/patchsets/34530/ UNH-IOL DPDK Community Lab To manage your email subscriptions, visit: https://lab.dpdk.org/results/dashboard/preferences/subscriptions/