From mboxrd@z Thu Jan 1 00:00:00 1970 Return-Path: Received: from mails.dpdk.org (mails.dpdk.org [217.70.189.124]) by inbox.dpdk.org (Postfix) with ESMTP id 0B0B048AF2 for ; Thu, 13 Nov 2025 05:07:20 +0100 (CET) Received: from mails.dpdk.org (localhost [127.0.0.1]) by mails.dpdk.org (Postfix) with ESMTP id E7F8940151; Thu, 13 Nov 2025 05:07:19 +0100 (CET) Received: from mail-qt1-f228.google.com (mail-qt1-f228.google.com [209.85.160.228]) by mails.dpdk.org (Postfix) with ESMTP id 32AED40151 for ; Thu, 13 Nov 2025 05:07:18 +0100 (CET) Received: by mail-qt1-f228.google.com with SMTP id d75a77b69052e-4edade7d5baso17151961cf.0 for ; Wed, 12 Nov 2025 20:07:18 -0800 (PST) DKIM-Signature: v=1; a=rsa-sha256; c=relaxed/relaxed; d=iol.unh.edu; s=unh-iol; t=1763006837; x=1763611637; darn=dpdk.org; h=references:in-reply-to:cc:to:from:subject:message-id:date:from:to :cc:subject:date:message-id:reply-to; bh=1yqrxsIMp83XZ7KSVbM467USQ7x0feEUNKkMEDvZC5w=; b=J6XZwx57mGX9792jFSJuc7amFC2yC9s3EVwxY59hfCfBeHq/DQ09rHiqc4uCTHXK1f c0XXFJikSjHeMC5FnnCJ7wF0mkkBm3YGmlq5cDQfS1MJq9sBrDwtX+MWpfeDo4uajtii /Wcw+OhRr3XKNH2tD6uuzUrSj8yFbzZQnVVoM= X-Google-DKIM-Signature: v=1; a=rsa-sha256; c=relaxed/relaxed; d=1e100.net; s=20230601; t=1763006837; x=1763611637; h=references:in-reply-to:cc:to:from:subject:message-id:date:x-gm-gg :x-gm-message-state:from:to:cc:subject:date:message-id:reply-to; bh=1yqrxsIMp83XZ7KSVbM467USQ7x0feEUNKkMEDvZC5w=; b=v1ESSFGiRyFncW6Nwu0VJuTmWYETu3GnmGZep9xM+WOtg0nl3AQq+0bJVlXJLtuvpQ ujVU6iJAc6cYYM6OcxuTJFxCW5hBTAm6HZQs6aBBUKwKGZMLKMRKZKN+bfFEQgo+XFTr MTZVgmLcdexRL2E90mw0eyNnqUsapkF7U0pBeLPpw6vMmrk5LISIQlv8OwGpOF6tWGHz agFNKAKyU7vpkGfVACLpBESWTF1SMMC28fa+D5DFYJXXotf4LAqAdYsW2ZYqa49ysZeW FWYG9VP90rbvQ5a35Zd+DzIh1DBpJ6wwjq+AGOYSjXvBnf4nOEAisnU113p4vyfeR8mE VTPg== X-Gm-Message-State: AOJu0Yy8QNjfPM/9NwkZut7cjmUH6zTgVB7b0lNa8SaXYpWNMDTas6qJ pfcEEuMDF/ArQGOY99ZdFl7vV96qnlooQazypz/UbN9+tWgY1h5xuBM7tmdD8tHIDgfeDElZp7v f7xnwFRgNb/LTl+Agp1ZBTEmWD69XEQjSIEeRKu4wmq3lfcHzLALxQt1GkSWR X-Gm-Gg: ASbGncuTeZogzvr41uECMuCzouLjPmJ4bM7xLijmiOF/d1XZXF8RVQO3mgKlDdMZYYe 9e9VR1JY3ZHL4ae6wVHMnjRA18J5KKxpx1B6chbkjx498cmJxQ7sqc7cUNGrTb/jKVGue7TkS+y 1JPwT+zuSKmrFJVuSRZ3fabWlL/mxPC5zYf+/5N1ntaQ5dd6APB4Q9uEuxiErGn/wN7Q+NNWoP4 YJ0HVnL9wXDbs/JacTAFuvBhDgRryekmKkmalfSZMlcyQunJ/oo7mTcqV+OyYW9hSAC3o88NFPt JAPIahdmIxqenSGqm1R+QwS3rtEabDYiwf4+QJvuVnIAGyy9AdQjrmwfivoaJALw+FCpyof7gAS 2FijaRipq X-Google-Smtp-Source: AGHT+IGc0c0fC3xWP2FsifjLKHFwG86W4oP44RJI3CCfEvS9LZa5NP8YoFLu4koRdmVnnQO7VTCj2bu9ctl6 X-Received: by 2002:a05:622a:130e:b0:4e0:e2a:a78d with SMTP id d75a77b69052e-4ede706f956mr22395431cf.32.1763006837469; Wed, 12 Nov 2025 20:07:17 -0800 (PST) Received: from postal.iol.unh.edu (postal.iol.unh.edu. [2606:4100:3880:1234::84]) by smtp-relay.gmail.com with ESMTPS id d75a77b69052e-4ede86ebe40sm577811cf.4.2025.11.12.20.07.17 (version=TLS1_2 cipher=ECDHE-ECDSA-AES128-GCM-SHA256 bits=128/128); Wed, 12 Nov 2025 20:07:17 -0800 (PST) X-Relaying-Domain: iol.unh.edu Date: Wed, 12 Nov 2025 20:07:17 -0800 (PST) Message-ID: <69155975.050a0220.59190.31a5SMTPIN_ADDED_MISSING@mx.google.com> Received: from [172.21.0.2] (unknown [172.18.0.240]) by postal.iol.unh.edu (Postfix) with ESMTP id E24916051830; Wed, 12 Nov 2025 23:07:16 -0500 (EST) Subject: |SUCCESS| pw158648-158652 [PATCH] [v4,5/5] vhost_user: Increase numb From: dpdklab@iol.unh.edu To: Test Report Cc: dpdk-test-reports@iol.unh.edu, Chenbo Xia , Maxime Coquelin In-Reply-To: <20251111111235.2902146-6-pravin.bathija@dell.com> References: <20251111111235.2902146-6-pravin.bathija@dell.com> Content-Type: text/plain X-BeenThere: test-report@dpdk.org X-Mailman-Version: 2.1.29 Precedence: list List-Id: automatic DPDK test reports List-Unsubscribe: , List-Archive: List-Post: List-Help: List-Subscribe: , Errors-To: test-report-bounces@dpdk.org Test-Label: iol-unit-amd64-testing Test-Status: SUCCESS http://dpdk.org/patch/158652 _Testing PASS_ Submitter: Bathija, Pravin Date: Tuesday, November 11 2025 11:12:35 DPDK git baseline: Repo:dpdk-next-virtio Branch: master CommitID:6b37c26a95388aa41bb5267c7c42f604fd571a38 158648-158652 --> testing pass Upstream job id: Generic-VM-Unit-Test-DPDK#32454 Test environment and result as below: +-------------------------------+----------------+ | Environment | dpdk_unit_test | +===============================+================+ | CentOS Stream 10 | PASS | +-------------------------------+----------------+ | Debian GNU/Linux 12 | PASS | +-------------------------------+----------------+ | Fedora Linux 40 | PASS | +-------------------------------+----------------+ | CentOS Stream 9 | PASS | +-------------------------------+----------------+ | Fedora Linux 41 | PASS | +-------------------------------+----------------+ | Red Hat Enterprise Linux 9.5 | PASS | +-------------------------------+----------------+ | Ubuntu 22.04 | PASS | +-------------------------------+----------------+ | Fedora Linux 42 | PASS | +-------------------------------+----------------+ | Red Hat Enterprise Linux 8.10 | PASS | +-------------------------------+----------------+ | Ubuntu 24.04 | PASS | +-------------------------------+----------------+ | Ubuntu 20.04 | PASS | +-------------------------------+----------------+ | Windows Server 2022 | PASS | +-------------------------------+----------------+ CentOS Stream 10 Kernel: 5.15 Compiler: gcc gcc (GCC) 14.2.1 20250110 (Red Hat 14.2.1-8) Debian GNU/Linux 12 Kernel: 5.15 Compiler: gcc gcc (Debian 12.2.0-14+deb12u1) 12.2.0 Fedora Linux 40 Kernel: 5.15 Compiler: gcc gcc (GCC) 14.2.1 20240912 (Red Hat 14.2.1-3) CentOS Stream 9 Kernel: 5.15 Compiler: gcc gcc (GCC) 11.5.0 20240719 (Red Hat 11.5.0-11) Fedora Linux 41 Kernel: 5.15 Compiler: gcc gcc (GCC) 14.3.1 20250523 (Red Hat 14.3.1-1) Red Hat Enterprise Linux 9.5 Kernel: 5.15 Compiler: gcc gcc (GCC) 11.5.0 20240719 (Red Hat 11.5.0-2) Ubuntu 22.04 Kernel: 5.15 Compiler: gcc gcc (Ubuntu 11.4.0-1ubuntu1~22.04) 11.4.0 Fedora Linux 42 Kernel: 5.15 Compiler: gcc gcc (GCC) 15.2.1 20250808 (Red Hat 15.2.1-1) Red Hat Enterprise Linux 8.10 Kernel: 5.15 Compiler: gcc gcc (GCC) 8.5.0 20210514 (Red Hat 8.5.0-22) Ubuntu 24.04 Kernel: 5.15 Compiler: gcc gcc (Ubuntu 13.3.0-6ubuntu2~24.04) 13.3.0 Ubuntu 20.04 Kernel: 5.15 Compiler: gcc gcc (Ubuntu 9.4.0-1ubuntu1~20.04.2) 9.4.0 Windows Server 2022 Kernel: 10.0.20348.2031 Compiler: clang 15.0.7, gcc 14.1.0 (MinGW), and MSVC VS 19.39.33521 To view detailed results, visit: https://lab.dpdk.org/results/dashboard/patchsets/34530/ UNH-IOL DPDK Community Lab To manage your email subscriptions, visit: https://lab.dpdk.org/results/dashboard/preferences/subscriptions/