From mboxrd@z Thu Jan 1 00:00:00 1970 Return-Path: Received: from mails.dpdk.org (mails.dpdk.org [217.70.189.124]) by inbox.dpdk.org (Postfix) with ESMTP id C861748AF2 for ; Thu, 13 Nov 2025 05:15:49 +0100 (CET) Received: from mails.dpdk.org (localhost [127.0.0.1]) by mails.dpdk.org (Postfix) with ESMTP id A309240151; Thu, 13 Nov 2025 05:15:49 +0100 (CET) Received: from mail-pl1-f228.google.com (mail-pl1-f228.google.com [209.85.214.228]) by mails.dpdk.org (Postfix) with ESMTP id 5391440151 for ; Thu, 13 Nov 2025 05:15:49 +0100 (CET) Received: by mail-pl1-f228.google.com with SMTP id d9443c01a7336-295548467c7so3846575ad.2 for ; Wed, 12 Nov 2025 20:15:49 -0800 (PST) DKIM-Signature: v=1; a=rsa-sha256; c=relaxed/relaxed; d=iol.unh.edu; s=unh-iol; t=1763007348; x=1763612148; darn=dpdk.org; h=references:in-reply-to:cc:to:from:subject:message-id:date:from:to :cc:subject:date:message-id:reply-to; bh=V8F2BP3nxucoLDZrIkC7rqZz64nPR7UVw0dDkZo1bks=; b=HdPtjDJNekW1IyH5qq07FMs58cQTHp0TUOoBDlJcF2zh5helIBVdSJ58mN+bdk7HRH FkFSjksJi1YgBgsM/xXWmu6pMaohAX+CObccH8sDfJQX8o8AvImQIj9eyHn0phADvxtN Q6OSqpvrL5i6BWnPeHCu3c1I6YINDDS1M7TL0= X-Google-DKIM-Signature: v=1; a=rsa-sha256; c=relaxed/relaxed; d=1e100.net; s=20230601; t=1763007348; x=1763612148; h=references:in-reply-to:cc:to:from:subject:message-id:date:x-gm-gg :x-gm-message-state:from:to:cc:subject:date:message-id:reply-to; bh=V8F2BP3nxucoLDZrIkC7rqZz64nPR7UVw0dDkZo1bks=; b=tZc5GdTaLrhadY/CyO7Jut6LoBpkI4QSrcwi+y0w3xrO/zE4vZ12WJol+Sdczg9/xN 8Pl72WMOahSTrdMZCxPct0SALs3c+XjxefAaIEiA8Jy8rk4Eakp5ANlOc/Mve/5CPh4Q RaSYyRLvJEV7G226LaE7dBJcWvTbgNiGWCRbHkqeEBVFSdHExJ7tQwOqzfGrkUD3JVoy Rj1g8vlnzPccHHV68ZdQMoOs5krRHBidjmSEokzsp7DkzKK6RwLH/ZrbHW7G71yFdsmi fzCS8wHa9jpy4G94DdCJLd6XWhwfaGkkR9rwF8DaFTgbGSqbn9xSyDbjIQ+My4pu8//i bFqg== X-Gm-Message-State: AOJu0Yzd0uBIBbq8FACN+iHjwcfo+x8xjWui8oLh9e7SEMzzqORHcZNm 7DqVEjMeBDxHy64Fu+Op/BMO8+EO3Hc0YHoG/mwhM9UA0xtys6FGWbkM/dawJbqsVlXaVV7rJ2d IuMBb2TQZuvbyIk3BkfpAxn9pg+DuVszU3yDZYJ2KK780V57yvFc784hRrQIL X-Gm-Gg: ASbGncseWKEAnp0YcBT2slUsvp8KIoPuYiUkyNYGwYTH7qFtcH1/8m3/c3ULwdW/cEa WCIXDR4tnNoyD+I9DKYYHskBYVxDPMTNHdOkaJ1sePuN7TuZ0oUUTa6ZeXziVmkRL8XDO//47uZ V3uIRQEPQAkDZEnfW294ug35xQJDEJNgA26rBFO4XEfeZcPgJXXApeF9lpds6Bnrm9BGRqJU+7G f2mCUWlYqBcZ00BTfgltIS6ca18Jr4NuNoQaIg3wLvn6DXIy7cc57gNFW/WCfE1dfqddnuc81IB MOzyOLubKK+vZWniw6gcg50JnJp+r/5Ph9sI4FUubcKsANMdRUJWW8WR+Il2HTATrrm7owRcIsZ m8xaMi5Yi X-Google-Smtp-Source: AGHT+IExdVQS9YZ7MZMLFlaIIBje5eEbawI16pVY1gl+KnfU3DgPPBtYwEn3XAmx5UUeCU7C/034X8cJZJB1 X-Received: by 2002:a17:903:3c25:b0:28d:18d3:46cb with SMTP id d9443c01a7336-2984ed359c9mr74903405ad.20.1763007348331; Wed, 12 Nov 2025 20:15:48 -0800 (PST) Received: from postal.iol.unh.edu (postal.iol.unh.edu. [2606:4100:3880:1234::84]) by smtp-relay.gmail.com with ESMTPS id d9443c01a7336-2985c242313sm941705ad.24.2025.11.12.20.15.48 (version=TLS1_2 cipher=ECDHE-ECDSA-AES128-GCM-SHA256 bits=128/128); Wed, 12 Nov 2025 20:15:48 -0800 (PST) X-Relaying-Domain: iol.unh.edu Date: Wed, 12 Nov 2025 20:15:48 -0800 (PST) Message-ID: <69155b74.170a0220.3c6b57.518bSMTPIN_ADDED_MISSING@mx.google.com> Received: from [172.21.0.2] (unknown [172.18.0.240]) by postal.iol.unh.edu (Postfix) with ESMTP id 6EFF26051830; Wed, 12 Nov 2025 23:15:47 -0500 (EST) Subject: |SUCCESS| pw158653 [PATCH] crypto/cnxk: add CPT CQ support for cn20k From: dpdklab@iol.unh.edu To: Test Report Cc: dpdk-test-reports@iol.unh.edu, Akhil Goyal In-Reply-To: <20251111111643.2279586-1-ktejasree@marvell.com> References: <20251111111643.2279586-1-ktejasree@marvell.com> Content-Type: text/plain X-BeenThere: test-report@dpdk.org X-Mailman-Version: 2.1.29 Precedence: list List-Id: automatic DPDK test reports List-Unsubscribe: , List-Archive: List-Post: List-Help: List-Subscribe: , Errors-To: test-report-bounces@dpdk.org Test-Label: iol-compile-amd64-testing Test-Status: SUCCESS http://dpdk.org/patch/158653 _Testing PASS_ Submitter: Tejasree Kondoj Date: Tuesday, November 11 2025 11:16:43 DPDK git baseline: Repo:dpdk-next-crypto Branch: master CommitID:8ae4f1d511226fd65a979e9f8a1e51835281a59b 158653 --> testing pass Upstream job id: Windows-Compile-DPDK-VS#7499 Test environment and result as below: +-------------------------------+--------------------+------------------+-------------------+ | Environment | dpdk_meson_compile | dpdk_compile_ovs | dpdk_msvc_compile | +===============================+====================+==================+===================+ | FreeBSD 14.2 | PASS | SKIPPED | SKIPPED | +-------------------------------+--------------------+------------------+-------------------+ | Ubuntu 20.04 | PASS | SKIPPED | SKIPPED | +-------------------------------+--------------------+------------------+-------------------+ | CentOS Stream 9 | PASS | SKIPPED | SKIPPED | +-------------------------------+--------------------+------------------+-------------------+ | Fedora Linux 42 | PASS | PASS | SKIPPED | +-------------------------------+--------------------+------------------+-------------------+ | Debian GNU/Linux 12 | PASS | SKIPPED | SKIPPED | +-------------------------------+--------------------+------------------+-------------------+ | openSUSE Leap 15.6 | PASS | SKIPPED | SKIPPED | +-------------------------------+--------------------+------------------+-------------------+ | Red Hat Enterprise Linux 8.10 | PASS | SKIPPED | SKIPPED | +-------------------------------+--------------------+------------------+-------------------+ | Red Hat Enterprise Linux 9.5 | PASS | SKIPPED | SKIPPED | +-------------------------------+--------------------+------------------+-------------------+ | CentOS Stream 10 | PASS | SKIPPED | SKIPPED | +-------------------------------+--------------------+------------------+-------------------+ | Ubuntu 22.04 | PASS | SKIPPED | SKIPPED | +-------------------------------+--------------------+------------------+-------------------+ | Ubuntu 24.04 | PASS | PASS | SKIPPED | +-------------------------------+--------------------+------------------+-------------------+ | Alpine Linux 3.22.0 | PASS | SKIPPED | SKIPPED | +-------------------------------+--------------------+------------------+-------------------+ | Windows Server 2022 | SKIPPED | SKIPPED | PASS | +-------------------------------+--------------------+------------------+-------------------+ FreeBSD 14.2 Kernel: 14.2-RELEASE Compiler: clang 18.1.6 Ubuntu 20.04 Kernel: 4.19 Compiler: gcc gcc (Ubuntu 9.4.0-1ubuntu1~20.04.2) 9.4.0 CentOS Stream 9 Kernel: 5.15 Compiler: gcc gcc (GCC) 11.5.0 20240719 (Red Hat 11.5.0-11) Fedora Linux 42 Kernel: 5.15 Compiler: gcc gcc (GCC) 15.2.1 20250808 (Red Hat 15.2.1-1) Debian GNU/Linux 12 Kernel: 5.15 Compiler: gcc gcc (Debian 12.2.0-14+deb12u1) 12.2.0 openSUSE Leap 15.6 Kernel: 5.15 Compiler: gcc gcc (SUSE Linux) 7.5.0 Red Hat Enterprise Linux 8.10 Kernel: 5.15 Compiler: gcc gcc (GCC) 8.5.0 20210514 (Red Hat 8.5.0-22) Red Hat Enterprise Linux 9.5 Kernel: 5.15 Compiler: gcc gcc (GCC) 11.5.0 20240719 (Red Hat 11.5.0-2) CentOS Stream 10 Kernel: 5.15 Compiler: gcc gcc (GCC) 14.2.1 20250110 (Red Hat 14.2.1-8) Ubuntu 22.04 Kernel: 5.15 Compiler: gcc gcc (Ubuntu 11.4.0-1ubuntu1~22.04) 11.4.0 Ubuntu 24.04 Kernel: 5.15 Compiler: gcc gcc (Ubuntu 13.3.0-6ubuntu2~24.04) 13.3.0 Alpine Linux 3.22.0 Kernel: 5.15 Compiler: gcc gcc (Alpine 14.2.0) 14.2.0 Windows Server 2022 Kernel: 10.0.20348.2031 Compiler: clang 15.0.7, gcc 14.1.0 (MinGW), and MSVC VS 19.39.33521 To view detailed results, visit: https://lab.dpdk.org/results/dashboard/patchsets/34532/ UNH-IOL DPDK Community Lab To manage your email subscriptions, visit: https://lab.dpdk.org/results/dashboard/preferences/subscriptions/