From mboxrd@z Thu Jan 1 00:00:00 1970 Return-Path: Received: from mails.dpdk.org (mails.dpdk.org [217.70.189.124]) by inbox.dpdk.org (Postfix) with ESMTP id 62C7F48AF2 for ; Thu, 13 Nov 2025 05:22:15 +0100 (CET) Received: from mails.dpdk.org (localhost [127.0.0.1]) by mails.dpdk.org (Postfix) with ESMTP id 3FC6540151; Thu, 13 Nov 2025 05:22:15 +0100 (CET) Received: from mail-io1-f99.google.com (mail-io1-f99.google.com [209.85.166.99]) by mails.dpdk.org (Postfix) with ESMTP id B410E40151 for ; Thu, 13 Nov 2025 05:22:14 +0100 (CET) Received: by mail-io1-f99.google.com with SMTP id ca18e2360f4ac-9486251090eso17828739f.2 for ; Wed, 12 Nov 2025 20:22:14 -0800 (PST) DKIM-Signature: v=1; a=rsa-sha256; c=relaxed/relaxed; d=iol.unh.edu; s=unh-iol; t=1763007734; x=1763612534; darn=dpdk.org; h=references:in-reply-to:cc:to:from:subject:message-id:date:from:to :cc:subject:date:message-id:reply-to; bh=5dxBsKin5URgBcdSLXWrlnzz8rRP2WZFt0jd6NnvC0I=; b=RW+PIGinTRlFmzGVdjYL7arq0IKPdGirlZNM4bF6jjWo6t/jyRgEoKxbVEX5i8TqRb hW7LqqoMoC6P5/EnoppOfVf8t1W5/t9qc5bULczQgSVIw6YPcOU4IpvdAfkMjUmUnFcp z9fSeXX8UXwozyLzIQp1dcte5dtyKAg0ff9A8= X-Google-DKIM-Signature: v=1; a=rsa-sha256; c=relaxed/relaxed; d=1e100.net; s=20230601; t=1763007734; x=1763612534; h=references:in-reply-to:cc:to:from:subject:message-id:date:x-gm-gg :x-gm-message-state:from:to:cc:subject:date:message-id:reply-to; bh=5dxBsKin5URgBcdSLXWrlnzz8rRP2WZFt0jd6NnvC0I=; b=DVl4dN+Wo5Z/pX4Qcft8UCPs70KyD6lAhCs0TuOZR7gSBj7mjTxCxEE8kIbGyd0Z0F XH+GxYxcjnoHozis/s3yEV83wc8zQZUtuuK/g3odwmCtusDMcqMCAjHbWGteppBlL4pE DNPzAJ8OIi7IJJc1HKXXVxyBLgSoVvdcc5kaztI3VI8ia6He9ADZBOWsFnl9t0BYta8m UmH7cPWeSdpCqQl9yCMa+sOxsi7UF2iKlDMDXup1eVaSidmEl1SRBNcY7EQ4RJQCDguJ Pc3O8H4dGn2KJSw+3qZDMTnDV/0SRo82OwZmw0Y7CoOToIW95w8hJo7BHCkzEeFNGTyz RtHg== X-Gm-Message-State: AOJu0YxHYz4GqrQgZyqbhOFDAC5uABrZZpGyZ0ZO0wff+sxf8hB3uNnN trLJXx+j/UOGXz4wson7XcySqwAlxawlQ/x4PtB92t1Bp/0cCckqpzX98V3KGyCu2iJK1pn5ZJa Mev0azbsqrLizD288We6i2wTb2z62vRqoAHKBD3TfDBcq X-Gm-Gg: ASbGnct/O/dE3tBbgxC1oPS5ekuqt6QCTmHNg5ZJRQd7HtrIZUH/SONwRRWfXw71zmH LSu9X3OF8Qalg3hyMmAg4m+gJmsrgB22Lw7sKmhjyKY1wULGlonQGr8sd2RsQ43r7JlhX5lbV6B XQeSn238SJTKbDGBABA2THf7/sImUxT9i4gV3NlUY68VGNXVGvZhfj/7du0zkePJrgweR9WekZN ZAHuUiW2yLTLX5rIhCCSjH56XfjNXerIJdaQ6kPixWelxOOKahnla7X5eA/tqooejnvnXbuchIH Y1Fa9qv69hQDDIuMwiFJPE11jHNsCqLFEwwUhjYrXinkgJ87Kb61r5RoXkqvUWaaGUhQg5RThsz j34ifXq7mB7rrUUiZf447tF0OvgKyb5Y= X-Google-Smtp-Source: AGHT+IFeFVHb3HEJnk+iD5Yzu+PUacumuO6U7XnuivnNeUS5ZHPgXp61auirzn2zB1SGL9+I18cZB0kPdyO2 X-Received: by 2002:a05:6e02:1487:b0:433:7a7c:e2a2 with SMTP id e9e14a558f8ab-43473d211cbmr76124625ab.7.1763007733938; Wed, 12 Nov 2025 20:22:13 -0800 (PST) Received: from postal.iol.unh.edu (postal.iol.unh.edu. [132.177.123.84]) by smtp-relay.gmail.com with ESMTPS id e9e14a558f8ab-434833c6086sm595135ab.7.2025.11.12.20.22.13 (version=TLS1_2 cipher=ECDHE-ECDSA-AES128-GCM-SHA256 bits=128/128); Wed, 12 Nov 2025 20:22:13 -0800 (PST) X-Relaying-Domain: iol.unh.edu Date: Wed, 12 Nov 2025 20:22:13 -0800 (PST) Message-ID: <69155cf5.050a0220.2f32ba.3138SMTPIN_ADDED_MISSING@mx.google.com> Received: from [172.21.0.2] (unknown [172.18.0.240]) by postal.iol.unh.edu (Postfix) with ESMTP id 8724260003F4; Wed, 12 Nov 2025 23:22:13 -0500 (EST) Subject: |SUCCESS| pw158646-158647 [PATCH] [v7,2/2] app/testpmd: support mult From: dpdklab@iol.unh.edu To: Test Report Cc: dpdk-test-reports@iol.unh.edu, Stephen Hemminger In-Reply-To: <20251111091303.39491-3-fengchengwen@huawei.com> References: <20251111091303.39491-3-fengchengwen@huawei.com> Content-Type: text/plain X-BeenThere: test-report@dpdk.org X-Mailman-Version: 2.1.29 Precedence: list List-Id: automatic DPDK test reports List-Unsubscribe: , List-Archive: List-Post: List-Help: List-Subscribe: , Errors-To: test-report-bounces@dpdk.org Test-Label: iol-unit-amd64-testing Test-Status: SUCCESS http://dpdk.org/patch/158647 _Testing PASS_ Submitter: fengchengwen Date: Tuesday, November 11 2025 09:13:03 DPDK git baseline: Repo:dpdk-next-net Branch: master CommitID:591ee7f468aebec30d68d30afa8d5e4dcfc897dc 158646-158647 --> testing pass Upstream job id: Generic-VM-Unit-Test-DPDK#32455 Test environment and result as below: +-------------------------------+----------------+ | Environment | dpdk_unit_test | +===============================+================+ | CentOS Stream 9 | PASS | +-------------------------------+----------------+ | Debian GNU/Linux 12 | PASS | +-------------------------------+----------------+ | CentOS Stream 10 | PASS | +-------------------------------+----------------+ | Fedora Linux 40 | PASS | +-------------------------------+----------------+ | Fedora Linux 42 | PASS | +-------------------------------+----------------+ | Fedora Linux 41 | PASS | +-------------------------------+----------------+ | Red Hat Enterprise Linux 8.10 | PASS | +-------------------------------+----------------+ | Ubuntu 24.04 | PASS | +-------------------------------+----------------+ | Ubuntu 22.04 | PASS | +-------------------------------+----------------+ | Red Hat Enterprise Linux 9.5 | PASS | +-------------------------------+----------------+ | Ubuntu 20.04 | PASS | +-------------------------------+----------------+ | Windows Server 2022 | PASS | +-------------------------------+----------------+ CentOS Stream 9 Kernel: 5.15 Compiler: gcc gcc (GCC) 11.5.0 20240719 (Red Hat 11.5.0-11) Debian GNU/Linux 12 Kernel: 5.15 Compiler: gcc gcc (Debian 12.2.0-14+deb12u1) 12.2.0 CentOS Stream 10 Kernel: 5.15 Compiler: gcc gcc (GCC) 14.2.1 20250110 (Red Hat 14.2.1-8) Fedora Linux 40 Kernel: 5.15 Compiler: clang gcc (GCC) 14.2.1 20240912 (Red Hat 14.2.1-3) Fedora Linux 42 Kernel: 5.15 Compiler: clang gcc (GCC) 15.2.1 20250808 (Red Hat 15.2.1-1) Fedora Linux 41 Kernel: 5.15 Compiler: gcc gcc (GCC) 14.3.1 20250523 (Red Hat 14.3.1-1) Red Hat Enterprise Linux 8.10 Kernel: 5.15 Compiler: gcc gcc (GCC) 8.5.0 20210514 (Red Hat 8.5.0-22) Ubuntu 24.04 Kernel: 5.15 Compiler: gcc gcc (Ubuntu 13.3.0-6ubuntu2~24.04) 13.3.0 Ubuntu 22.04 Kernel: 5.15 Compiler: gcc gcc (Ubuntu 11.4.0-1ubuntu1~22.04) 11.4.0 Red Hat Enterprise Linux 9.5 Kernel: 5.15 Compiler: gcc gcc (GCC) 11.5.0 20240719 (Red Hat 11.5.0-2) Ubuntu 20.04 Kernel: 5.15 Compiler: gcc gcc (Ubuntu 9.4.0-1ubuntu1~20.04.2) 9.4.0 Windows Server 2022 Kernel: 10.0.20348.2031 Compiler: clang 15.0.7, gcc 14.1.0 (MinGW), and MSVC VS 19.39.33521 To view detailed results, visit: https://lab.dpdk.org/results/dashboard/patchsets/34531/ UNH-IOL DPDK Community Lab To manage your email subscriptions, visit: https://lab.dpdk.org/results/dashboard/preferences/subscriptions/