From mboxrd@z Thu Jan 1 00:00:00 1970 Return-Path: Received: from mails.dpdk.org (mails.dpdk.org [217.70.189.124]) by inbox.dpdk.org (Postfix) with ESMTP id 6E33A48AF2 for ; Thu, 13 Nov 2025 05:41:59 +0100 (CET) Received: from mails.dpdk.org (localhost [127.0.0.1]) by mails.dpdk.org (Postfix) with ESMTP id 69C0B40B90; Thu, 13 Nov 2025 05:41:59 +0100 (CET) Received: from mail-il1-f226.google.com (mail-il1-f226.google.com [209.85.166.226]) by mails.dpdk.org (Postfix) with ESMTP id 7D68440B90 for ; Thu, 13 Nov 2025 05:41:57 +0100 (CET) Received: by mail-il1-f226.google.com with SMTP id e9e14a558f8ab-43476cba770so1983345ab.1 for ; Wed, 12 Nov 2025 20:41:57 -0800 (PST) DKIM-Signature: v=1; a=rsa-sha256; c=relaxed/relaxed; d=iol.unh.edu; s=unh-iol; t=1763008917; x=1763613717; darn=dpdk.org; h=references:in-reply-to:cc:to:from:subject:message-id:date:from:to :cc:subject:date:message-id:reply-to; bh=+RKjxXIXjjEOIZTKC/5YRM9E59j26C0TPXNjqUO4HeM=; b=E9mzj/TH3WBpN8Y/rq8mbopEw0k4Uzez7WG4vC2twPHtmOiC+wfF2aZYlwZxCcdfAV qjHG0i2rJSixf5aNhV07vpoUh9Y/EFKELhl4UiJvCR+qy+RFlword/i1AxTgCxFsJTT9 UBZ4q49pwZ30UE7JQyFpxeNx82mOf9fWYFAfQ= X-Google-DKIM-Signature: v=1; a=rsa-sha256; c=relaxed/relaxed; d=1e100.net; s=20230601; t=1763008917; x=1763613717; h=references:in-reply-to:cc:to:from:subject:message-id:date:x-gm-gg :x-gm-message-state:from:to:cc:subject:date:message-id:reply-to; bh=+RKjxXIXjjEOIZTKC/5YRM9E59j26C0TPXNjqUO4HeM=; b=vZDnFC0VdDBWj/zgPm2S/xUeh2fJLSNjZqF+SE+kdrCF3BWjl2piLhHhzrwCNy/6FN PgL4coJ138wWdnA70nB0UYim2/6XIvSOiNk3+zYDntng1a+INWyYhFker7nTEWYyIMwA 0k+Nj4dJeH3W2HtXpcw9emktW17rFyBcPyviU1OJxi+0ADMFo3SeAwck791kQa/9g0Rb 5L5m3CgO0mHbUd0lT/lm/GaCrMdQm/JVUTC1NgtV3hMXiEsbXPuBdPgCnCHhhGZCsyia MiJ+rifIfHyo76I57Y2tkSexYqKYeeSoWLKnmWguYy8sGRer+qktniwWQLe9np11tbpQ 0T+g== X-Gm-Message-State: AOJu0YwRm/rP9m49m3JupxeKUJHVA+4+MoOSFOo+c4auswaYnk2m7oRg ggymQxzTTREUkZT3mlSe7N7ORBtBfjCerc9ne2vYaVzG+NXm1XPvYOvZIPJ4BnHzv+Z/BbG0oMZ L7EHgQIPlm6/nkXrKCBKCT9Mg5UdkDIQe51cKRBWp8bMC X-Gm-Gg: ASbGnctuuTNew5bQHDn6Y0pH7xHTmodLt/0XVj3Kx8PywwhSOt2gkUKmrVjwzmMiuHr IsDxs8psmiv2tFiPm+/X065AsIF8xFT8FMPa3UV5BdPZ1qzfJL1m4v2uuI5Ux3qaQgK7UFrcqFT ECO7CGMwxG54Q20ADA+xGYAqwVsG75gn2NiPRSH2zhfsZX1sUploW2KJzCMt74jUg6uUKf/rVey oeTJQDgfEeJjc+c30vyVnwXU384+Yj57jzU9CHmJK3uc5+V3wyo4xAxk+RSXlcrKc1wRaux8F1t LjMBhYsGEvnmhGIkg4eRLFNcG0xCY05x7oWmGWKQbDJN7CWlC9MCCO7fP0hYSlW6i1Ntbow4+5M +Y9As+qFKafSQw01C4JbnFAZMuRMq+sA= X-Google-Smtp-Source: AGHT+IHD5Gyvn+pEwccZSP2R+JQ6Uht9AYlus8LS+U31pdib1KOz0XAkFLq9z9ja0dvRoFkPsMH8ZXT9Jcw5 X-Received: by 2002:a05:6e02:1a84:b0:433:8109:3eec with SMTP id e9e14a558f8ab-4347c4b609cmr27372495ab.8.1763008916804; Wed, 12 Nov 2025 20:41:56 -0800 (PST) Received: from postal.iol.unh.edu (postal.iol.unh.edu. [132.177.123.84]) by smtp-relay.gmail.com with ESMTPS id e9e14a558f8ab-434833ebea5sm604525ab.11.2025.11.12.20.41.56 (version=TLS1_2 cipher=ECDHE-ECDSA-AES128-GCM-SHA256 bits=128/128); Wed, 12 Nov 2025 20:41:56 -0800 (PST) X-Relaying-Domain: iol.unh.edu Date: Wed, 12 Nov 2025 20:41:56 -0800 (PST) Message-ID: <69156194.050a0220.2cf33.309eSMTPIN_ADDED_MISSING@mx.google.com> Received: from [172.21.0.2] (unknown [172.18.0.240]) by postal.iol.unh.edu (Postfix) with ESMTP id 505846051830; Wed, 12 Nov 2025 23:41:56 -0500 (EST) Subject: |SUCCESS| pw158658-158662 [PATCH] [v4,5/5] vhost_user: Increase numb From: dpdklab@iol.unh.edu To: Test Report Cc: dpdk-test-reports@iol.unh.edu, Chenbo Xia , Maxime Coquelin In-Reply-To: <20251111114002.2902696-6-pravin.bathija@dell.com> References: <20251111114002.2902696-6-pravin.bathija@dell.com> Content-Type: text/plain X-BeenThere: test-report@dpdk.org X-Mailman-Version: 2.1.29 Precedence: list List-Id: automatic DPDK test reports List-Unsubscribe: , List-Archive: List-Post: List-Help: List-Subscribe: , Errors-To: test-report-bounces@dpdk.org Test-Label: iol-compile-amd64-testing Test-Status: SUCCESS http://dpdk.org/patch/158662 _Testing PASS_ Submitter: Bathija, Pravin Date: Tuesday, November 11 2025 11:40:02 DPDK git baseline: Repo:dpdk-next-virtio Branch: master CommitID:6b37c26a95388aa41bb5267c7c42f604fd571a38 158658-158662 --> testing pass Upstream job id: Windows-Compile-DPDK-VS#7500 Test environment and result as below: +-------------------------------+--------------------+------------------+-------------------+ | Environment | dpdk_meson_compile | dpdk_compile_ovs | dpdk_msvc_compile | +===============================+====================+==================+===================+ | Ubuntu 20.04 | PASS | SKIPPED | SKIPPED | +-------------------------------+--------------------+------------------+-------------------+ | FreeBSD 14.2 | PASS | SKIPPED | SKIPPED | +-------------------------------+--------------------+------------------+-------------------+ | CentOS Stream 9 | PASS | SKIPPED | SKIPPED | +-------------------------------+--------------------+------------------+-------------------+ | CentOS Stream 10 | PASS | SKIPPED | SKIPPED | +-------------------------------+--------------------+------------------+-------------------+ | Debian GNU/Linux 12 | PASS | SKIPPED | SKIPPED | +-------------------------------+--------------------+------------------+-------------------+ | Fedora Linux 42 | PASS | PASS | SKIPPED | +-------------------------------+--------------------+------------------+-------------------+ | openSUSE Leap 15.6 | PASS | SKIPPED | SKIPPED | +-------------------------------+--------------------+------------------+-------------------+ | Red Hat Enterprise Linux 8.10 | PASS | SKIPPED | SKIPPED | +-------------------------------+--------------------+------------------+-------------------+ | Red Hat Enterprise Linux 9.5 | PASS | SKIPPED | SKIPPED | +-------------------------------+--------------------+------------------+-------------------+ | Ubuntu 22.04 | PASS | SKIPPED | SKIPPED | +-------------------------------+--------------------+------------------+-------------------+ | Ubuntu 24.04 | PASS | PASS | SKIPPED | +-------------------------------+--------------------+------------------+-------------------+ | Alpine Linux 3.22.0 | PASS | SKIPPED | SKIPPED | +-------------------------------+--------------------+------------------+-------------------+ | Windows Server 2022 | SKIPPED | SKIPPED | PASS | +-------------------------------+--------------------+------------------+-------------------+ Ubuntu 20.04 Kernel: 4.19 Compiler: gcc gcc (Ubuntu 9.4.0-1ubuntu1~20.04.2) 9.4.0 FreeBSD 14.2 Kernel: 14.2-RELEASE Compiler: clang 18.1.6 CentOS Stream 9 Kernel: 5.15 Compiler: gcc gcc (GCC) 11.5.0 20240719 (Red Hat 11.5.0-11) CentOS Stream 10 Kernel: 5.15 Compiler: gcc gcc (GCC) 14.2.1 20250110 (Red Hat 14.2.1-8) Debian GNU/Linux 12 Kernel: 5.15 Compiler: gcc gcc (Debian 12.2.0-14+deb12u1) 12.2.0 Fedora Linux 42 Kernel: 5.15 Compiler: clang gcc (GCC) 15.2.1 20250808 (Red Hat 15.2.1-1) openSUSE Leap 15.6 Kernel: 5.15 Compiler: gcc gcc (SUSE Linux) 7.5.0 Red Hat Enterprise Linux 8.10 Kernel: 5.15 Compiler: gcc gcc (GCC) 8.5.0 20210514 (Red Hat 8.5.0-22) Red Hat Enterprise Linux 9.5 Kernel: 5.15 Compiler: gcc gcc (GCC) 11.5.0 20240719 (Red Hat 11.5.0-2) Ubuntu 22.04 Kernel: 5.15 Compiler: gcc gcc (Ubuntu 11.4.0-1ubuntu1~22.04) 11.4.0 Ubuntu 24.04 Kernel: 5.15 Compiler: gcc gcc (Ubuntu 13.3.0-6ubuntu2~24.04) 13.3.0 Alpine Linux 3.22.0 Kernel: 5.15 Compiler: gcc gcc (Alpine 14.2.0) 14.2.0 Windows Server 2022 Kernel: 10.0.20348.2031 Compiler: clang 15.0.7, gcc 14.1.0 (MinGW), and MSVC VS 19.39.33521 To view detailed results, visit: https://lab.dpdk.org/results/dashboard/patchsets/34533/ UNH-IOL DPDK Community Lab To manage your email subscriptions, visit: https://lab.dpdk.org/results/dashboard/preferences/subscriptions/