From mboxrd@z Thu Jan 1 00:00:00 1970 Return-Path: Received: from mails.dpdk.org (mails.dpdk.org [217.70.189.124]) by inbox.dpdk.org (Postfix) with ESMTP id 26DE148AF2 for ; Thu, 13 Nov 2025 05:44:00 +0100 (CET) Received: from mails.dpdk.org (localhost [127.0.0.1]) by mails.dpdk.org (Postfix) with ESMTP id 2118F40B90; Thu, 13 Nov 2025 05:44:00 +0100 (CET) Received: from mail-ot1-f99.google.com (mail-ot1-f99.google.com [209.85.210.99]) by mails.dpdk.org (Postfix) with ESMTP id DB61D40B90 for ; Thu, 13 Nov 2025 05:43:58 +0100 (CET) Received: by mail-ot1-f99.google.com with SMTP id 46e09a7af769-7c70c718a3dso367161a34.0 for ; Wed, 12 Nov 2025 20:43:58 -0800 (PST) DKIM-Signature: v=1; a=rsa-sha256; c=relaxed/relaxed; d=iol.unh.edu; s=unh-iol; t=1763009038; x=1763613838; darn=dpdk.org; h=references:in-reply-to:cc:to:from:subject:message-id:date:from:to :cc:subject:date:message-id:reply-to; bh=1E5mFLxocVwy1t2rNX0TycJf1b47+WepkL55gsMQ+L4=; b=eELpTTZ3QLOtN+QDO46eZuux4mfAJeRC4LoUh1GHYT5ycir9no5mofGxqBCNVCnlU5 wfwHHJMYg31XRINilZVhk7AdzkPADBM0eIg551Jr8WjyFuriOdgPiSkiVWOwtPxemVAE EZAoadikvWyLhoSZB6TlW1XBkAXEvhJ9LHMbc= X-Google-DKIM-Signature: v=1; a=rsa-sha256; c=relaxed/relaxed; d=1e100.net; s=20230601; t=1763009038; x=1763613838; h=references:in-reply-to:cc:to:from:subject:message-id:date:x-gm-gg :x-gm-message-state:from:to:cc:subject:date:message-id:reply-to; bh=1E5mFLxocVwy1t2rNX0TycJf1b47+WepkL55gsMQ+L4=; b=Lz9fEdzzH2QHmwbW88E0CLy2MuiBNCT7he/flmGexmDGifAJd0eFeaL+fK6WKPo589 9DtG8ECEQqxsqPwmuKEGBRx6GuQA5MkVvx0it6eG4Y44vQFfQ7/aiMHgMnBKJIxM/26g 6nKW9G9FYyGhO1MhKuySkoVJ7a4xBElNFQc4HIynE5a4meYX2dHEiG8Nkbndgki3X8vW hDh6nJrR0lQuUfarVmhTPwclztB/tNrCm7Aouo2N/XaxsOTcoxXdVu709evzPCEHoAl6 5bF06tinulZ96gb4okYk+UrKngKptzNtcTQldXlp9zO74+m0IuyJD5RI7kqo9oIBzyfh 8OJw== X-Gm-Message-State: AOJu0YwTaztY4nOKetuTuewmNDjz17dvZ9vKssS4ec5y+4WMCnT96Ayf 99M7Wein3o68mNcWnVZjpQti8tjWKku1OuLlQz1QIcpVi83U6wiXn7FEGt/jpoi9RYzVlsHoN5h YKcFHJVkIQQwtJawDYSYmkB8cpFNph2uGOSJ04t94K30e18TyiYOeHcE1mtmZ X-Gm-Gg: ASbGnctAOlEgIXh2I49/tPFUP8KwApZxP2n/dq+i7pzwOQ/4CeFNwCm6VTa6r6ixaJl LiYBLCAE+LR2oq0XxDbp+y78P5CHyFxb7vN0Sc41cbWLpNhurJvAZ9dmmP3NUtCIchOqzRLpXgU +h+1dWJhfvTjLREDCqRF6DXfHuxRL0bvkyLaEXN68VxMo1GXYmj78dOvLF3Fiu8WMa7jk7uVJOf 0U4etgBx+hcEwLYy1QPzVDQz/B/FQPz8Np3HyAGaYGeSs5pU1XuC3SQDYnWAiM1P70uZf3OqbGC SfZYmhPV7BnYV55nFGVATHwrSKm3wfC4rTtn50I+k+aTJV36tRAYB8RpmjKNDG3j+MxFJ+1+XwF wsfY7FDtO X-Google-Smtp-Source: AGHT+IFcB3fKRCWiDaJx66H6oG6xkgqLAKUja5gnJ6U96YoCA7rgYND2BkJYuFP7X0OAJKfB+ZdkTytwnTHH X-Received: by 2002:a05:6808:18a9:b0:450:7df:e90b with SMTP id 5614622812f47-45074599ec0mr2541606b6e.52.1763009038037; Wed, 12 Nov 2025 20:43:58 -0800 (PST) Received: from postal.iol.unh.edu (postal.iol.unh.edu. [2606:4100:3880:1234::84]) by smtp-relay.gmail.com with ESMTPS id 006d021491bc7-65724e49a1csm14352eaf.10.2025.11.12.20.43.57 (version=TLS1_2 cipher=ECDHE-ECDSA-AES128-GCM-SHA256 bits=128/128); Wed, 12 Nov 2025 20:43:58 -0800 (PST) X-Relaying-Domain: iol.unh.edu Date: Wed, 12 Nov 2025 20:43:58 -0800 (PST) Message-ID: <6915620e.050a0220.d9a08.0b2aSMTPIN_ADDED_MISSING@mx.google.com> Received: from [172.21.0.3] (unknown [172.18.0.240]) by postal.iol.unh.edu (Postfix) with ESMTP id 2AE2B6051830; Wed, 12 Nov 2025 23:43:57 -0500 (EST) Subject: |SUCCESS| pw158644 [PATCH] [v2] net/mlx5: fix spurious CPU wakeups c From: dpdklab@iol.unh.edu To: Test Report Cc: dpdk-test-reports@iol.unh.edu In-Reply-To: <20251111034057.3177641-1-sivaprasad.tummala@amd.com> References: <20251111034057.3177641-1-sivaprasad.tummala@amd.com> Content-Type: text/plain X-BeenThere: test-report@dpdk.org X-Mailman-Version: 2.1.29 Precedence: list List-Id: automatic DPDK test reports List-Unsubscribe: , List-Archive: List-Post: List-Help: List-Subscribe: , Errors-To: test-report-bounces@dpdk.org Test-Label: iol-compile-amd64-testing Test-Status: SUCCESS http://dpdk.org/patch/158644 _Testing PASS_ Submitter: Sivaprasad Tummala Date: Tuesday, November 11 2025 03:40:57 DPDK git baseline: Repo:dpdk-next-net-mlx Branch: master CommitID:9f99559f7b850add599b7cff247d8b4e28c9b71a 158644 --> testing pass Upstream job id: Windows-Compile-DPDK-Native#32278 Test environment and result as below: +-------------------------------+--------------------+------------------+-------------------+-------------------------+ | Environment | dpdk_meson_compile | dpdk_compile_ovs | dpdk_msvc_compile | dpdk_llvm_clang_compile | +===============================+====================+==================+===================+=========================+ | Fedora Linux 42 | PASS | PASS | SKIPPED | SKIPPED | +-------------------------------+--------------------+------------------+-------------------+-------------------------+ | CentOS Stream 9 | PASS | SKIPPED | SKIPPED | SKIPPED | +-------------------------------+--------------------+------------------+-------------------+-------------------------+ | CentOS Stream 10 | PASS | SKIPPED | SKIPPED | SKIPPED | +-------------------------------+--------------------+------------------+-------------------+-------------------------+ | Debian GNU/Linux 12 | PASS | SKIPPED | SKIPPED | SKIPPED | +-------------------------------+--------------------+------------------+-------------------+-------------------------+ | openSUSE Leap 15.6 | PASS | SKIPPED | SKIPPED | SKIPPED | +-------------------------------+--------------------+------------------+-------------------+-------------------------+ | Red Hat Enterprise Linux 9.5 | PASS | SKIPPED | SKIPPED | SKIPPED | +-------------------------------+--------------------+------------------+-------------------+-------------------------+ | Red Hat Enterprise Linux 8.10 | PASS | SKIPPED | SKIPPED | SKIPPED | +-------------------------------+--------------------+------------------+-------------------+-------------------------+ | Ubuntu 20.04 | PASS | SKIPPED | SKIPPED | SKIPPED | +-------------------------------+--------------------+------------------+-------------------+-------------------------+ | FreeBSD 14.2 | PASS | SKIPPED | SKIPPED | SKIPPED | +-------------------------------+--------------------+------------------+-------------------+-------------------------+ | Ubuntu 22.04 | PASS | SKIPPED | SKIPPED | SKIPPED | +-------------------------------+--------------------+------------------+-------------------+-------------------------+ | Alpine Linux 3.22.0 | PASS | SKIPPED | SKIPPED | SKIPPED | +-------------------------------+--------------------+------------------+-------------------+-------------------------+ | Ubuntu 24.04 | PASS | PASS | SKIPPED | SKIPPED | +-------------------------------+--------------------+------------------+-------------------+-------------------------+ | Windows Server 2022 | SKIPPED | SKIPPED | PASS | PASS | +-------------------------------+--------------------+------------------+-------------------+-------------------------+ Fedora Linux 42 Kernel: 5.15 Compiler: clang gcc (GCC) 15.2.1 20250808 (Red Hat 15.2.1-1) CentOS Stream 9 Kernel: 5.15 Compiler: gcc gcc (GCC) 11.5.0 20240719 (Red Hat 11.5.0-11) CentOS Stream 10 Kernel: 5.15 Compiler: gcc gcc (GCC) 14.2.1 20250110 (Red Hat 14.2.1-8) Debian GNU/Linux 12 Kernel: 5.15 Compiler: gcc gcc (Debian 12.2.0-14+deb12u1) 12.2.0 openSUSE Leap 15.6 Kernel: 5.15 Compiler: gcc gcc (SUSE Linux) 7.5.0 Red Hat Enterprise Linux 9.5 Kernel: 5.15 Compiler: gcc gcc (GCC) 11.5.0 20240719 (Red Hat 11.5.0-2) Red Hat Enterprise Linux 8.10 Kernel: 5.15 Compiler: gcc gcc (GCC) 8.5.0 20210514 (Red Hat 8.5.0-22) Ubuntu 20.04 Kernel: 5.15 Compiler: gcc gcc (Ubuntu 9.4.0-1ubuntu1~20.04.2) 9.4.0 FreeBSD 14.2 Kernel: 14.2-RELEASE Compiler: clang 18.1.6 Ubuntu 22.04 Kernel: 5.15 Compiler: gcc gcc (Ubuntu 11.4.0-1ubuntu1~22.04) 11.4.0 Alpine Linux 3.22.0 Kernel: 5.15 Compiler: gcc gcc (Alpine 14.2.0) 14.2.0 Ubuntu 24.04 Kernel: 5.15 Compiler: gcc gcc (Ubuntu 13.3.0-6ubuntu2~24.04) 13.3.0 Windows Server 2022 Kernel: 10.0.20348.2031 Compiler: clang 15.0.7, gcc 14.1.0 (MinGW), and MSVC VS 19.39.33521 To view detailed results, visit: https://lab.dpdk.org/results/dashboard/patchsets/34528/ UNH-IOL DPDK Community Lab To manage your email subscriptions, visit: https://lab.dpdk.org/results/dashboard/preferences/subscriptions/