From mboxrd@z Thu Jan 1 00:00:00 1970 Return-Path: Received: from mails.dpdk.org (mails.dpdk.org [217.70.189.124]) by inbox.dpdk.org (Postfix) with ESMTP id DAD7948AF2 for ; Thu, 13 Nov 2025 05:50:54 +0100 (CET) Received: from mails.dpdk.org (localhost [127.0.0.1]) by mails.dpdk.org (Postfix) with ESMTP id B8B8E40431; Thu, 13 Nov 2025 05:50:54 +0100 (CET) Received: from mail-yw1-f225.google.com (mail-yw1-f225.google.com [209.85.128.225]) by mails.dpdk.org (Postfix) with ESMTP id E7EA740431 for ; Thu, 13 Nov 2025 05:50:53 +0100 (CET) Received: by mail-yw1-f225.google.com with SMTP id 00721157ae682-78802ac2296so4564487b3.3 for ; Wed, 12 Nov 2025 20:50:53 -0800 (PST) DKIM-Signature: v=1; a=rsa-sha256; c=relaxed/relaxed; d=iol.unh.edu; s=unh-iol; t=1763009453; x=1763614253; darn=dpdk.org; h=references:in-reply-to:cc:to:from:subject:message-id:date:from:to :cc:subject:date:message-id:reply-to; bh=M4zCQBXq4+a1XZkc2oYm7yaXbe58VKNfDZ3/jFL8B2c=; b=I7Dlb3RZbrzdVX7fpiGoKuAT+f3ei4LMSGkT7DtKw7pK+8vM4IhELR1Fyb2OQxutaa +vrlRA55V8pwYaxmnZF6YTi8J4um7rTXo3i/BVbO7Yeak/Hu8+o8lbzdTxpQ74HeFPtI RytuWvmwtYhl/Exfjz29fZeLuhv/q8UIY2uxw= X-Google-DKIM-Signature: v=1; a=rsa-sha256; c=relaxed/relaxed; d=1e100.net; s=20230601; t=1763009453; x=1763614253; h=references:in-reply-to:cc:to:from:subject:message-id:date:x-gm-gg :x-gm-message-state:from:to:cc:subject:date:message-id:reply-to; bh=M4zCQBXq4+a1XZkc2oYm7yaXbe58VKNfDZ3/jFL8B2c=; b=O3A0DLFhWtf9rXbONy4kcRET59zXyHs5b2uS7Ma9mbjLuroaFWefAfGb6h34/Hd4dx R+KQuSGCHKp4SDbYpMOnP7CGgKsRXRnrj33IagAL5znaitf+A+oeBRzVpZyEu+CdlEPg RZAV70rFmd78tLWpqQBJ/+9c8bERKTSoZwWp8FYzWxVtnl+AA2expuEsDk4LIgZSgXbJ 1MrsUc2rKcr7jZ6VuW2j4d9vD9HxrG00XKYoGG1UvNMoQ6BuRF/AkPHcs+yRZXWOggcD 15cfeRqeAjEVqBDVD9lVjjnLllV544hAAbnKjRz9HMOZws+xVqWbmpkMBzVB9zHP783k 34+w== X-Gm-Message-State: AOJu0Yy2GpldcU3lP8/qLB17JbRPrbIKySnDTBdijUIprl2Z6Sz18r1S LRaZ5IHDOKmrsbQ+TttvuJAVIHonI8KeHaZzpI2UvSviW6spwbYStIaxBEs6/EQFY8/RHmXD+LH YygSwlMt8bwGzZCXLvcIK2rXY3bP7YWG/HtN+akkz3PPT X-Gm-Gg: ASbGncshT0mK2CcqR0xJPNOgASAd16QFkk05gGTj62XsyEtB6w4Al1Ds6ZIlep4PXvs h1R7iV3WbACkaJTEfJh89Bc3PvB16DTmuOlJE2GhFokkMLsOBrlEWW7mX904gjyrKTQrbiisJFu bOPn8iWCt637grBroEHnG6siwwfWhNfGdifVUGmMHxahVvhDyKdIHsApdb3b2wq8cRdPIHKvkiv SylJTGPSLMTEtgSoHRrM4ETftRxtrhYsTTb7JIVa9AKAexZn8MbAPjaH0UZFCGMTHe9640MDLbV xNzL8KBluRjDtD0Xc6HJbeoiOpLx/70jR5FCLZ2L8IUszmZx1QUoWICTCZhrwPyd4oDwV2N47Mb XtntM81DK3WQixYOsEAwS86b9CPhQQRg= X-Google-Smtp-Source: AGHT+IG2SBP+AeOGwALbzuvVIXBH10+kWWZt8UkZ/zjD8cnzoxBfKTBVVE4TgXq+tNdpkSgBfYZxD3lSa+hE X-Received: by 2002:a05:690c:905:b0:786:58c4:7a21 with SMTP id 00721157ae682-788136ed448mr45646717b3.69.1763009453117; Wed, 12 Nov 2025 20:50:53 -0800 (PST) Received: from postal.iol.unh.edu (postal.iol.unh.edu. [132.177.123.84]) by smtp-relay.gmail.com with ESMTPS id 00721157ae682-78821fb7c6esm500627b3.25.2025.11.12.20.50.53 (version=TLS1_2 cipher=ECDHE-ECDSA-AES128-GCM-SHA256 bits=128/128); Wed, 12 Nov 2025 20:50:53 -0800 (PST) X-Relaying-Domain: iol.unh.edu Date: Wed, 12 Nov 2025 20:50:53 -0800 (PST) Message-ID: <691563ad.0d0a0220.2681d8.2b02SMTPIN_ADDED_MISSING@mx.google.com> Received: from [172.21.0.2] (unknown [172.18.0.240]) by postal.iol.unh.edu (Postfix) with ESMTP id B030C6051830; Wed, 12 Nov 2025 23:50:52 -0500 (EST) Subject: |SUCCESS| pw158653 [PATCH] crypto/cnxk: add CPT CQ support for cn20k From: dpdklab@iol.unh.edu To: Test Report Cc: dpdk-test-reports@iol.unh.edu, Akhil Goyal In-Reply-To: <20251111111643.2279586-1-ktejasree@marvell.com> References: <20251111111643.2279586-1-ktejasree@marvell.com> Content-Type: text/plain X-BeenThere: test-report@dpdk.org X-Mailman-Version: 2.1.29 Precedence: list List-Id: automatic DPDK test reports List-Unsubscribe: , List-Archive: List-Post: List-Help: List-Subscribe: , Errors-To: test-report-bounces@dpdk.org Test-Label: iol-unit-amd64-testing Test-Status: SUCCESS http://dpdk.org/patch/158653 _Testing PASS_ Submitter: Tejasree Kondoj Date: Tuesday, November 11 2025 11:16:43 DPDK git baseline: Repo:dpdk-next-crypto Branch: master CommitID:8ae4f1d511226fd65a979e9f8a1e51835281a59b 158653 --> testing pass Upstream job id: Generic-VM-Unit-Test-DPDK#32457 Test environment and result as below: +-------------------------------+----------------+ | Environment | dpdk_unit_test | +===============================+================+ | Debian GNU/Linux 12 | PASS | +-------------------------------+----------------+ | CentOS Stream 9 | PASS | +-------------------------------+----------------+ | Red Hat Enterprise Linux 8.10 | PASS | +-------------------------------+----------------+ | Fedora Linux 40 | PASS | +-------------------------------+----------------+ | Fedora Linux 42 | PASS | +-------------------------------+----------------+ | Red Hat Enterprise Linux 9.5 | PASS | +-------------------------------+----------------+ | Fedora Linux 41 | PASS | +-------------------------------+----------------+ | CentOS Stream 10 | PASS | +-------------------------------+----------------+ | Ubuntu 24.04 | PASS | +-------------------------------+----------------+ | Ubuntu 20.04 | PASS | +-------------------------------+----------------+ | Ubuntu 22.04 | PASS | +-------------------------------+----------------+ | Windows Server 2022 | PASS | +-------------------------------+----------------+ Debian GNU/Linux 12 Kernel: 5.15 Compiler: gcc gcc (Debian 12.2.0-14+deb12u1) 12.2.0 CentOS Stream 9 Kernel: 5.15 Compiler: gcc gcc (GCC) 11.5.0 20240719 (Red Hat 11.5.0-11) Red Hat Enterprise Linux 8.10 Kernel: 5.15 Compiler: gcc gcc (GCC) 8.5.0 20210514 (Red Hat 8.5.0-22) Fedora Linux 40 Kernel: 5.15 Compiler: gcc gcc (GCC) 14.2.1 20240912 (Red Hat 14.2.1-3) Fedora Linux 42 Kernel: 5.15 Compiler: clang gcc (GCC) 15.2.1 20250808 (Red Hat 15.2.1-1) Red Hat Enterprise Linux 9.5 Kernel: 5.15 Compiler: gcc gcc (GCC) 11.5.0 20240719 (Red Hat 11.5.0-2) Fedora Linux 41 Kernel: 5.15 Compiler: gcc gcc (GCC) 14.3.1 20250523 (Red Hat 14.3.1-1) CentOS Stream 10 Kernel: 5.15 Compiler: gcc gcc (GCC) 14.2.1 20250110 (Red Hat 14.2.1-8) Ubuntu 24.04 Kernel: 5.15 Compiler: gcc gcc (Ubuntu 13.3.0-6ubuntu2~24.04) 13.3.0 Ubuntu 20.04 Kernel: 5.15 Compiler: gcc gcc (Ubuntu 9.4.0-1ubuntu1~20.04.2) 9.4.0 Ubuntu 22.04 Kernel: 5.15 Compiler: gcc gcc (Ubuntu 11.4.0-1ubuntu1~22.04) 11.4.0 Windows Server 2022 Kernel: 10.0.20348.2031 Compiler: clang 15.0.7, gcc 14.1.0 (MinGW), and MSVC VS 19.39.33521 To view detailed results, visit: https://lab.dpdk.org/results/dashboard/patchsets/34532/ UNH-IOL DPDK Community Lab To manage your email subscriptions, visit: https://lab.dpdk.org/results/dashboard/preferences/subscriptions/