From mboxrd@z Thu Jan 1 00:00:00 1970 Return-Path: Received: from mails.dpdk.org (mails.dpdk.org [217.70.189.124]) by inbox.dpdk.org (Postfix) with ESMTP id C5B3048AF6 for ; Thu, 13 Nov 2025 06:02:23 +0100 (CET) Received: from mails.dpdk.org (localhost [127.0.0.1]) by mails.dpdk.org (Postfix) with ESMTP id AEC1D40431; Thu, 13 Nov 2025 06:02:23 +0100 (CET) Received: from mail-pj1-f99.google.com (mail-pj1-f99.google.com [209.85.216.99]) by mails.dpdk.org (Postfix) with ESMTP id B0FDC40431 for ; Thu, 13 Nov 2025 06:02:22 +0100 (CET) Received: by mail-pj1-f99.google.com with SMTP id 98e67ed59e1d1-3418ad69672so281028a91.3 for ; Wed, 12 Nov 2025 21:02:22 -0800 (PST) DKIM-Signature: v=1; a=rsa-sha256; c=relaxed/relaxed; d=iol.unh.edu; s=unh-iol; t=1763010142; x=1763614942; darn=dpdk.org; h=references:in-reply-to:cc:to:from:subject:message-id:date:from:to :cc:subject:date:message-id:reply-to; bh=CImgjNEyzD9//zumxzKISwsGfrifQgYZ5LLTYJY8NAI=; b=WPtlewr+Kb6MyDE0rTcivFPLFcVvJ4OxFOkoD/aj5ri7+fBFQeq2iT8i4jF39KvXxn x8xHufMonDIWsq8nRLYil5xxB7Iec6XDpLMaHiV1b7HdeqtWD24AqxfMJ0ItRNLnKn7K BLbDC7AKMMGKooSfhf6oWRqhxOqCrcqEbBufw= X-Google-DKIM-Signature: v=1; a=rsa-sha256; c=relaxed/relaxed; d=1e100.net; s=20230601; t=1763010142; x=1763614942; h=references:in-reply-to:cc:to:from:subject:message-id:date:x-gm-gg :x-gm-message-state:from:to:cc:subject:date:message-id:reply-to; bh=CImgjNEyzD9//zumxzKISwsGfrifQgYZ5LLTYJY8NAI=; b=oVhImpEBUV/8xu/ljNJDbX62KxmBJWgEJg68pG9sxKJ8seVydLTYXUxJrBsX8cjyCp U2Vr+PYR6bs5K/1kn8v3RqB3QifgaI8sriCYWaHgKoky0o2u7oKKqyICV9F3IFhrlZc1 fX00AfEGAz6JtptgGN1X3KM4z+RgJidxJY46oUngW2AAkevEFEHq5PRaaUzxAtHbJETc Uwlw60Z8wkNRYwOgZMFMe/y9m+aEYFhq+mWbHFsabshmAYrIGsTfmsfFTg3YA1VOA9X/ 8HT9D//Jn5wleyqdgfZ2rXdqlbKyEvhV1ZrjhqWX45ow0exC1fqHFPj7JYjqfaLB8Foo 6ICQ== X-Gm-Message-State: AOJu0YzA7DxrGRR4i0OcMvDjcqGXG1EJiHZCMWnrjUJaJKV6Z1CaeHc1 E/5cH5XqTO2Rhu9wjFmrGbv8C9v9Dzg7fbw8pl1w/heI+r0eNtPdzXLSTHy3C3HVzu9Ohz6AdsT INSqGfC/RxhRIXSRV9cv34Rz66JQbtSvffZTskAHoy0A8XA/z7QrLZEVl9WNV X-Gm-Gg: ASbGncsLYVKofvVOxlrvLrwOuJANLf8xbKWz815t1eRiVcX9Rdw2Vj8cC1f9HTeY8Y7 b/uREQcOHkAA++rokK8wRBdDhI71mneaaVya6JeQYp7godzMpqA1q+0S+uZBKIKiGYktJnRpAjv lPm1RXbyPogEmkZILKg/PciRLYt+IOw1zEj5F6aslJdFSGMaCMxmyoybzUMoAA/KcjXxPhEIAQ4 1RUOV2JieBuubbdaGKm11kfKE6sX7i8oTNf0sWzGPmC6DLleKN24f5ZvA9Es8H8Wnj/91se40v8 dEK4xmtg1gZ8eWq/XS9wpYI/xtDo2SZ4x3f6WgGmtunnsg9MyLjrWJeCjq5vVttQfuuuaXBdOnu hXkZS4up8 X-Google-Smtp-Source: AGHT+IH/ANs3dSvm8tSHWMCfaNJJhfmZMtDNqaAkcVhjVxwfHLf0jLD8Jw64oGemVDIaqJwpPQ/kFPRCW1dv X-Received: by 2002:a17:90b:4d10:b0:340:e8e9:cc76 with SMTP id 98e67ed59e1d1-343dde00466mr7174457a91.11.1763010141813; Wed, 12 Nov 2025 21:02:21 -0800 (PST) Received: from postal.iol.unh.edu (postal.iol.unh.edu. [2606:4100:3880:1234::84]) by smtp-relay.gmail.com with ESMTPS id 98e67ed59e1d1-343e07b0c91sm434954a91.5.2025.11.12.21.02.21 (version=TLS1_2 cipher=ECDHE-ECDSA-AES128-GCM-SHA256 bits=128/128); Wed, 12 Nov 2025 21:02:21 -0800 (PST) X-Relaying-Domain: iol.unh.edu Date: Wed, 12 Nov 2025 21:02:21 -0800 (PST) Message-ID: <6915665d.170a0220.1d162d.6587SMTPIN_ADDED_MISSING@mx.google.com> Received: from [172.21.0.2] (unknown [172.18.0.240]) by postal.iol.unh.edu (Postfix) with ESMTP id 3CBA96050A61; Thu, 13 Nov 2025 00:02:21 -0500 (EST) Subject: |SUCCESS| pw158695 [PATCH] license: standardize SPDX tag for 3-Claus From: dpdklab@iol.unh.edu To: Test Report Cc: dpdk-test-reports@iol.unh.edu In-Reply-To: <20251112091335.662991-1-thomas@monjalon.net> References: <20251112091335.662991-1-thomas@monjalon.net> Content-Type: text/plain X-BeenThere: test-report@dpdk.org X-Mailman-Version: 2.1.29 Precedence: list List-Id: automatic DPDK test reports List-Unsubscribe: , List-Archive: List-Post: List-Help: List-Subscribe: , Errors-To: test-report-bounces@dpdk.org Test-Label: iol-unit-arm64-testing Test-Status: SUCCESS http://dpdk.org/patch/158695 _Testing PASS_ Submitter: Thomas Monjalon Date: Wednesday, November 12 2025 09:13:35 DPDK git baseline: Repo:dpdk Branch: master CommitID:be0112878b4fc3a1b918370ed2fe615c52039d77 158695 --> testing pass Upstream job id: Generic-Unit-Test-DPDK#391435 Test environment and result as below: +------------------------------+---------------------------+------------------------------+--------------+----------------+ | Environment | cryptodev_sw_zuc_autotest | cryptodev_sw_snow3g_autotest | lpm_autotest | dpdk_unit_test | +==============================+===========================+==============================+==============+================+ | Debian 12 (arm) | PASS | PASS | SKIPPED | SKIPPED | +------------------------------+---------------------------+------------------------------+--------------+----------------+ | Ubuntu 20.04 | SKIPPED | SKIPPED | PASS | PASS | +------------------------------+---------------------------+------------------------------+--------------+----------------+ | CentOS Stream 9 | SKIPPED | SKIPPED | SKIPPED | PASS | +------------------------------+---------------------------+------------------------------+--------------+----------------+ | Fedora Linux 40 | SKIPPED | SKIPPED | SKIPPED | PASS | +------------------------------+---------------------------+------------------------------+--------------+----------------+ | Debian GNU/Linux 12 | SKIPPED | SKIPPED | SKIPPED | PASS | +------------------------------+---------------------------+------------------------------+--------------+----------------+ | Fedora Linux 41 | SKIPPED | SKIPPED | SKIPPED | PASS | +------------------------------+---------------------------+------------------------------+--------------+----------------+ | Ubuntu 22.04 | SKIPPED | SKIPPED | SKIPPED | PASS | +------------------------------+---------------------------+------------------------------+--------------+----------------+ | CentOS Stream 10 | SKIPPED | SKIPPED | SKIPPED | PASS | +------------------------------+---------------------------+------------------------------+--------------+----------------+ | Ubuntu 24.04 | SKIPPED | SKIPPED | SKIPPED | PASS | +------------------------------+---------------------------+------------------------------+--------------+----------------+ | Fedora Linux 42 | SKIPPED | SKIPPED | SKIPPED | PASS | +------------------------------+---------------------------+------------------------------+--------------+----------------+ | Red Hat Enterprise Linux 9.5 | SKIPPED | SKIPPED | SKIPPED | PASS | +------------------------------+---------------------------+------------------------------+--------------+----------------+ Debian 12 (arm) Kernel: Depends on container host Compiler: gcc (Debian 12.2.0-14) 12.2.0 Ubuntu 20.04 Kernel: 5.4 Compiler: gcc gcc (Ubuntu 9.4.0-1ubuntu1~20.04.2) 9.4.0 CentOS Stream 9 Kernel: 5.4 Compiler: gcc gcc (GCC) 11.5.0 20240719 (Red Hat 11.5.0-11) Fedora Linux 40 Kernel: 5.4 Compiler: gcc gcc (GCC) 14.2.1 20240912 (Red Hat 14.2.1-3) Debian GNU/Linux 12 Kernel: 5.4 Compiler: gcc gcc (Debian 12.2.0-14+deb12u1) 12.2.0 Fedora Linux 41 Kernel: 5.4 Compiler: clang gcc (GCC) 14.3.1 20250523 (Red Hat 14.3.1-1) Ubuntu 22.04 Kernel: 5.15 Compiler: gcc gcc (Ubuntu 11.4.0-1ubuntu1~22.04.2) 11.4.0 CentOS Stream 10 Kernel: 5.4 Compiler: gcc gcc (GCC) 14.2.1 20250110 (Red Hat 14.2.1-8) Ubuntu 24.04 Kernel: 5.4 Compiler: gcc gcc (Ubuntu 13.3.0-6ubuntu2~24.04) 13.3.0 Fedora Linux 42 Kernel: 5.4 Compiler: clang gcc (GCC) 15.2.1 20250808 (Red Hat 15.2.1-1) Red Hat Enterprise Linux 9.5 Kernel: 5.4 Compiler: gcc gcc (GCC) 11.5.0 20240719 (Red Hat 11.5.0-2) To view detailed results, visit: https://lab.dpdk.org/results/dashboard/patchsets/34545/ UNH-IOL DPDK Community Lab To manage your email subscriptions, visit: https://lab.dpdk.org/results/dashboard/preferences/subscriptions/