From mboxrd@z Thu Jan 1 00:00:00 1970 Return-Path: Received: from mails.dpdk.org (mails.dpdk.org [217.70.189.124]) by inbox.dpdk.org (Postfix) with ESMTP id 0318848AF6 for ; Thu, 13 Nov 2025 06:14:14 +0100 (CET) Received: from mails.dpdk.org (localhost [127.0.0.1]) by mails.dpdk.org (Postfix) with ESMTP id D2E7B40431; Thu, 13 Nov 2025 06:14:14 +0100 (CET) Received: from mail-qk1-f227.google.com (mail-qk1-f227.google.com [209.85.222.227]) by mails.dpdk.org (Postfix) with ESMTP id 5864E40431 for ; Thu, 13 Nov 2025 06:14:13 +0100 (CET) Received: by mail-qk1-f227.google.com with SMTP id af79cd13be357-8a3eac7ca30so30162185a.2 for ; Wed, 12 Nov 2025 21:14:13 -0800 (PST) DKIM-Signature: v=1; a=rsa-sha256; c=relaxed/relaxed; d=iol.unh.edu; s=unh-iol; t=1763010852; x=1763615652; darn=dpdk.org; h=references:in-reply-to:cc:to:from:subject:message-id:date:from:to :cc:subject:date:message-id:reply-to; bh=y6/6E+xMdCjpfUE6U0Dlq0BbUjb/yVvJftaQpeKiDfI=; b=dl0Mnzo16Yk+qJUbyauVW7isqhG7XN+Kd/JIeiXqqQPD+Le3ciiOKsymWPYx+B6fY+ mm/lHWULP6DBbokiKHV58QvnCT1Exi/ksRIq16x4sODD/kgK55PowwD2jFiNlvlGttfV bGm7IJmmWwCBGU7uvjAM+nNZa7eFkP5qzYvVE= X-Google-DKIM-Signature: v=1; a=rsa-sha256; c=relaxed/relaxed; d=1e100.net; s=20230601; t=1763010852; x=1763615652; h=references:in-reply-to:cc:to:from:subject:message-id:date:x-gm-gg :x-gm-message-state:from:to:cc:subject:date:message-id:reply-to; bh=y6/6E+xMdCjpfUE6U0Dlq0BbUjb/yVvJftaQpeKiDfI=; b=eL2CkAlkK1w/7tK/4IP0EgbcPBGv8Q9TIguBUCjddEkdftlQuowCQLuxZUCyuKpTIE 043C6hxZDROLnmyW6YPFMtAGStKnZT2jSFe7A9F04EB7DU6A9oUsOBK5+aPFQXKcDEct 9QYzWn6/wU48QbNTB2VGwuj7rVIp65VeS/woVNn/59puZfX09jXxcDJm8S4X2SldxgNd jOz1FcQoJRYPTaDnffXHgPK6l/BLXbWx6MkzksV4IKDo1JGB3g5PgqFEePQGW9kBbxeD rFcjywWPydCTqEzwFmOb70sIXA4QbRY8z4Tpu+rm0o3OGJ65t6uTVZgE6b1djAQF05oZ UPFA== X-Gm-Message-State: AOJu0YxZmeSHQZAOze0jQXmpEVktzD1eZH9Tnknq5+Ct+K2ke9PTxj49 ZDld+asoMOpJbBEmCixW5k+yWQIdbO0rSGJ4LgFZNg3lPVXQChWKY34gE3ks021SB/17vHSO3UV DdsyCPxH0Z2x0J4Ps4EP2BX/1ye2wyPbziAKAzyO6DQaIlNDyrJaS+U7aHjQ7 X-Gm-Gg: ASbGncuUVyYiL9m/7oehLVRnXsnHcMfULmdU7xP6ngnytCvASmNPnZlTkFytucCqQDI x2cJZ6WLWxEb3GmxYNNs9jy0AprVAKsi/e9ejoyZz4aevIXYZcC/eoIWAnJOZ8uQW7bq01DN8UK Bhcg5lb5VXBke9WdSqChsVJPXjBV3XB9r9gHhqlOTgQAm9+EKil1tmXWDBL9X4fh7iBxEs9ZubQ lD1Aut2Dmn6zK72zYGSNFO+zyFDTnqfs82xQ9twnkaITRBbEmd+C6YxRVFdkv4AV6hX/qgYPvmD G7Culkx33s8tkmj6nlushDuzQ/sRUsCMiOG1H0UIXkFpCPG5a77P87o0bH2hs9mZi9EWTyfnzKy rsWzwJuQ4 X-Google-Smtp-Source: AGHT+IH+e40RAUo504lZJkql4OhIoHR9MqRuIT1MOo3C0DjeAHWCeon847+W5cbiQnU5/zUWyS+AbHw4Stwi X-Received: by 2002:a05:620a:1aaa:b0:8b2:5fa9:5c with SMTP id af79cd13be357-8b29b8495efmr729411585a.83.1763010852587; Wed, 12 Nov 2025 21:14:12 -0800 (PST) Received: from postal.iol.unh.edu (postal.iol.unh.edu. [2606:4100:3880:1234::84]) by smtp-relay.gmail.com with ESMTPS id af79cd13be357-8b2aee9e594sm8516685a.2.2025.11.12.21.14.12 (version=TLS1_2 cipher=ECDHE-ECDSA-AES128-GCM-SHA256 bits=128/128); Wed, 12 Nov 2025 21:14:12 -0800 (PST) X-Relaying-Domain: iol.unh.edu Date: Wed, 12 Nov 2025 21:14:12 -0800 (PST) Message-ID: <69156924.050a0220.ca2c.486dSMTPIN_ADDED_MISSING@mx.google.com> Received: from [172.21.0.2] (unknown [172.18.0.240]) by postal.iol.unh.edu (Postfix) with ESMTP id 50C356050A61; Thu, 13 Nov 2025 00:14:12 -0500 (EST) Subject: |SUCCESS| pw158653 [PATCH] crypto/cnxk: add CPT CQ support for cn20k From: dpdklab@iol.unh.edu To: Test Report Cc: dpdk-test-reports@iol.unh.edu, Akhil Goyal In-Reply-To: <20251111111643.2279586-1-ktejasree@marvell.com> References: <20251111111643.2279586-1-ktejasree@marvell.com> Content-Type: text/plain X-BeenThere: test-report@dpdk.org X-Mailman-Version: 2.1.29 Precedence: list List-Id: automatic DPDK test reports List-Unsubscribe: , List-Archive: List-Post: List-Help: List-Subscribe: , Errors-To: test-report-bounces@dpdk.org Test-Label: iol-unit-amd64-testing Test-Status: SUCCESS http://dpdk.org/patch/158653 _Testing PASS_ Submitter: Tejasree Kondoj Date: Tuesday, November 11 2025 11:16:43 DPDK git baseline: Repo:dpdk-next-crypto Branch: master CommitID:8ae4f1d511226fd65a979e9f8a1e51835281a59b 158653 --> testing pass Upstream job id: Generic-VM-Unit-Test-DPDK#32458 Test environment and result as below: +-------------------------------+----------------+ | Environment | dpdk_unit_test | +===============================+================+ | Debian GNU/Linux 12 | PASS | +-------------------------------+----------------+ | CentOS Stream 9 | PASS | +-------------------------------+----------------+ | Red Hat Enterprise Linux 8.10 | PASS | +-------------------------------+----------------+ | Fedora Linux 40 | PASS | +-------------------------------+----------------+ | Fedora Linux 42 | PASS | +-------------------------------+----------------+ | Red Hat Enterprise Linux 9.5 | PASS | +-------------------------------+----------------+ | Fedora Linux 41 | PASS | +-------------------------------+----------------+ | CentOS Stream 10 | PASS | +-------------------------------+----------------+ | Ubuntu 24.04 | PASS | +-------------------------------+----------------+ | Ubuntu 20.04 | PASS | +-------------------------------+----------------+ | Ubuntu 22.04 | PASS | +-------------------------------+----------------+ | Windows Server 2022 | PASS | +-------------------------------+----------------+ Debian GNU/Linux 12 Kernel: 5.15 Compiler: gcc gcc (Debian 12.2.0-14+deb12u1) 12.2.0 CentOS Stream 9 Kernel: 5.15 Compiler: gcc gcc (GCC) 11.5.0 20240719 (Red Hat 11.5.0-11) Red Hat Enterprise Linux 8.10 Kernel: 5.15 Compiler: gcc gcc (GCC) 8.5.0 20210514 (Red Hat 8.5.0-22) Fedora Linux 40 Kernel: 5.15 Compiler: gcc gcc (GCC) 14.2.1 20240912 (Red Hat 14.2.1-3) Fedora Linux 42 Kernel: 5.15 Compiler: clang gcc (GCC) 15.2.1 20250808 (Red Hat 15.2.1-1) Red Hat Enterprise Linux 9.5 Kernel: 5.15 Compiler: gcc gcc (GCC) 11.5.0 20240719 (Red Hat 11.5.0-2) Fedora Linux 41 Kernel: 5.15 Compiler: gcc gcc (GCC) 14.3.1 20250523 (Red Hat 14.3.1-1) CentOS Stream 10 Kernel: 5.15 Compiler: gcc gcc (GCC) 14.2.1 20250110 (Red Hat 14.2.1-8) Ubuntu 24.04 Kernel: 5.15 Compiler: gcc gcc (Ubuntu 13.3.0-6ubuntu2~24.04) 13.3.0 Ubuntu 20.04 Kernel: 5.15 Compiler: gcc gcc (Ubuntu 9.4.0-1ubuntu1~20.04.2) 9.4.0 Ubuntu 22.04 Kernel: 5.15 Compiler: gcc gcc (Ubuntu 11.4.0-1ubuntu1~22.04) 11.4.0 Windows Server 2022 Kernel: 10.0.20348.2031 Compiler: clang 15.0.7, gcc 14.1.0 (MinGW), and MSVC VS 19.39.33521 To view detailed results, visit: https://lab.dpdk.org/results/dashboard/patchsets/34532/ UNH-IOL DPDK Community Lab To manage your email subscriptions, visit: https://lab.dpdk.org/results/dashboard/preferences/subscriptions/