automatic DPDK test reports
 help / color / mirror / Atom feed
* |SUCCESS| pw158713-158715 [PATCH v7 3/3] dts: add performance test functions and support
       [not found] <20251113012732.1059669-4-probb@iol.unh.edu>
@ 2025-11-13  0:57 ` qemudev
  2025-11-13  1:02 ` qemudev
                   ` (6 subsequent siblings)
  7 siblings, 0 replies; 8+ messages in thread
From: qemudev @ 2025-11-13  0:57 UTC (permalink / raw)
  To: test-report

Test-Label: loongarch-compilation
Test-Status: SUCCESS
http://dpdk.org/patch/158715

_Compilation OK_

Submitter: Patrick Robb <probb@iol.unh.edu>
Date: Wed, 12 Nov 2025 20:27:30 -0500
DPDK git baseline: Repo:dpdk
  Branch: main
  CommitID: be0112878b4fc3a1b918370ed2fe615c52039d77

158713-158715 --> meson & ninja build successfully

Test environment and result as below:

+---------------------+----------------+
|     Environment     | compilation    |
+---------------------+----------------+
| Loongnix-Server 8.3 | PASS           |
+---------------------+----------------+

Loongnix-Server 8.3
    Kernel: 4.19.190+
    Compiler: gcc 8.3


^ permalink raw reply	[flat|nested] 8+ messages in thread

* |SUCCESS| pw158713-158715 [PATCH v7 3/3] dts: add performance test functions and support
       [not found] <20251113012732.1059669-4-probb@iol.unh.edu>
  2025-11-13  0:57 ` |SUCCESS| pw158713-158715 [PATCH v7 3/3] dts: add performance test functions and support qemudev
@ 2025-11-13  1:02 ` qemudev
  2025-11-13  1:29 ` |SUCCESS| pw158715 " checkpatch
                   ` (5 subsequent siblings)
  7 siblings, 0 replies; 8+ messages in thread
From: qemudev @ 2025-11-13  1:02 UTC (permalink / raw)
  To: test-report

Test-Label: loongarch-unit-testing
Test-Status: SUCCESS
http://dpdk.org/patch/158715

_Unit Testing PASS_

Submitter: Patrick Robb <probb@iol.unh.edu>
Date: Wed, 12 Nov 2025 20:27:30 -0500
DPDK git baseline: Repo:dpdk
  Branch: main
  CommitID: be0112878b4fc3a1b918370ed2fe615c52039d77

158713-158715 --> testing pass

Test environment and result as below:

+---------------------+----------------+
|     Environment     | dpdk_unit_test |
+---------------------+----------------+
| Loongnix-Server 8.3 | PASS           |
+---------------------+----------------+

Loongnix-Server 8.3
    Kernel: 4.19.190+
    Compiler: gcc 8.3


Test result details:
  1/120 DPDK:fast-tests / acl_autotest                            OK              3.37s
  2/120 DPDK:fast-tests / alarm_autotest                          OK              1.66s
  3/120 DPDK:fast-tests / argparse_autotest                       OK              0.66s
  4/120 DPDK:fast-tests / atomic_autotest                         OK              6.93s
  5/120 DPDK:fast-tests / bitcount_autotest                       OK              0.67s
  6/120 DPDK:fast-tests / bitmap_autotest                         OK              0.67s
  7/120 DPDK:fast-tests / bitops_autotest                         OK              2.17s
  8/120 DPDK:fast-tests / bitratestats_autotest                   OK              0.67s
  9/120 DPDK:fast-tests / bitset_autotest                         OK              3.43s
 10/120 DPDK:fast-tests / bpf_autotest                            OK              0.66s
 11/120 DPDK:fast-tests / bpf_convert_autotest                    OK              0.67s
 12/120 DPDK:fast-tests / byteorder_autotest                      OK              0.67s
 13/120 DPDK:fast-tests / cfgfile_autotest                        OK              0.67s
 14/120 DPDK:fast-tests / cksum_autotest                          OK              0.67s
 15/120 DPDK:fast-tests / cmdline_autotest                        OK              0.67s
 16/120 DPDK:fast-tests / common_autotest                         OK              1.40s
 17/120 DPDK:fast-tests / compressdev_autotest                    SKIP            0.08s   exit status 77
 18/120 DPDK:fast-tests / cpuflags_autotest                       OK              0.57s
 19/120 DPDK:fast-tests / crc_autotest                            OK              0.68s
 20/120 DPDK:fast-tests / user_delay_us                           OK              0.67s
 21/120 DPDK:fast-tests / debug_autotest                          OK             23.07s
 22/120 DPDK:fast-tests / devargs_autotest                        OK              0.67s
 23/120 DPDK:fast-tests / dispatcher_autotest                     OK              2.58s
 24/120 DPDK:fast-tests / distributor_autotest                    OK              1.22s
 25/120 DPDK:fast-tests / eal_flags_c_opt_autotest                OK              1.13s
 26/120 DPDK:fast-tests / eal_flags_main_opt_autotest             OK              0.29s
 27/120 DPDK:fast-tests / eal_flags_n_opt_autotest                OK              0.26s
 28/120 DPDK:fast-tests / eal_flags_hpet_autotest                 OK              0.17s
 29/120 DPDK:fast-tests / eal_flags_no_huge_autotest              OK              0.26s
 30/120 DPDK:fast-tests / eal_flags_a_opt_autotest                OK              0.41s
 31/120 DPDK:fast-tests / eal_flags_b_opt_autotest                OK              0.34s
 32/120 DPDK:fast-tests / eal_flags_vdev_opt_autotest             OK              0.25s
 33/120 DPDK:fast-tests / eal_flags_r_opt_autotest                OK              0.25s
 34/120 DPDK:fast-tests / eal_flags_mem_autotest                  OK              0.71s
 35/120 DPDK:fast-tests / eal_flags_file_prefix_autotest          OK             22.32s
 36/120 DPDK:fast-tests / eal_flags_misc_autotest                 OK              1.33s
 37/120 DPDK:fast-tests / eal_fs_autotest                         OK              0.73s
 38/120 DPDK:fast-tests / errno_autotest                          OK              0.73s
 39/120 DPDK:fast-tests / ethdev_link_status                      OK              0.64s
 40/120 DPDK:fast-tests / event_eth_tx_adapter_autotest           OK              1.71s
 41/120 DPDK:fast-tests / event_ring_autotest                     OK              0.63s
 42/120 DPDK:fast-tests / eventdev_common_autotest                OK              0.62s
 43/120 DPDK:fast-tests / eventdev_selftest_sw                    OK              7.61s
 44/120 DPDK:fast-tests / fbarray_autotest                        OK              0.63s
 45/120 DPDK:fast-tests / fib_autotest                            OK              1.45s
 46/120 DPDK:fast-tests / fib6_autotest                           OK              1.44s
 47/120 DPDK:fast-tests / func_reentrancy_autotest                OK              2.13s
 48/120 DPDK:fast-tests / graph_autotest                          OK              0.63s
 49/120 DPDK:fast-tests / node_list_dump                          OK              0.51s
 50/120 DPDK:fast-tests / graph_feature_arc_autotest              OK              0.51s
 51/120 DPDK:fast-tests / hash_autotest                           OK              1.13s
 52/120 DPDK:fast-tests / hash_readwrite_func_autotest            OK              0.12s
 53/120 DPDK:fast-tests / interrupt_autotest                      OK              1.85s
 54/120 DPDK:fast-tests / ipfrag_autotest                         OK              0.08s
 55/120 DPDK:fast-tests / ipsec_autotest                          SKIP            0.55s   exit status 77
 56/120 DPDK:fast-tests / kvargs_autotest                         OK              0.54s
 57/120 DPDK:fast-tests / latencystats_autotest                   OK              0.54s
 58/120 DPDK:fast-tests / lcore_var_autotest                      OK              0.69s
 59/120 DPDK:fast-tests / lcores_autotest                         OK              5.35s
 60/120 DPDK:fast-tests / logs_autotest                           OK              0.54s
 61/120 DPDK:fast-tests / lpm_autotest                            OK              2.58s
 62/120 DPDK:fast-tests / lpm6_autotest                           OK              5.68s
 63/120 DPDK:fast-tests / malloc_autotest                         OK             59.74s
 64/120 DPDK:fast-tests / mbuf_autotest                           OK              4.77s
 65/120 DPDK:fast-tests / mcslock_autotest                        OK              3.67s
 66/120 DPDK:fast-tests / member_autotest                         OK              1.74s
 67/120 DPDK:fast-tests / memcpy_autotest                         OK              7.00s
 68/120 DPDK:fast-tests / memory_autotest                         OK              0.09s
 69/120 DPDK:fast-tests / mempool_autotest                        OK              0.44s
 70/120 DPDK:fast-tests / memzone_autotest                        OK              0.15s
 71/120 DPDK:fast-tests / meter_autotest                          OK              0.54s
 72/120 DPDK:fast-tests / metrics_autotest                        OK              0.54s
 73/120 DPDK:fast-tests / multiprocess_autotest                   OK              0.23s
 74/120 DPDK:fast-tests / net_ether_autotest                      OK              1.20s
 75/120 DPDK:fast-tests / net_ipv6_autotest                       OK              0.54s
 76/120 DPDK:fast-tests / pcapng_autotest                         OK              6.04s
 77/120 DPDK:fast-tests / pdcp_autotest                           SKIP            0.07s   exit status 77
 78/120 DPDK:fast-tests / pdump_autotest                          OK              0.67s
 79/120 DPDK:fast-tests / per_lcore_autotest                      OK              0.64s
 80/120 DPDK:fast-tests / pflock_autotest                         OK              1.35s
 81/120 DPDK:fast-tests / pie_autotest                            OK              0.54s
 82/120 DPDK:fast-tests / ring_pmd_autotest                       OK              0.54s
 83/120 DPDK:fast-tests / power_autotest                          OK              0.54s
 84/120 DPDK:fast-tests / power_cpufreq_autotest                  SKIP            0.07s   exit status 77
 85/120 DPDK:fast-tests / power_intel_uncore_autotest             SKIP            0.54s   exit status 77
 86/120 DPDK:fast-tests / power_kvm_vm_autotest                   SKIP            0.07s   exit status 77
 87/120 DPDK:fast-tests / prefetch_autotest                       OK              0.54s
 88/120 DPDK:fast-tests / ptr_compress_autotest                   OK              0.54s
 89/120 DPDK:fast-tests / rawdev_autotest                         OK              0.54s
 90/120 DPDK:fast-tests / rcu_qsbr_autotest                       OK              1.06s
 91/120 DPDK:fast-tests / reorder_autotest                        OK              0.59s
 92/120 DPDK:fast-tests / rib_autotest                            OK              9.18s
 93/120 DPDK:fast-tests / rib6_autotest                           OK              9.18s
 94/120 DPDK:fast-tests / ring_autotest                           OK              0.57s
 95/120 DPDK:fast-tests / rwlock_test1_autotest                   OK              1.28s
 96/120 DPDK:fast-tests / rwlock_rda_autotest                     OK              5.54s
 97/120 DPDK:fast-tests / rwlock_rds_wrm_autotest                 OK              5.59s
 98/120 DPDK:fast-tests / rwlock_rde_wro_autotest                 OK              5.54s
 99/120 DPDK:fast-tests / sched_autotest                          OK              0.54s
100/120 DPDK:fast-tests / security_autotest                       OK              0.07s
101/120 DPDK:fast-tests / seqlock_autotest                        OK              2.54s
102/120 DPDK:fast-tests / service_autotest                        OK              3.24s
103/120 DPDK:fast-tests / soring_autotest                         OK              0.54s
104/120 DPDK:fast-tests / spinlock_autotest                       OK              0.61s
105/120 DPDK:fast-tests / stack_autotest                          OK              0.87s
106/120 DPDK:fast-tests / stack_lf_autotest                       SKIP            0.06s   exit status 77
107/120 DPDK:fast-tests / string_autotest                         OK              0.54s
108/120 DPDK:fast-tests / table_autotest                          OK              7.55s
109/120 DPDK:fast-tests / tailq_autotest                          OK              0.43s
110/120 DPDK:fast-tests / telemetry_data_autotest                 OK              0.44s
111/120 DPDK:fast-tests / telemetry_json_autotest                 OK              0.43s
112/120 DPDK:fast-tests / thash_autotest                          OK              0.45s
113/120 DPDK:fast-tests / threads_autotest                        OK              0.63s
114/120 DPDK:fast-tests / ticketlock_autotest                     OK              0.57s
115/120 DPDK:fast-tests / timer_autotest                          OK              3.97s
116/120 DPDK:fast-tests / trace_autotest                          OK              0.43s
117/120 DPDK:fast-tests / trace_autotest_with_traces              OK              0.44s
118/120 DPDK:fast-tests / vdev_autotest                           OK              0.43s
119/120 DPDK:fast-tests / version_autotest                        OK              0.43s
120/120 DPDK:fast-tests / telemetry_all                           OK             19.46s


Ok:                 113
Expected Fail:      0
Fail:               0
Unexpected Pass:    0
Skipped:            7
Timeout:            0


^ permalink raw reply	[flat|nested] 8+ messages in thread

* |SUCCESS| pw158715 [PATCH v7 3/3] dts: add performance test functions and support
       [not found] <20251113012732.1059669-4-probb@iol.unh.edu>
  2025-11-13  0:57 ` |SUCCESS| pw158713-158715 [PATCH v7 3/3] dts: add performance test functions and support qemudev
  2025-11-13  1:02 ` qemudev
@ 2025-11-13  1:29 ` checkpatch
  2025-11-13  5:16 ` |SUCCESS| pw158713-158715 [PATCH] [v7,3/3] dts: add performance test dpdklab
                   ` (4 subsequent siblings)
  7 siblings, 0 replies; 8+ messages in thread
From: checkpatch @ 2025-11-13  1:29 UTC (permalink / raw)
  To: test-report

Test-Label: checkpatch
Test-Status: SUCCESS
http://dpdk.org/patch/158715

_coding style OK_



^ permalink raw reply	[flat|nested] 8+ messages in thread

* |SUCCESS| pw158713-158715 [PATCH] [v7,3/3] dts: add performance test
       [not found] <20251113012732.1059669-4-probb@iol.unh.edu>
                   ` (2 preceding siblings ...)
  2025-11-13  1:29 ` |SUCCESS| pw158715 " checkpatch
@ 2025-11-13  5:16 ` dpdklab
  2025-11-13  5:19 ` dpdklab
                   ` (3 subsequent siblings)
  7 siblings, 0 replies; 8+ messages in thread
From: dpdklab @ 2025-11-13  5:16 UTC (permalink / raw)
  To: Test Report; +Cc: dpdk-test-reports

Test-Label: iol-dts-check-format-testing
Test-Status: SUCCESS
http://dpdk.org/patch/158715

_Testing PASS_

Submitter: Patrick Robb <probb@iol.unh.edu>
Date: Thursday, November 13 2025 01:27:32 
DPDK git baseline: Repo:dpdk-next-dts
  Branch: master
  CommitID:8dcc93a520b22330e0ad59d360a4594b854f9ddd

158713-158715 --> testing pass

Upstream job id: DTS-Check-Format-Pipeline#138

Test environment and result as below:

+--------------+------------------+
| Environment  | dts-check-format |
+==============+==================+
| Ubuntu 24.04 | PASS             |
+--------------+------------------+


Ubuntu 24.04
	Kernel: 5.15
	Compiler: gcc gcc (Ubuntu 13.3.0-6ubuntu2~24.04) 13.3.0

To view detailed results, visit:
https://lab.dpdk.org/results/dashboard/patchsets/34561/

UNH-IOL DPDK Community Lab

To manage your email subscriptions, visit: 
https://lab.dpdk.org/results/dashboard/preferences/subscriptions/

^ permalink raw reply	[flat|nested] 8+ messages in thread

* |SUCCESS| pw158713-158715 [PATCH] [v7,3/3] dts: add performance test
       [not found] <20251113012732.1059669-4-probb@iol.unh.edu>
                   ` (3 preceding siblings ...)
  2025-11-13  5:16 ` |SUCCESS| pw158713-158715 [PATCH] [v7,3/3] dts: add performance test dpdklab
@ 2025-11-13  5:19 ` dpdklab
  2025-11-13  5:25 ` dpdklab
                   ` (2 subsequent siblings)
  7 siblings, 0 replies; 8+ messages in thread
From: dpdklab @ 2025-11-13  5:19 UTC (permalink / raw)
  To: Test Report; +Cc: dpdk-test-reports

Test-Label: iol-compile-amd64-testing
Test-Status: SUCCESS
http://dpdk.org/patch/158715

_Testing PASS_

Submitter: Patrick Robb <probb@iol.unh.edu>
Date: Thursday, November 13 2025 01:27:32 
DPDK git baseline: Repo:dpdk-next-dts
  Branch: master
  CommitID:8dcc93a520b22330e0ad59d360a4594b854f9ddd

158713-158715 --> testing pass

Upstream job id: Generic-VM-DPDK-Compile-Meson#39704

Test environment and result as below:

+--------------+--------------------+
| Environment  | dpdk_meson_compile |
+==============+====================+
| Ubuntu 20.04 | PASS               |
+--------------+--------------------+


Ubuntu 20.04
	Kernel: 4.19
	Compiler: gcc gcc (Ubuntu 9.4.0-1ubuntu1~20.04.2) 9.4.0

To view detailed results, visit:
https://lab.dpdk.org/results/dashboard/patchsets/34561/

UNH-IOL DPDK Community Lab

To manage your email subscriptions, visit: 
https://lab.dpdk.org/results/dashboard/preferences/subscriptions/

^ permalink raw reply	[flat|nested] 8+ messages in thread

* |SUCCESS| pw158713-158715 [PATCH] [v7,3/3] dts: add performance test
       [not found] <20251113012732.1059669-4-probb@iol.unh.edu>
                   ` (4 preceding siblings ...)
  2025-11-13  5:19 ` dpdklab
@ 2025-11-13  5:25 ` dpdklab
  2025-11-13  5:58 ` dpdklab
  2025-11-13  6:04 ` dpdklab
  7 siblings, 0 replies; 8+ messages in thread
From: dpdklab @ 2025-11-13  5:25 UTC (permalink / raw)
  To: Test Report; +Cc: dpdk-test-reports

Test-Label: iol-compile-amd64-testing
Test-Status: SUCCESS
http://dpdk.org/patch/158715

_Testing PASS_

Submitter: Patrick Robb <probb@iol.unh.edu>
Date: Thursday, November 13 2025 01:27:32 
DPDK git baseline: Repo:dpdk-next-dts
  Branch: master
  CommitID:8dcc93a520b22330e0ad59d360a4594b854f9ddd

158713-158715 --> testing pass

Upstream job id: Generic-VM-DPDK-Compile-Meson#39705

Test environment and result as below:

+--------------+--------------------+
| Environment  | dpdk_meson_compile |
+==============+====================+
| Ubuntu 20.04 | PASS               |
+--------------+--------------------+
| FreeBSD 14.2 | PASS               |
+--------------+--------------------+


Ubuntu 20.04
	Kernel: 4.19
	Compiler: gcc gcc (Ubuntu 9.4.0-1ubuntu1~20.04.2) 9.4.0

FreeBSD 14.2
	Kernel: 14.2-RELEASE
	Compiler: clang 18.1.6

To view detailed results, visit:
https://lab.dpdk.org/results/dashboard/patchsets/34561/

UNH-IOL DPDK Community Lab

To manage your email subscriptions, visit: 
https://lab.dpdk.org/results/dashboard/preferences/subscriptions/

^ permalink raw reply	[flat|nested] 8+ messages in thread

* |SUCCESS| pw158713-158715 [PATCH] [v7,3/3] dts: add performance test
       [not found] <20251113012732.1059669-4-probb@iol.unh.edu>
                   ` (5 preceding siblings ...)
  2025-11-13  5:25 ` dpdklab
@ 2025-11-13  5:58 ` dpdklab
  2025-11-13  6:04 ` dpdklab
  7 siblings, 0 replies; 8+ messages in thread
From: dpdklab @ 2025-11-13  5:58 UTC (permalink / raw)
  To: Test Report; +Cc: dpdk-test-reports

Test-Label: iol-sample-apps-testing
Test-Status: SUCCESS
http://dpdk.org/patch/158715

_Testing PASS_

Submitter: Patrick Robb <probb@iol.unh.edu>
Date: Thursday, November 13 2025 01:27:32 
DPDK git baseline: Repo:dpdk-next-dts
  Branch: master
  CommitID:8dcc93a520b22330e0ad59d360a4594b854f9ddd

158713-158715 --> testing pass

Upstream job id: Template-DTS-Pipeline#254460

Test environment and result as below:

+--------------+----------------------+
| Environment  | compressdev_zlib_pmd |
+==============+======================+
| Ubuntu 22.04 | PASS                 |
+--------------+----------------------+


Ubuntu 22.04
	Kernel: 5.15
	Compiler: gcc gcc (Ubuntu 11.4.0-1ubuntu1~22.04.2) 11.4.0

To view detailed results, visit:
https://lab.dpdk.org/results/dashboard/patchsets/34561/

UNH-IOL DPDK Community Lab

To manage your email subscriptions, visit: 
https://lab.dpdk.org/results/dashboard/preferences/subscriptions/

^ permalink raw reply	[flat|nested] 8+ messages in thread

* |SUCCESS| pw158713-158715 [PATCH] [v7,3/3] dts: add performance test
       [not found] <20251113012732.1059669-4-probb@iol.unh.edu>
                   ` (6 preceding siblings ...)
  2025-11-13  5:58 ` dpdklab
@ 2025-11-13  6:04 ` dpdklab
  7 siblings, 0 replies; 8+ messages in thread
From: dpdklab @ 2025-11-13  6:04 UTC (permalink / raw)
  To: Test Report; +Cc: dpdk-test-reports

Test-Label: iol-marvell-Functional
Test-Status: SUCCESS
http://dpdk.org/patch/158715

_Functional Testing PASS_

Submitter: Patrick Robb <probb@iol.unh.edu>
Date: Thursday, November 13 2025 01:27:32 
DPDK git baseline: Repo:dpdk-next-dts
  Branch: master
  CommitID:8dcc93a520b22330e0ad59d360a4594b854f9ddd

158713-158715 --> functional testing pass

Upstream job id: Template-DTS-Pipeline#254458

Test environment and result as below:

Ubuntu 20.04.6
Kernel: 5.4.105
Compiler: gcc 9.4
NIC: Marvell CN106XX 50000 Mbps
Target: arm64-native-linuxapp-gcc

Aggregate Results by Test Suite
+----------------+--------+
|   Test Suite   | Result |
+================+========+
| cmdline        |  PASS  |
+----------------+--------+
| dynamic_queue  |  PASS  |
+----------------+--------+
| rxtx_callbacks |  PASS  |
+----------------+--------+


To view detailed results, visit:
https://lab.dpdk.org/results/dashboard/patchsets/34561/

UNH-IOL DPDK Community Lab

To manage your email subscriptions, visit: 
https://lab.dpdk.org/results/dashboard/preferences/subscriptions/

^ permalink raw reply	[flat|nested] 8+ messages in thread

end of thread, other threads:[~2025-11-13  6:04 UTC | newest]

Thread overview: 8+ messages (download: mbox.gz / follow: Atom feed)
-- links below jump to the message on this page --
     [not found] <20251113012732.1059669-4-probb@iol.unh.edu>
2025-11-13  0:57 ` |SUCCESS| pw158713-158715 [PATCH v7 3/3] dts: add performance test functions and support qemudev
2025-11-13  1:02 ` qemudev
2025-11-13  1:29 ` |SUCCESS| pw158715 " checkpatch
2025-11-13  5:16 ` |SUCCESS| pw158713-158715 [PATCH] [v7,3/3] dts: add performance test dpdklab
2025-11-13  5:19 ` dpdklab
2025-11-13  5:25 ` dpdklab
2025-11-13  5:58 ` dpdklab
2025-11-13  6:04 ` dpdklab

This is a public inbox, see mirroring instructions
for how to clone and mirror all data and code used for this inbox;
as well as URLs for NNTP newsgroup(s).