From mboxrd@z Thu Jan 1 00:00:00 1970 Return-Path: Received: from mails.dpdk.org (mails.dpdk.org [217.70.189.124]) by inbox.dpdk.org (Postfix) with ESMTP id 3767348AF6 for ; Thu, 13 Nov 2025 06:24:13 +0100 (CET) Received: from mails.dpdk.org (localhost [127.0.0.1]) by mails.dpdk.org (Postfix) with ESMTP id 156434003C; Thu, 13 Nov 2025 06:24:13 +0100 (CET) Received: from mail-io1-f97.google.com (mail-io1-f97.google.com [209.85.166.97]) by mails.dpdk.org (Postfix) with ESMTP id 7646E4003C for ; Thu, 13 Nov 2025 06:24:11 +0100 (CET) Received: by mail-io1-f97.google.com with SMTP id ca18e2360f4ac-94895f6b144so23321339f.0 for ; Wed, 12 Nov 2025 21:24:11 -0800 (PST) DKIM-Signature: v=1; a=rsa-sha256; c=relaxed/relaxed; d=iol.unh.edu; s=unh-iol; t=1763011450; x=1763616250; darn=dpdk.org; h=references:in-reply-to:cc:to:from:subject:message-id:date:from:to :cc:subject:date:message-id:reply-to; bh=53XQTOhUcxNM3DioXhoYOx/SB6OF+3bYyWzxwYg6POs=; b=UqVUfF8Frr4oXY9A7sr63JTMYNHWy4ViVikJVw83R0u4liFwFj0DDpfn6TQscXA0ZY LagsOW/pYWq8eoMIA8a0bwuj8BlCSZt/DYZRJ1PpcFbgY1LirwT23hojVQTKpVcbxsRL xFNqbNBbXzA/zuhmdEdFFV2kpSTSVFJLbQYxc= X-Google-DKIM-Signature: v=1; a=rsa-sha256; c=relaxed/relaxed; d=1e100.net; s=20230601; t=1763011450; x=1763616250; h=references:in-reply-to:cc:to:from:subject:message-id:date:x-gm-gg :x-gm-message-state:from:to:cc:subject:date:message-id:reply-to; bh=53XQTOhUcxNM3DioXhoYOx/SB6OF+3bYyWzxwYg6POs=; b=Vk7cv9oQ8vdStusE5WsiBBAGejADllmMyVrxg9Bhly1i9DppwLs+xzXAyCqg2N72+r mLWhz6Ss65tg3/4TCfP8hMMuJ87PVTjUKZTq4/dqPVgP8w+GV/hQe5xJBk4G5u3NIBNX QWahZIPnTCVlEI7r2qCjS605Pv7axD9r5wlL3lseC9Jafxp6lQIEq3L9GNLt3E4p8HsR ATN79KzKqYA6DxMzaiOfH3BtusoeRetOfkEH3oTTC4ZMBYzE0F2v/mSjUrFw/SxfjUpK 47IoLnwl+AQYShlbJa5qtg79fADqEq6YhR+kmJyS5x8/XC1jczjENfnvmFcSMZ7dJVH4 Nn1A== X-Gm-Message-State: AOJu0Yy+DgVPwgLwE4ncYEzfAYUGmaPg7l20doemx0YTsKcuOpMIk8fb UIU0dk5Zwt285V4+NrFLb34qN7CwWiquR3uta/sPk4PS7zBH8Xz3nkluw5gztWnYhYSObOMLwek +P3qDIA6ReJeIxJaiiKwCohk8jw4p2G3V1tyi/j/jntlR X-Gm-Gg: ASbGncug3v7k8ULgPRYUwTL90d/9fGEsuXsrvS3+20npNs9oHwQXu9/HOCi+Yoy0eDq 6fg7bhQ9Jxx+BpCRAdOGkBFTd6ZlArGESaiEn5UaCEpEnNZeZ+8wjHQeFH46x7LbotysoKllY/m xyDawVV4vYBL98DgALjsPKQ6AuJCQTAXUCEcFzlCXSFEH1sE3EBaK/HR7za+1RLVk43gJfq8l8A McJKMQAxywBesU3Zi/+7paFtOxA2FSaKvWmkWoTg6uvOzXAWNgBvGfG5carMdGUZGk2pDnxfKVi Ne2waHaGxE4tq/IKNzDeXBgIQcHb9U2Q/TzLrciqq9KdDlb3XVhJb1Wbuh7nYNLNUCVPvCg31vp ka1IbjNoqBVnNjPvop/UCNq1ZbGjr7Fo= X-Google-Smtp-Source: AGHT+IHBQAVxWT6HbdmvnoQSu2KBXLkCRN1GiZea8Zgi/d9B1c0p2KmQbbqoEBjup9dYUJXwTHLmLydB76Dx X-Received: by 2002:a05:6e02:1a6f:b0:433:794c:8480 with SMTP id e9e14a558f8ab-43473d1b858mr86262205ab.11.1763011450638; Wed, 12 Nov 2025 21:24:10 -0800 (PST) Received: from postal.iol.unh.edu (postal.iol.unh.edu. [132.177.123.84]) by smtp-relay.gmail.com with ESMTPS id 8926c6da1cb9f-5b7bd266587sm76963173.13.2025.11.12.21.24.10 (version=TLS1_2 cipher=ECDHE-ECDSA-AES128-GCM-SHA256 bits=128/128); Wed, 12 Nov 2025 21:24:10 -0800 (PST) X-Relaying-Domain: iol.unh.edu Date: Wed, 12 Nov 2025 21:24:10 -0800 (PST) Message-ID: <69156b7a.050a0220.2a2e34.41ccSMTPIN_ADDED_MISSING@mx.google.com> Received: from [172.21.0.2] (unknown [172.18.0.240]) by postal.iol.unh.edu (Postfix) with ESMTP id 274656051830; Thu, 13 Nov 2025 00:24:10 -0500 (EST) Subject: |SUCCESS| pw158655-158657 [PATCH] [v2,4/4] net/nbl: add IOVA mode ch From: dpdklab@iol.unh.edu To: Test Report Cc: dpdk-test-reports@iol.unh.edu, Stephen Hemminger In-Reply-To: <20251111113144.3567291-5-dimon.zhao@nebula-matrix.com> References: <20251111113144.3567291-5-dimon.zhao@nebula-matrix.com> Content-Type: text/plain X-BeenThere: test-report@dpdk.org X-Mailman-Version: 2.1.29 Precedence: list List-Id: automatic DPDK test reports List-Unsubscribe: , List-Archive: List-Post: List-Help: List-Subscribe: , Errors-To: test-report-bounces@dpdk.org Test-Label: iol-compile-amd64-testing Test-Status: SUCCESS http://dpdk.org/patch/158657 _Testing PASS_ Submitter: Dimon Zhao Date: Tuesday, November 11 2025 11:31:43 DPDK git baseline: Repo:dpdk-next-net Branch: master CommitID:591ee7f468aebec30d68d30afa8d5e4dcfc897dc 158655-158657 --> testing pass Upstream job id: Windows-Compile-DPDK-VS#7501 Test environment and result as below: +-------------------------------+--------------------+------------------+-------------------+ | Environment | dpdk_meson_compile | dpdk_compile_ovs | dpdk_msvc_compile | +===============================+====================+==================+===================+ | Ubuntu 20.04 | PASS | SKIPPED | SKIPPED | +-------------------------------+--------------------+------------------+-------------------+ | FreeBSD 14.2 | PASS | SKIPPED | SKIPPED | +-------------------------------+--------------------+------------------+-------------------+ | CentOS Stream 9 | PASS | SKIPPED | SKIPPED | +-------------------------------+--------------------+------------------+-------------------+ | CentOS Stream 10 | PASS | SKIPPED | SKIPPED | +-------------------------------+--------------------+------------------+-------------------+ | Debian GNU/Linux 12 | PASS | SKIPPED | SKIPPED | +-------------------------------+--------------------+------------------+-------------------+ | Fedora Linux 42 | PASS | PASS | SKIPPED | +-------------------------------+--------------------+------------------+-------------------+ | Red Hat Enterprise Linux 8.10 | PASS | SKIPPED | SKIPPED | +-------------------------------+--------------------+------------------+-------------------+ | openSUSE Leap 15.6 | PASS | SKIPPED | SKIPPED | +-------------------------------+--------------------+------------------+-------------------+ | Red Hat Enterprise Linux 9.5 | PASS | SKIPPED | SKIPPED | +-------------------------------+--------------------+------------------+-------------------+ | Ubuntu 22.04 | PASS | SKIPPED | SKIPPED | +-------------------------------+--------------------+------------------+-------------------+ | Ubuntu 24.04 | PASS | PASS | SKIPPED | +-------------------------------+--------------------+------------------+-------------------+ | Alpine Linux 3.22.0 | PASS | SKIPPED | SKIPPED | +-------------------------------+--------------------+------------------+-------------------+ | Windows Server 2022 | SKIPPED | SKIPPED | PASS | +-------------------------------+--------------------+------------------+-------------------+ Ubuntu 20.04 Kernel: 4.19 Compiler: gcc gcc (Ubuntu 9.4.0-1ubuntu1~20.04.2) 9.4.0 FreeBSD 14.2 Kernel: 14.2-RELEASE Compiler: clang 18.1.6 CentOS Stream 9 Kernel: 5.15 Compiler: gcc gcc (GCC) 11.5.0 20240719 (Red Hat 11.5.0-11) CentOS Stream 10 Kernel: 5.15 Compiler: gcc gcc (GCC) 14.2.1 20250110 (Red Hat 14.2.1-8) Debian GNU/Linux 12 Kernel: 5.15 Compiler: gcc gcc (Debian 12.2.0-14+deb12u1) 12.2.0 Fedora Linux 42 Kernel: 5.15 Compiler: clang gcc (GCC) 15.2.1 20250808 (Red Hat 15.2.1-1) Red Hat Enterprise Linux 8.10 Kernel: 5.15 Compiler: gcc gcc (GCC) 8.5.0 20210514 (Red Hat 8.5.0-22) openSUSE Leap 15.6 Kernel: 5.15 Compiler: gcc gcc (SUSE Linux) 7.5.0 Red Hat Enterprise Linux 9.5 Kernel: 5.15 Compiler: gcc gcc (GCC) 11.5.0 20240719 (Red Hat 11.5.0-2) Ubuntu 22.04 Kernel: 5.15 Compiler: gcc gcc (Ubuntu 11.4.0-1ubuntu1~22.04) 11.4.0 Ubuntu 24.04 Kernel: 5.15 Compiler: gcc gcc (Ubuntu 13.3.0-6ubuntu2~24.04) 13.3.0 Alpine Linux 3.22.0 Kernel: 5.15 Compiler: gcc gcc (Alpine 14.2.0) 14.2.0 Windows Server 2022 Kernel: 10.0.20348.2031 Compiler: clang 15.0.7, gcc 14.1.0 (MinGW), and MSVC VS 19.39.33521 To view detailed results, visit: https://lab.dpdk.org/results/dashboard/patchsets/34534/ UNH-IOL DPDK Community Lab To manage your email subscriptions, visit: https://lab.dpdk.org/results/dashboard/preferences/subscriptions/