From mboxrd@z Thu Jan 1 00:00:00 1970 Return-Path: Received: from mails.dpdk.org (mails.dpdk.org [217.70.189.124]) by inbox.dpdk.org (Postfix) with ESMTP id 347DE48AF6 for ; Thu, 13 Nov 2025 06:24:59 +0100 (CET) Received: from mails.dpdk.org (localhost [127.0.0.1]) by mails.dpdk.org (Postfix) with ESMTP id 2EE244003C; Thu, 13 Nov 2025 06:24:59 +0100 (CET) Received: from mail-qk1-f226.google.com (mail-qk1-f226.google.com [209.85.222.226]) by mails.dpdk.org (Postfix) with ESMTP id 53F504003C for ; Thu, 13 Nov 2025 06:24:57 +0100 (CET) Received: by mail-qk1-f226.google.com with SMTP id af79cd13be357-8b29ff9d18cso46853085a.3 for ; Wed, 12 Nov 2025 21:24:57 -0800 (PST) DKIM-Signature: v=1; a=rsa-sha256; c=relaxed/relaxed; d=iol.unh.edu; s=unh-iol; t=1763011497; x=1763616297; darn=dpdk.org; h=references:in-reply-to:cc:to:from:subject:message-id:date:from:to :cc:subject:date:message-id:reply-to; bh=IF2N3dR3iY+dmGBcbrPo5oH+9NvVzWEOabdsr+HC3SY=; b=astSCY9qOwD8b1NESB0GHrIELcIBUvb03PONxa8PFcGhzdsOHkppJ55m3h7v4pRRP7 OjobDadoVkqGFwdML4o7fPGASDiSU2eovITq6GRb1UA7kjahOZNDcL1negAayMZQOO8p XlFwYoUQuUswmYOE0i9uWh9THVXY/30cw0KTQ= X-Google-DKIM-Signature: v=1; a=rsa-sha256; c=relaxed/relaxed; d=1e100.net; s=20230601; t=1763011497; x=1763616297; h=references:in-reply-to:cc:to:from:subject:message-id:date:x-gm-gg :x-gm-message-state:from:to:cc:subject:date:message-id:reply-to; bh=IF2N3dR3iY+dmGBcbrPo5oH+9NvVzWEOabdsr+HC3SY=; b=aMVUPtHdVIEJUq9y5xMgMH+u65L4prE7WMzpM6KRrvE7lciy+5GNoFqormIxfk7MPo HMSj3fEkHT6LZXRQVizN4XB7Goa6j4D/5zilVc4ufrfmztmmXYMqCWNoQXyp0wRqXy6A ATTC0Q9qda1c1gVjgEQO2SaExLkfNBmds0jfsAI/ZR5CW6qQYvEGHSXsmqol3ZZaAlRq EkVyol+2/3qhCv2q1ilXpK1O8epY3t6FEyI/fBRoe5NKafZ7erraFhG4F4HakLCkOIcy Tdjzwh67Jb8vaTNWE/iV+QmxdRtzZy3lroNcg7G3g4gwNKnB7fELc4xuWlvekO28ekGJ sXug== X-Gm-Message-State: AOJu0YxkaYbdAokop0vHALn2SvbwMR+yZET4Yv9YudmKz6vrSDdY6zeu l3v0t24EXVSpEmKnYhosxcB8yKrzbSP/68iO+SjBjLIFjwBNOAwZeaf1Ju/f4bbTUt4mxqsbsuG PqXXefUs2NPNRPzgKn4x0dZ206i2oQZ+OB5UlBdKObs+d X-Gm-Gg: ASbGncseMHFhLFJTzrVM5HUscTXFRCGIVo6Km+/bJNrmlaFyTGiawhaM1ZCDJyTiBZW vldPm5uOswsapY/Lwf/szr2VP533ofilKnTbwVLFfhQAG7KFHFtNzEn2AhzJn2vRlmp3Jmdxdlu Epz1KRGlncCzh9yiXJf9oBrRSwZcfN9qQ8VgniIGc2zAt2QbWesBj7lOE+DUgxlIiBgMPuMjgCQ 8vuDb04zlIzwkNt9Or4/pcz6YUXNfOzbUZyb4KcxaOu+Gp6X22o6pWDqN3iofAlZjbQ3kJtP/0w eY4OSqklDX7VnNfPF9B27g1IASfCL9QG+7bH5eqxEgUf/LbeA/EeWA+zzUd6Qqa26ZAdFGN+5IU MDCmyp23JdnsE67k8Lkl4Q5znc7wUCL8= X-Google-Smtp-Source: AGHT+IHK8hxgSF4+WzvMskpw7zx0esxDP2ttxHvdXJt8vCFnq44J5243celQJl8I/BNBnAVEeS8j1gOV1AZU X-Received: by 2002:a05:6214:29e7:b0:882:4be6:9ab9 with SMTP id 6a1803df08f44-88271a3c10emr87427106d6.54.1763011496656; Wed, 12 Nov 2025 21:24:56 -0800 (PST) Received: from postal.iol.unh.edu (postal.iol.unh.edu. [132.177.123.84]) by smtp-relay.gmail.com with ESMTPS id 6a1803df08f44-88286539c4csm992596d6.17.2025.11.12.21.24.56 (version=TLS1_2 cipher=ECDHE-ECDSA-AES128-GCM-SHA256 bits=128/128); Wed, 12 Nov 2025 21:24:56 -0800 (PST) X-Relaying-Domain: iol.unh.edu Date: Wed, 12 Nov 2025 21:24:56 -0800 (PST) Message-ID: <69156ba8.050a0220.2d30a2.5069SMTPIN_ADDED_MISSING@mx.google.com> Received: from [172.21.0.2] (unknown [172.18.0.240]) by postal.iol.unh.edu (Postfix) with ESMTP id 639586051830; Thu, 13 Nov 2025 00:24:56 -0500 (EST) Subject: |SUCCESS| pw158644 [PATCH] [v2] net/mlx5: fix spurious CPU wakeups c From: dpdklab@iol.unh.edu To: Test Report Cc: dpdk-test-reports@iol.unh.edu In-Reply-To: <20251111034057.3177641-1-sivaprasad.tummala@amd.com> References: <20251111034057.3177641-1-sivaprasad.tummala@amd.com> Content-Type: text/plain X-BeenThere: test-report@dpdk.org X-Mailman-Version: 2.1.29 Precedence: list List-Id: automatic DPDK test reports List-Unsubscribe: , List-Archive: List-Post: List-Help: List-Subscribe: , Errors-To: test-report-bounces@dpdk.org Test-Label: iol-compile-amd64-testing Test-Status: SUCCESS http://dpdk.org/patch/158644 _Testing PASS_ Submitter: Sivaprasad Tummala Date: Tuesday, November 11 2025 03:40:57 DPDK git baseline: Repo:dpdk-next-net-mlx Branch: master CommitID:9f99559f7b850add599b7cff247d8b4e28c9b71a 158644 --> testing pass Upstream job id: Windows-Compile-DPDK-Native#32279 Test environment and result as below: +-------------------------------+--------------------+------------------+-------------------+-------------------------+----------------------+ | Environment | dpdk_meson_compile | dpdk_compile_ovs | dpdk_msvc_compile | dpdk_llvm_clang_compile | dpdk_mingw64_compile | +===============================+====================+==================+===================+=========================+======================+ | Fedora Linux 42 | PASS | PASS | SKIPPED | SKIPPED | SKIPPED | +-------------------------------+--------------------+------------------+-------------------+-------------------------+----------------------+ | CentOS Stream 9 | PASS | SKIPPED | SKIPPED | SKIPPED | SKIPPED | +-------------------------------+--------------------+------------------+-------------------+-------------------------+----------------------+ | CentOS Stream 10 | PASS | SKIPPED | SKIPPED | SKIPPED | SKIPPED | +-------------------------------+--------------------+------------------+-------------------+-------------------------+----------------------+ | Debian GNU/Linux 12 | PASS | SKIPPED | SKIPPED | SKIPPED | SKIPPED | +-------------------------------+--------------------+------------------+-------------------+-------------------------+----------------------+ | openSUSE Leap 15.6 | PASS | SKIPPED | SKIPPED | SKIPPED | SKIPPED | +-------------------------------+--------------------+------------------+-------------------+-------------------------+----------------------+ | Red Hat Enterprise Linux 9.5 | PASS | SKIPPED | SKIPPED | SKIPPED | SKIPPED | +-------------------------------+--------------------+------------------+-------------------+-------------------------+----------------------+ | Red Hat Enterprise Linux 8.10 | PASS | SKIPPED | SKIPPED | SKIPPED | SKIPPED | +-------------------------------+--------------------+------------------+-------------------+-------------------------+----------------------+ | Ubuntu 20.04 | PASS | SKIPPED | SKIPPED | SKIPPED | SKIPPED | +-------------------------------+--------------------+------------------+-------------------+-------------------------+----------------------+ | FreeBSD 14.2 | PASS | SKIPPED | SKIPPED | SKIPPED | SKIPPED | +-------------------------------+--------------------+------------------+-------------------+-------------------------+----------------------+ | Ubuntu 22.04 | PASS | SKIPPED | SKIPPED | SKIPPED | SKIPPED | +-------------------------------+--------------------+------------------+-------------------+-------------------------+----------------------+ | Alpine Linux 3.22.0 | PASS | SKIPPED | SKIPPED | SKIPPED | SKIPPED | +-------------------------------+--------------------+------------------+-------------------+-------------------------+----------------------+ | Ubuntu 24.04 | PASS | PASS | SKIPPED | SKIPPED | SKIPPED | +-------------------------------+--------------------+------------------+-------------------+-------------------------+----------------------+ | Windows Server 2022 | SKIPPED | SKIPPED | PASS | PASS | PASS | +-------------------------------+--------------------+------------------+-------------------+-------------------------+----------------------+ Fedora Linux 42 Kernel: 5.15 Compiler: clang gcc (GCC) 15.2.1 20250808 (Red Hat 15.2.1-1) CentOS Stream 9 Kernel: 5.15 Compiler: gcc gcc (GCC) 11.5.0 20240719 (Red Hat 11.5.0-11) CentOS Stream 10 Kernel: 5.15 Compiler: gcc gcc (GCC) 14.2.1 20250110 (Red Hat 14.2.1-8) Debian GNU/Linux 12 Kernel: 5.15 Compiler: gcc gcc (Debian 12.2.0-14+deb12u1) 12.2.0 openSUSE Leap 15.6 Kernel: 5.15 Compiler: gcc gcc (SUSE Linux) 7.5.0 Red Hat Enterprise Linux 9.5 Kernel: 5.15 Compiler: gcc gcc (GCC) 11.5.0 20240719 (Red Hat 11.5.0-2) Red Hat Enterprise Linux 8.10 Kernel: 5.15 Compiler: gcc gcc (GCC) 8.5.0 20210514 (Red Hat 8.5.0-22) Ubuntu 20.04 Kernel: 5.15 Compiler: gcc gcc (Ubuntu 9.4.0-1ubuntu1~20.04.2) 9.4.0 FreeBSD 14.2 Kernel: 14.2-RELEASE Compiler: clang 18.1.6 Ubuntu 22.04 Kernel: 5.15 Compiler: gcc gcc (Ubuntu 11.4.0-1ubuntu1~22.04) 11.4.0 Alpine Linux 3.22.0 Kernel: 5.15 Compiler: gcc gcc (Alpine 14.2.0) 14.2.0 Ubuntu 24.04 Kernel: 5.15 Compiler: gcc gcc (Ubuntu 13.3.0-6ubuntu2~24.04) 13.3.0 Windows Server 2022 Kernel: 10.0.20348.2031 Compiler: clang 15.0.7, gcc 14.1.0 (MinGW), and MSVC VS 19.39.33521 To view detailed results, visit: https://lab.dpdk.org/results/dashboard/patchsets/34528/ UNH-IOL DPDK Community Lab To manage your email subscriptions, visit: https://lab.dpdk.org/results/dashboard/preferences/subscriptions/