From mboxrd@z Thu Jan 1 00:00:00 1970 Return-Path: Received: from mails.dpdk.org (mails.dpdk.org [217.70.189.124]) by inbox.dpdk.org (Postfix) with ESMTP id 16AD048AF6 for ; Thu, 13 Nov 2025 06:32:08 +0100 (CET) Received: from mails.dpdk.org (localhost [127.0.0.1]) by mails.dpdk.org (Postfix) with ESMTP id 11E8D4003C; Thu, 13 Nov 2025 06:32:08 +0100 (CET) Received: from mail-qk1-f226.google.com (mail-qk1-f226.google.com [209.85.222.226]) by mails.dpdk.org (Postfix) with ESMTP id 374B04003C for ; Thu, 13 Nov 2025 06:32:06 +0100 (CET) Received: by mail-qk1-f226.google.com with SMTP id af79cd13be357-8b22a30986fso46173785a.2 for ; Wed, 12 Nov 2025 21:32:06 -0800 (PST) DKIM-Signature: v=1; a=rsa-sha256; c=relaxed/relaxed; d=iol.unh.edu; s=unh-iol; t=1763011925; x=1763616725; darn=dpdk.org; h=references:in-reply-to:cc:to:from:subject:message-id:date:from:to :cc:subject:date:message-id:reply-to; bh=CvCSxDQ7tCBOuF32SWwi9c8lpawurLHeYKeLk5DON/k=; b=bHBnJXYDcL9ghVlCJTjna/pOEUzpgyLWClzPM5fBuFoCQHyKSd28GEXaYN1gV88xgb 564fozR+sh0O7Ja1u4rEP84xwQm+seRNVoZJi8ew1+JWE8fJHbVFhwpBJj/lCW6WJM2a vlX7vd7n/geBsofBAVAVrqYEMw7RmVBDfTkEM= X-Google-DKIM-Signature: v=1; a=rsa-sha256; c=relaxed/relaxed; d=1e100.net; s=20230601; t=1763011925; x=1763616725; h=references:in-reply-to:cc:to:from:subject:message-id:date:x-gm-gg :x-gm-message-state:from:to:cc:subject:date:message-id:reply-to; bh=CvCSxDQ7tCBOuF32SWwi9c8lpawurLHeYKeLk5DON/k=; b=fcku+e1Jxi/WdZQDSI+6L57E5JjWWfdJ5uODO3d6Qpcb6k+WZdegaTNm4nnYF+CEb7 pB80J4t6eDlIG0fubYx43ho+KWOSeAx+rXVMsM+LNreDzVggSwwCbrxQ25IwZ27fySdD LmZH2CroJwI0I3RakuC+LQPE8h9ZGbWClrOGphZERVJagOGKWJQkIC+asCyOQ1NPi4n7 DuwnAa2mVd51ztXChAMoUtRODRKaGexP7hCZU8nMeLqpBpWDH8J6nEn0Wx9h4zuX1DZn e+4JMjChmU805auBIKPKpuCY6Y9iwmUNl8lGiUEPm0k0hbiaBzxwolmwdzOpUSVGXmvJ IWGg== X-Gm-Message-State: AOJu0Yyk4DQ8/33YHUTE1A/bvEi8jdXEV+Ak3+zshD5edSSeADO/sl48 LDzqIybfeefTiK7w1/GTmm6QehPeHF/wiau0MXypVt8CTfNhU25uqx0F7m3WQF4bLtvn90+ZYh8 R9smO6mhPtg9oAHOBtKM4irzcQXLwyPmLpvItknlg4Nkscf1eADwyqOhCrg2/ X-Gm-Gg: ASbGncsLXBL9xMARhlU+/De3Pz4e4O/PJCGp+o7KEb+QPPWn2oGgPEdxY4uMI9YC4eN wAGA2Q/9tmS3kA7QHADIQ2CTKdCu0zDLu9e+3RuSWdCi7jr7L2EeVlP4n59NtFZt6qj8uCHyLUP jqMbWzW8m7u7+jqNHm0zjrZcpGGGa18+humK2iEpO8a4YZCLAJJ5bG0krvh4iwamSOjfXIGW6F+ miJbBBwmLQdUW1hpTnKuIcSPSEKse1g0TnCIqCXfZcFRe/+E14dUfDkBYiA9DTYGx6ZWsJ6zlFI 9beCWK1N2KX6VZW1nQQjUN2VPvffvzWUl0x4iXWT36w/IyYgNl5nL0K5fpNaN58VBt+n2zKKFWB JmpBxUkDx X-Google-Smtp-Source: AGHT+IEbA9kGJc2tiEXzmMyhFaoJdWj4R0cr+mIAwdKJWvKUfbxTY7yUnY6m8P++t0tA2ElhEm4CftLx9jpy X-Received: by 2002:a05:620a:190c:b0:8b2:9b5b:6ea1 with SMTP id af79cd13be357-8b29b8491afmr714256085a.87.1763011925604; Wed, 12 Nov 2025 21:32:05 -0800 (PST) Received: from postal.iol.unh.edu (postal.iol.unh.edu. [2606:4100:3880:1234::84]) by smtp-relay.gmail.com with ESMTPS id af79cd13be357-8b2aef25083sm8861085a.7.2025.11.12.21.32.05 (version=TLS1_2 cipher=ECDHE-ECDSA-AES128-GCM-SHA256 bits=128/128); Wed, 12 Nov 2025 21:32:05 -0800 (PST) X-Relaying-Domain: iol.unh.edu Date: Wed, 12 Nov 2025 21:32:05 -0800 (PST) Message-ID: <69156d55.050a0220.374929.4ad4SMTPIN_ADDED_MISSING@mx.google.com> Received: from [172.21.0.2] (unknown [172.18.0.240]) by postal.iol.unh.edu (Postfix) with ESMTP id 619116051830; Thu, 13 Nov 2025 00:32:05 -0500 (EST) Subject: |SUCCESS| pw158658-158662 [PATCH] [v4,5/5] vhost_user: Increase numb From: dpdklab@iol.unh.edu To: Test Report Cc: dpdk-test-reports@iol.unh.edu, Chenbo Xia , Maxime Coquelin In-Reply-To: <20251111114002.2902696-6-pravin.bathija@dell.com> References: <20251111114002.2902696-6-pravin.bathija@dell.com> Content-Type: text/plain X-BeenThere: test-report@dpdk.org X-Mailman-Version: 2.1.29 Precedence: list List-Id: automatic DPDK test reports List-Unsubscribe: , List-Archive: List-Post: List-Help: List-Subscribe: , Errors-To: test-report-bounces@dpdk.org Test-Label: iol-unit-amd64-testing Test-Status: SUCCESS http://dpdk.org/patch/158662 _Testing PASS_ Submitter: Bathija, Pravin Date: Tuesday, November 11 2025 11:40:02 DPDK git baseline: Repo:dpdk-next-virtio Branch: master CommitID:6b37c26a95388aa41bb5267c7c42f604fd571a38 158658-158662 --> testing pass Upstream job id: Generic-VM-Unit-Test-DPDK#32459 Test environment and result as below: +-------------------------------+----------------+ | Environment | dpdk_unit_test | +===============================+================+ | Fedora Linux 40 | PASS | +-------------------------------+----------------+ | Debian GNU/Linux 12 | PASS | +-------------------------------+----------------+ | Fedora Linux 41 | PASS | +-------------------------------+----------------+ | Fedora Linux 42 | PASS | +-------------------------------+----------------+ | CentOS Stream 9 | PASS | +-------------------------------+----------------+ | CentOS Stream 10 | PASS | +-------------------------------+----------------+ | Red Hat Enterprise Linux 8.10 | PASS | +-------------------------------+----------------+ | Ubuntu 22.04 | PASS | +-------------------------------+----------------+ | Ubuntu 24.04 | PASS | +-------------------------------+----------------+ | Red Hat Enterprise Linux 9.5 | PASS | +-------------------------------+----------------+ | Ubuntu 20.04 | PASS | +-------------------------------+----------------+ | Windows Server 2022 | PASS | +-------------------------------+----------------+ Fedora Linux 40 Kernel: 5.15 Compiler: clang gcc (GCC) 14.2.1 20240912 (Red Hat 14.2.1-3) Debian GNU/Linux 12 Kernel: 5.15 Compiler: gcc gcc (Debian 12.2.0-14+deb12u1) 12.2.0 Fedora Linux 41 Kernel: 5.15 Compiler: gcc gcc (GCC) 14.3.1 20250523 (Red Hat 14.3.1-1) Fedora Linux 42 Kernel: 5.15 Compiler: clang gcc (GCC) 15.2.1 20250808 (Red Hat 15.2.1-1) CentOS Stream 9 Kernel: 5.15 Compiler: gcc gcc (GCC) 11.5.0 20240719 (Red Hat 11.5.0-11) CentOS Stream 10 Kernel: 5.15 Compiler: gcc gcc (GCC) 14.2.1 20250110 (Red Hat 14.2.1-8) Red Hat Enterprise Linux 8.10 Kernel: 5.15 Compiler: gcc gcc (GCC) 8.5.0 20210514 (Red Hat 8.5.0-22) Ubuntu 22.04 Kernel: 5.15 Compiler: gcc gcc (Ubuntu 11.4.0-1ubuntu1~22.04) 11.4.0 Ubuntu 24.04 Kernel: 5.15 Compiler: gcc gcc (Ubuntu 13.3.0-6ubuntu2~24.04) 13.3.0 Red Hat Enterprise Linux 9.5 Kernel: 5.15 Compiler: gcc gcc (GCC) 11.5.0 20240719 (Red Hat 11.5.0-2) Ubuntu 20.04 Kernel: 5.15 Compiler: gcc gcc (Ubuntu 9.4.0-1ubuntu1~20.04.2) 9.4.0 Windows Server 2022 Kernel: 10.0.20348.2031 Compiler: clang 15.0.7, gcc 14.1.0 (MinGW), and MSVC VS 19.39.33521 To view detailed results, visit: https://lab.dpdk.org/results/dashboard/patchsets/34533/ UNH-IOL DPDK Community Lab To manage your email subscriptions, visit: https://lab.dpdk.org/results/dashboard/preferences/subscriptions/