From mboxrd@z Thu Jan 1 00:00:00 1970 Return-Path: Received: from mails.dpdk.org (mails.dpdk.org [217.70.189.124]) by inbox.dpdk.org (Postfix) with ESMTP id 64B8848AF6 for ; Thu, 13 Nov 2025 07:03:21 +0100 (CET) Received: from mails.dpdk.org (localhost [127.0.0.1]) by mails.dpdk.org (Postfix) with ESMTP id 5F7A94003C; Thu, 13 Nov 2025 07:03:21 +0100 (CET) Received: from mail-pl1-f225.google.com (mail-pl1-f225.google.com [209.85.214.225]) by mails.dpdk.org (Postfix) with ESMTP id 490A04003C for ; Thu, 13 Nov 2025 07:03:20 +0100 (CET) Received: by mail-pl1-f225.google.com with SMTP id d9443c01a7336-2955623e6faso3646705ad.1 for ; Wed, 12 Nov 2025 22:03:20 -0800 (PST) DKIM-Signature: v=1; a=rsa-sha256; c=relaxed/relaxed; d=iol.unh.edu; s=unh-iol; t=1763013799; x=1763618599; darn=dpdk.org; h=references:in-reply-to:cc:to:from:subject:message-id:date:from:to :cc:subject:date:message-id:reply-to; bh=PNJS0X7eM0IWJ+rYXSKyvLWSRRiOz45s/meK1GQXPzI=; b=CiKnT5gzHubfk/y4uT0JYYtNE+6Yu0ltasPWMKzIW33dvDVvPmZEVOyfEE143kC/Bh tZIG6WtySd8tFZLS+OJW37z6qQcOzujyIz1ujDxbyA5KjALxJGTCI6VEM1YLg2RR6BLi +9iuYgAdfB432QYUWXghHPsnX0/81UfpCUI7k= X-Google-DKIM-Signature: v=1; a=rsa-sha256; c=relaxed/relaxed; d=1e100.net; s=20230601; t=1763013799; x=1763618599; h=references:in-reply-to:cc:to:from:subject:message-id:date:x-gm-gg :x-gm-message-state:from:to:cc:subject:date:message-id:reply-to; bh=PNJS0X7eM0IWJ+rYXSKyvLWSRRiOz45s/meK1GQXPzI=; b=tl6H5VKoTvcm16QNnl6JcknyPHCtbPnO3AMdmxf8GJ5xvpZbmso3atvsIoxLOQ6fW+ 9Pzonb0OIRQ4/YyY256rUP0T1hhUGFTHchXBIPUwCKhz/m7bb1gXTXqV4hWtrU/+upfE 3xa0SGTJwhkJWww6YOl7SHwLJhtypurTIz+RLImIN1LUaJd1RO/2pxpUA2I0kBdBi9cu uNBaAlHYEZsT+9Rfpxx7xwm4u0YoaSxnWQWEE4FXrl3Z+T/9fmkVBYTM6xgI8N5K9hrf ZLpvZaUGorKRonITsYzroK8VS5hjoHwXE0ox/B9mA5UcAJldmCt5BU9Qlk9X5h7D+XfN Q46A== X-Gm-Message-State: AOJu0YxgZu4SWg+bmjFBim0R/N7yIRO9inpdfPkqSyXDOg0U/g+P4atX 9NtziXM0+TMUmK0qQlB95LspjaFBAkeEG8WyHRFNF9oKUQt8R72D5VN/U50QA78LND9xxZLYyNU lH2btXjq1iQNPpvkNsnXzY6HScapzsLoh5Rk0nZSJDs0N X-Gm-Gg: ASbGncv/PJa86govYwIc8R5LM0pXQFRD5MLS0sfK/ee0uNpjI8SwS8jcTIKwvfzNaTN FRST//qO2cDvFdu79T/0o6sLoHtTxBRpeRp5EBvXXWh207WOr2CXisPCW0TwjxyS+M8YJKRg/uq evnohEMTCVDC8ocLV1UnCq54gpNVrNb6nWe4SqsMQGMIpXSDm/O0shW+Dd44D+0aaTpn35JMa/z NYd57or5HLoj5NRKENg+wOWrKt5Oc//mSYgj0uOW5PCn/1bEbjlxIq9eQPw1x8nm2CAjJMrwKNo y18om5L6szlOn+WL6u/TMIS9fnxXchRIKrQHzMOGo6bstMtytHUs7Wx/TxsFadcxUyAhb7AOIF8 SLzUYLcHhydhHKvalTg3BtP+HpQyZ7Ho= X-Google-Smtp-Source: AGHT+IF1rwefx6GI/r0mqE9mx427CAzcl0tMXAwmO/BiRCCSLI7iVDSAS8G2DAwjfJ86NXzsrBMCR1jmdKWz X-Received: by 2002:a17:902:db0a:b0:295:24ab:fb06 with SMTP id d9443c01a7336-2984ed92172mr71433725ad.22.1763013799391; Wed, 12 Nov 2025 22:03:19 -0800 (PST) Received: from postal.iol.unh.edu (postal.iol.unh.edu. [132.177.123.84]) by smtp-relay.gmail.com with ESMTPS id d9443c01a7336-2985ff821c1sm258035ad.62.2025.11.12.22.03.19 (version=TLS1_2 cipher=ECDHE-ECDSA-AES128-GCM-SHA256 bits=128/128); Wed, 12 Nov 2025 22:03:19 -0800 (PST) X-Relaying-Domain: iol.unh.edu Date: Wed, 12 Nov 2025 22:03:19 -0800 (PST) Message-ID: <691574a7.170a0220.24ea6f.1759SMTPIN_ADDED_MISSING@mx.google.com> Received: from [172.21.0.2] (unknown [172.18.0.240]) by postal.iol.unh.edu (Postfix) with ESMTP id D88766051830; Thu, 13 Nov 2025 01:03:18 -0500 (EST) Subject: |SUCCESS| pw158663-158667 [PATCH] [v4,5/5] vhost_user: Increase numb From: dpdklab@iol.unh.edu To: Test Report Cc: dpdk-test-reports@iol.unh.edu, Chenbo Xia , Maxime Coquelin In-Reply-To: <20251111114521.2902867-6-pravin.bathija@dell.com> References: <20251111114521.2902867-6-pravin.bathija@dell.com> Content-Type: text/plain X-BeenThere: test-report@dpdk.org X-Mailman-Version: 2.1.29 Precedence: list List-Id: automatic DPDK test reports List-Unsubscribe: , List-Archive: List-Post: List-Help: List-Subscribe: , Errors-To: test-report-bounces@dpdk.org Test-Label: iol-compile-amd64-testing Test-Status: SUCCESS http://dpdk.org/patch/158667 _Testing PASS_ Submitter: Bathija, Pravin Date: Tuesday, November 11 2025 11:45:21 DPDK git baseline: Repo:dpdk-next-virtio Branch: master CommitID:6b37c26a95388aa41bb5267c7c42f604fd571a38 158663-158667 --> testing pass Upstream job id: Windows-Compile-DPDK-VS#7502 Test environment and result as below: +-------------------------------+--------------------+------------------+-------------------+ | Environment | dpdk_meson_compile | dpdk_compile_ovs | dpdk_msvc_compile | +===============================+====================+==================+===================+ | Ubuntu 20.04 | PASS | SKIPPED | SKIPPED | +-------------------------------+--------------------+------------------+-------------------+ | FreeBSD 14.2 | PASS | SKIPPED | SKIPPED | +-------------------------------+--------------------+------------------+-------------------+ | CentOS Stream 9 | PASS | SKIPPED | SKIPPED | +-------------------------------+--------------------+------------------+-------------------+ | CentOS Stream 10 | PASS | SKIPPED | SKIPPED | +-------------------------------+--------------------+------------------+-------------------+ | Debian GNU/Linux 12 | PASS | SKIPPED | SKIPPED | +-------------------------------+--------------------+------------------+-------------------+ | Fedora Linux 42 | PASS | PASS | SKIPPED | +-------------------------------+--------------------+------------------+-------------------+ | openSUSE Leap 15.6 | PASS | SKIPPED | SKIPPED | +-------------------------------+--------------------+------------------+-------------------+ | Red Hat Enterprise Linux 8.10 | PASS | SKIPPED | SKIPPED | +-------------------------------+--------------------+------------------+-------------------+ | Red Hat Enterprise Linux 9.5 | PASS | SKIPPED | SKIPPED | +-------------------------------+--------------------+------------------+-------------------+ | Ubuntu 22.04 | PASS | SKIPPED | SKIPPED | +-------------------------------+--------------------+------------------+-------------------+ | Ubuntu 24.04 | PASS | PASS | SKIPPED | +-------------------------------+--------------------+------------------+-------------------+ | Alpine Linux 3.22.0 | PASS | SKIPPED | SKIPPED | +-------------------------------+--------------------+------------------+-------------------+ | Windows Server 2022 | SKIPPED | SKIPPED | PASS | +-------------------------------+--------------------+------------------+-------------------+ Ubuntu 20.04 Kernel: 4.19 Compiler: gcc gcc (Ubuntu 9.4.0-1ubuntu1~20.04.2) 9.4.0 FreeBSD 14.2 Kernel: 14.2-RELEASE Compiler: clang 18.1.6 CentOS Stream 9 Kernel: 5.15 Compiler: gcc gcc (GCC) 11.5.0 20240719 (Red Hat 11.5.0-11) CentOS Stream 10 Kernel: 5.15 Compiler: gcc gcc (GCC) 14.2.1 20250110 (Red Hat 14.2.1-8) Debian GNU/Linux 12 Kernel: 5.15 Compiler: gcc gcc (Debian 12.2.0-14+deb12u1) 12.2.0 Fedora Linux 42 Kernel: 5.15 Compiler: clang gcc (GCC) 15.2.1 20250808 (Red Hat 15.2.1-1) openSUSE Leap 15.6 Kernel: 5.15 Compiler: gcc gcc (SUSE Linux) 7.5.0 Red Hat Enterprise Linux 8.10 Kernel: 5.15 Compiler: gcc gcc (GCC) 8.5.0 20210514 (Red Hat 8.5.0-22) Red Hat Enterprise Linux 9.5 Kernel: 5.15 Compiler: gcc gcc (GCC) 11.5.0 20240719 (Red Hat 11.5.0-2) Ubuntu 22.04 Kernel: 5.15 Compiler: gcc gcc (Ubuntu 11.4.0-1ubuntu1~22.04) 11.4.0 Ubuntu 24.04 Kernel: 5.15 Compiler: gcc gcc (Ubuntu 13.3.0-6ubuntu2~24.04) 13.3.0 Alpine Linux 3.22.0 Kernel: 5.15 Compiler: gcc gcc (Alpine 14.2.0) 14.2.0 Windows Server 2022 Kernel: 10.0.20348.2031 Compiler: clang 15.0.7, gcc 14.1.0 (MinGW), and MSVC VS 19.39.33521 To view detailed results, visit: https://lab.dpdk.org/results/dashboard/patchsets/34535/ UNH-IOL DPDK Community Lab To manage your email subscriptions, visit: https://lab.dpdk.org/results/dashboard/preferences/subscriptions/