From mboxrd@z Thu Jan 1 00:00:00 1970 Return-Path: Received: from mails.dpdk.org (mails.dpdk.org [217.70.189.124]) by inbox.dpdk.org (Postfix) with ESMTP id CB2AC48AF6 for ; Thu, 13 Nov 2025 07:06:29 +0100 (CET) Received: from mails.dpdk.org (localhost [127.0.0.1]) by mails.dpdk.org (Postfix) with ESMTP id C60454003C; Thu, 13 Nov 2025 07:06:29 +0100 (CET) Received: from mail-qv1-f99.google.com (mail-qv1-f99.google.com [209.85.219.99]) by mails.dpdk.org (Postfix) with ESMTP id C7F684003C for ; Thu, 13 Nov 2025 07:06:28 +0100 (CET) Received: by mail-qv1-f99.google.com with SMTP id 6a1803df08f44-8823e39c581so5921766d6.3 for ; Wed, 12 Nov 2025 22:06:28 -0800 (PST) DKIM-Signature: v=1; a=rsa-sha256; c=relaxed/relaxed; d=iol.unh.edu; s=unh-iol; t=1763013988; x=1763618788; darn=dpdk.org; h=references:in-reply-to:cc:to:from:subject:message-id:date:from:to :cc:subject:date:message-id:reply-to; bh=IAWoDdMx/lFSWLoJ8G32SdxQqfAZSSJdhbfHeSeVyoc=; b=R3APWYvx9XwJpqk5zeF2GfGIqvOKdyz+JYbI15eUAw/Q8f0owX88vlatE1cE3ZmGs8 jIClN5ncRg52lKWVTcGWqnOtUeIBsSavOFZWVn5j0zXx6/v0gheJ7wG4zfVTBOriAPCM I6HJvPaGITnMqVUgWKHmVGHxQC6FgZgVGOCgY= X-Google-DKIM-Signature: v=1; a=rsa-sha256; c=relaxed/relaxed; d=1e100.net; s=20230601; t=1763013988; x=1763618788; h=references:in-reply-to:cc:to:from:subject:message-id:date:x-gm-gg :x-gm-message-state:from:to:cc:subject:date:message-id:reply-to; bh=IAWoDdMx/lFSWLoJ8G32SdxQqfAZSSJdhbfHeSeVyoc=; b=D69DtFNwPXIw9fmdDrmZpx7DUybUyqclrBT+i01TKXbfsYIWlw60wJRt3fxIViljDH pwilpfvUGRoKZbDCW/ixUtstueVW05PkswHOP2x/UdPkN2jNdYwr9xyev+WpWuWvhopN uLT+mJnPrCVaFS0rbNNAPAk4FPFNO/s2LYZXHQHVmH7zsmYRx5Gy6WixoHxLWLzZfSpj ySTHIeJOJkW+f+U/ajyL8wJ0oQLIQvjVlvAxDLwO1eUVQncrB8Rx4bmZ3kx0DIXBnt+7 QIumbduCwEu2jfhB5brwOK+YlTmsPpnJCOHwsOCseKurywgpNzR5I90Nto/lR3WJeBip ntVQ== X-Gm-Message-State: AOJu0YwKRc3pybXL9nFRy9mRJWTiqsuNhXd2DRoLQ93tT539gS1tEpnw tIq0HaOo0JvL0LhBr2Ta6TnQoq91vL2NXF7zq5oga/sZ7jxsKUUPLni4xh4qNABbIfGX+OEsLzN S5i3n/ntBScWUxLUSE8bkU0d4dChemyHotzVg88KXtuvE X-Gm-Gg: ASbGncsw68KCIiEe3qgUNP15aATnImP8RSTLbJrY3+s3cofaFB4+//v+hJFfhJJFFyT fe7twcKZz9tKjBHQENML+E5FTh3kBpLn0qiB6XCs0OWrBrTJf3V05BOYGRnlVIZPXA2Thtnjnfn ObtWbbbPs4OOS4ugWNEjSkRVbD/w0Y894EI+bqVF67JSJiYyDBllpPosLXA8mcqVB1BFW+4l7ZE ckPWM0JapVXmiHKK5dWhDav2eyuCIx+tmgTD4Rx4RDZlQWA7U4srKxlr/8lUwLZR9bONP672hmu QHXkU7ZraWZtciFEhMsae53VJtrU+k3p+pH3wImuEOtT5d+KC0RymVBoldnvN+pju8rjB7bOU/w osBpF3pU5v/Zz0QPDKF5I202rUGB/87g= X-Google-Smtp-Source: AGHT+IG3qX3PbY4O5470QfX4P7nOcDz2fYduZl5CPDBsmcmQWXfmRs0lPkL//tpgeR6vbpxvaAzhH3oK5BwZ X-Received: by 2002:a05:6214:226c:b0:7a1:781d:8557 with SMTP id 6a1803df08f44-88271945e24mr74074426d6.24.1763013988225; Wed, 12 Nov 2025 22:06:28 -0800 (PST) Received: from postal.iol.unh.edu (postal.iol.unh.edu. [132.177.123.84]) by smtp-relay.gmail.com with ESMTPS id d75a77b69052e-4ede884695dsm789681cf.10.2025.11.12.22.06.28 (version=TLS1_2 cipher=ECDHE-ECDSA-AES128-GCM-SHA256 bits=128/128); Wed, 12 Nov 2025 22:06:28 -0800 (PST) X-Relaying-Domain: iol.unh.edu Date: Wed, 12 Nov 2025 22:06:28 -0800 (PST) Message-ID: <69157564.050a0220.4e7d2.4178SMTPIN_ADDED_MISSING@mx.google.com> Received: from [172.21.0.2] (unknown [172.18.0.240]) by postal.iol.unh.edu (Postfix) with ESMTP id EE8A56051830; Thu, 13 Nov 2025 01:06:26 -0500 (EST) Subject: |SUCCESS| pw158645 [PATCH] [v3] lib/ring: do not allow zero size rin From: dpdklab@iol.unh.edu To: Test Report Cc: dpdk-test-reports@iol.unh.edu In-Reply-To: <20251111062253.578121-1-iboukris@gmail.com> References: <20251111062253.578121-1-iboukris@gmail.com> Content-Type: text/plain X-BeenThere: test-report@dpdk.org X-Mailman-Version: 2.1.29 Precedence: list List-Id: automatic DPDK test reports List-Unsubscribe: , List-Archive: List-Post: List-Help: List-Subscribe: , Errors-To: test-report-bounces@dpdk.org Test-Label: iol-compile-amd64-testing Test-Status: SUCCESS http://dpdk.org/patch/158645 _Testing PASS_ Submitter: Isaac Boukris Date: Tuesday, November 11 2025 06:22:52 DPDK git baseline: Repo:dpdk Branch: master CommitID:8ae4f1d511226fd65a979e9f8a1e51835281a59b 158645 --> testing pass Upstream job id: Windows-Compile-DPDK-Native#32280 Test environment and result as below: +-------------------------------+--------------------+------------------+-------------------+-------------------------+ | Environment | dpdk_meson_compile | dpdk_compile_ovs | dpdk_msvc_compile | dpdk_llvm_clang_compile | +===============================+====================+==================+===================+=========================+ | Ubuntu 20.04 | PASS | SKIPPED | SKIPPED | SKIPPED | +-------------------------------+--------------------+------------------+-------------------+-------------------------+ | FreeBSD 14.2 | PASS | SKIPPED | SKIPPED | SKIPPED | +-------------------------------+--------------------+------------------+-------------------+-------------------------+ | Fedora Linux 42 | PASS | PASS | SKIPPED | SKIPPED | +-------------------------------+--------------------+------------------+-------------------+-------------------------+ | CentOS Stream 10 | PASS | SKIPPED | SKIPPED | SKIPPED | +-------------------------------+--------------------+------------------+-------------------+-------------------------+ | CentOS Stream 9 | PASS | SKIPPED | SKIPPED | SKIPPED | +-------------------------------+--------------------+------------------+-------------------+-------------------------+ | Debian GNU/Linux 12 | PASS | SKIPPED | SKIPPED | SKIPPED | +-------------------------------+--------------------+------------------+-------------------+-------------------------+ | openSUSE Leap 15.6 | PASS | SKIPPED | SKIPPED | SKIPPED | +-------------------------------+--------------------+------------------+-------------------+-------------------------+ | Ubuntu 22.04 | PASS | SKIPPED | SKIPPED | SKIPPED | +-------------------------------+--------------------+------------------+-------------------+-------------------------+ | Red Hat Enterprise Linux 8.10 | PASS | SKIPPED | SKIPPED | SKIPPED | +-------------------------------+--------------------+------------------+-------------------+-------------------------+ | Red Hat Enterprise Linux 9.5 | PASS | SKIPPED | SKIPPED | SKIPPED | +-------------------------------+--------------------+------------------+-------------------+-------------------------+ | Ubuntu 24.04 | PASS | PASS | SKIPPED | SKIPPED | +-------------------------------+--------------------+------------------+-------------------+-------------------------+ | Alpine Linux 3.22.0 | PASS | SKIPPED | SKIPPED | SKIPPED | +-------------------------------+--------------------+------------------+-------------------+-------------------------+ | Windows Server 2022 | SKIPPED | SKIPPED | PASS | PASS | +-------------------------------+--------------------+------------------+-------------------+-------------------------+ Ubuntu 20.04 Kernel: 4.19 Compiler: gcc gcc (Ubuntu 9.4.0-1ubuntu1~20.04.2) 9.4.0 FreeBSD 14.2 Kernel: 14.2-RELEASE Compiler: clang 18.1.6 Fedora Linux 42 Kernel: 5.15 Compiler: gcc gcc (GCC) 15.2.1 20250808 (Red Hat 15.2.1-1) CentOS Stream 10 Kernel: 5.15 Compiler: gcc gcc (GCC) 14.2.1 20250110 (Red Hat 14.2.1-8) CentOS Stream 9 Kernel: 5.15 Compiler: gcc gcc (GCC) 11.5.0 20240719 (Red Hat 11.5.0-11) Debian GNU/Linux 12 Kernel: 5.15 Compiler: gcc gcc (Debian 12.2.0-14+deb12u1) 12.2.0 openSUSE Leap 15.6 Kernel: 5.15 Compiler: gcc gcc (SUSE Linux) 7.5.0 Ubuntu 22.04 Kernel: 5.15 Compiler: gcc gcc (Ubuntu 11.4.0-1ubuntu1~22.04) 11.4.0 Red Hat Enterprise Linux 8.10 Kernel: 5.15 Compiler: gcc gcc (GCC) 8.5.0 20210514 (Red Hat 8.5.0-22) Red Hat Enterprise Linux 9.5 Kernel: 5.15 Compiler: gcc gcc (GCC) 11.5.0 20240719 (Red Hat 11.5.0-2) Ubuntu 24.04 Kernel: 5.15 Compiler: gcc gcc (Ubuntu 13.3.0-6ubuntu2~24.04) 13.3.0 Alpine Linux 3.22.0 Kernel: 5.15 Compiler: gcc gcc (Alpine 14.2.0) 14.2.0 Windows Server 2022 Kernel: 10.0.20348.2031 Compiler: clang 15.0.7, gcc 14.1.0 (MinGW), and MSVC VS 19.39.33521 To view detailed results, visit: https://lab.dpdk.org/results/dashboard/patchsets/34529/ UNH-IOL DPDK Community Lab To manage your email subscriptions, visit: https://lab.dpdk.org/results/dashboard/preferences/subscriptions/